BEGIN:VCALENDAR
VERSION:2.0
PRODID:-//Ajuntament de Prats de Lluçanès - ECPv6.14.2//NONSGML v1.0//EN
CALSCALE:GREGORIAN
METHOD:PUBLISH
X-ORIGINAL-URL:https://historic.pratsdellucanes.cat
X-WR-CALDESC:Esdeveniments per Ajuntament de Prats de Lluçanès
REFRESH-INTERVAL;VALUE=DURATION:PT1H
X-Robots-Tag:noindex
X-PUBLISHED-TTL:PT1H
BEGIN:VTIMEZONE
TZID:Europe/Helsinki
BEGIN:DAYLIGHT
TZOFFSETFROM:+0200
TZOFFSETTO:+0300
TZNAME:EEST
DTSTART:20230326T010000
END:DAYLIGHT
BEGIN:STANDARD
TZOFFSETFROM:+0300
TZOFFSETTO:+0200
TZNAME:EET
DTSTART:20231029T010000
END:STANDARD
END:VTIMEZONE
BEGIN:VEVENT
DTSTART;VALUE=DATE:20230328
DTEND;VALUE=DATE:20230329
DTSTAMP:20260422T013220
CREATED:20240214T162630Z
LAST-MODIFIED:20240214T162630Z
UID:51716-1679961600-1680047999@historic.pratsdellucanes.cat
SUMMARY:Reunió Diputació Vic
DESCRIPTION:
URL:https://historic.pratsdellucanes.cat/esdeveniment/reunio-diputacio-vic-2/
CATEGORIES:Agenda de l'alcalde
END:VEVENT
BEGIN:VEVENT
DTSTART;VALUE=DATE:20230328
DTEND;VALUE=DATE:20230329
DTSTAMP:20260422T013220
CREATED:20240214T162651Z
LAST-MODIFIED:20240214T162651Z
UID:51718-1679961600-1680047999@historic.pratsdellucanes.cat
SUMMARY:Deixalleria
DESCRIPTION:
URL:https://historic.pratsdellucanes.cat/esdeveniment/deixalleria/
CATEGORIES:Agenda de l'alcalde
END:VEVENT
BEGIN:VEVENT
DTSTART;VALUE=DATE:20230328
DTEND;VALUE=DATE:20230329
DTSTAMP:20260422T013220
CREATED:20240214T162711Z
LAST-MODIFIED:20240214T162711Z
UID:51720-1679961600-1680047999@historic.pratsdellucanes.cat
SUMMARY:Pla igualtat
DESCRIPTION:
URL:https://historic.pratsdellucanes.cat/esdeveniment/pla-igualtat/
CATEGORIES:Agenda de l'alcalde
END:VEVENT
BEGIN:VEVENT
DTSTART;VALUE=DATE:20230328
DTEND;VALUE=DATE:20230329
DTSTAMP:20260422T013220
CREATED:20240214T162736Z
LAST-MODIFIED:20240214T162736Z
UID:51722-1679961600-1680047999@historic.pratsdellucanes.cat
SUMMARY:Reunió concessionari zona esportiva
DESCRIPTION:
URL:https://historic.pratsdellucanes.cat/esdeveniment/reunio-concessionari-zona-esportiva-7/
CATEGORIES:Agenda de l'alcalde
END:VEVENT
BEGIN:VEVENT
DTSTART;VALUE=DATE:20230328
DTEND;VALUE=DATE:20230329
DTSTAMP:20260422T013220
CREATED:20240214T162808Z
LAST-MODIFIED:20240214T162808Z
UID:51724-1679961600-1680047999@historic.pratsdellucanes.cat
SUMMARY:Reunió equip de govern
DESCRIPTION:
URL:https://historic.pratsdellucanes.cat/esdeveniment/reunio-equip-de-govern-409/
CATEGORIES:Agenda de l'alcalde
END:VEVENT
END:VCALENDAR