BEGIN:VCALENDAR
VERSION:2.0
PRODID:-//Ajuntament de Prats de Lluçanès - ECPv6.14.2//NONSGML v1.0//EN
CALSCALE:GREGORIAN
METHOD:PUBLISH
X-WR-CALNAME:Ajuntament de Prats de Lluçanès
X-ORIGINAL-URL:https://historic.pratsdellucanes.cat
X-WR-CALDESC:Esdeveniments per Ajuntament de Prats de Lluçanès
REFRESH-INTERVAL;VALUE=DURATION:PT1H
X-Robots-Tag:noindex
X-PUBLISHED-TTL:PT1H
BEGIN:VTIMEZONE
TZID:Europe/Helsinki
BEGIN:DAYLIGHT
TZOFFSETFROM:+0200
TZOFFSETTO:+0300
TZNAME:EEST
DTSTART:20230326T010000
END:DAYLIGHT
BEGIN:STANDARD
TZOFFSETFROM:+0300
TZOFFSETTO:+0200
TZNAME:EET
DTSTART:20231029T010000
END:STANDARD
END:VTIMEZONE
BEGIN:VEVENT
DTSTART;VALUE=DATE:20230502
DTEND;VALUE=DATE:20230503
DTSTAMP:20260421T214819
CREATED:20240221T113452Z
LAST-MODIFIED:20240221T113452Z
UID:51828-1682985600-1683071999@historic.pratsdellucanes.cat
SUMMARY:Focos pista de tenis
DESCRIPTION:
URL:https://historic.pratsdellucanes.cat/esdeveniment/focos-pista-de-tenis/
CATEGORIES:Agenda de l'alcalde
END:VEVENT
BEGIN:VEVENT
DTSTART;VALUE=DATE:20230502
DTEND;VALUE=DATE:20230503
DTSTAMP:20260421T214819
CREATED:20240221T113546Z
LAST-MODIFIED:20240221T113546Z
UID:51830-1682985600-1683071999@historic.pratsdellucanes.cat
SUMMARY:Visita piscina
DESCRIPTION:
URL:https://historic.pratsdellucanes.cat/esdeveniment/visita-piscina-2/
CATEGORIES:Agenda de l'alcalde
END:VEVENT
BEGIN:VEVENT
DTSTART;VALUE=DATE:20230502
DTEND;VALUE=DATE:20230503
DTSTAMP:20260421T214819
CREATED:20240221T113653Z
LAST-MODIFIED:20240221T113712Z
UID:51832-1682985600-1683071999@historic.pratsdellucanes.cat
SUMMARY:Visita veí poble
DESCRIPTION:
URL:https://historic.pratsdellucanes.cat/esdeveniment/visita-vei-poble/
CATEGORIES:Agenda de l'alcalde
END:VEVENT
BEGIN:VEVENT
DTSTART;VALUE=DATE:20230502
DTEND;VALUE=DATE:20230503
DTSTAMP:20260421T214819
CREATED:20240221T115115Z
LAST-MODIFIED:20240221T115115Z
UID:51834-1682985600-1683071999@historic.pratsdellucanes.cat
SUMMARY:Ple municipal
DESCRIPTION:
URL:https://historic.pratsdellucanes.cat/esdeveniment/ple-municipal-24/
CATEGORIES:Agenda de l'alcalde
END:VEVENT
BEGIN:VEVENT
DTSTART;VALUE=DATE:20230502
DTEND;VALUE=DATE:20230503
DTSTAMP:20260421T214819
CREATED:20240221T115159Z
LAST-MODIFIED:20240221T115159Z
UID:51836-1682985600-1683071999@historic.pratsdellucanes.cat
SUMMARY:Reunió equip de govern
DESCRIPTION:
URL:https://historic.pratsdellucanes.cat/esdeveniment/reunio-equip-de-govern-414/
CATEGORIES:Agenda de l'alcalde
END:VEVENT
END:VCALENDAR