BEGIN:VCALENDAR
VERSION:2.0
PRODID:-//Ajuntament de Prats de Lluçanès - ECPv6.14.2//NONSGML v1.0//EN
CALSCALE:GREGORIAN
METHOD:PUBLISH
X-WR-CALNAME:Ajuntament de Prats de Lluçanès
X-ORIGINAL-URL:https://historic.pratsdellucanes.cat
X-WR-CALDESC:Esdeveniments per Ajuntament de Prats de Lluçanès
REFRESH-INTERVAL;VALUE=DURATION:PT1H
X-Robots-Tag:noindex
X-PUBLISHED-TTL:PT1H
BEGIN:VTIMEZONE
TZID:Europe/Helsinki
BEGIN:DAYLIGHT
TZOFFSETFROM:+0200
TZOFFSETTO:+0300
TZNAME:EEST
DTSTART:20230326T010000
END:DAYLIGHT
BEGIN:STANDARD
TZOFFSETFROM:+0300
TZOFFSETTO:+0200
TZNAME:EET
DTSTART:20231029T010000
END:STANDARD
END:VTIMEZONE
BEGIN:VEVENT
DTSTART;VALUE=DATE:20230517
DTEND;VALUE=DATE:20230518
DTSTAMP:20260422T031114
CREATED:20240221T134927Z
LAST-MODIFIED:20240221T134927Z
UID:51886-1684281600-1684367999@historic.pratsdellucanes.cat
SUMMARY:Pla de poda
DESCRIPTION:
URL:https://historic.pratsdellucanes.cat/esdeveniment/pla-de-poda/
CATEGORIES:Agenda de l'alcalde
END:VEVENT
BEGIN:VEVENT
DTSTART;VALUE=DATE:20230517
DTEND;VALUE=DATE:20230518
DTSTAMP:20260422T031114
CREATED:20240221T135005Z
LAST-MODIFIED:20240221T135005Z
UID:51888-1684281600-1684367999@historic.pratsdellucanes.cat
SUMMARY:Ple municipal
DESCRIPTION:
URL:https://historic.pratsdellucanes.cat/esdeveniment/ple-municipal-25/
CATEGORIES:Agenda de l'alcalde
END:VEVENT
BEGIN:VEVENT
DTSTART;VALUE=DATE:20230517
DTEND;VALUE=DATE:20230518
DTSTAMP:20260422T031114
CREATED:20240221T135040Z
LAST-MODIFIED:20240221T135040Z
UID:51890-1684281600-1684367999@historic.pratsdellucanes.cat
SUMMARY:Reunió Serviobres
DESCRIPTION:
URL:https://historic.pratsdellucanes.cat/esdeveniment/reunio-serviobres-2/
CATEGORIES:Agenda de l'alcalde
END:VEVENT
END:VCALENDAR