BEGIN:VCALENDAR
VERSION:2.0
PRODID:-//Ajuntament de Prats de Lluçanès - ECPv6.14.2//NONSGML v1.0//EN
CALSCALE:GREGORIAN
METHOD:PUBLISH
X-ORIGINAL-URL:https://historic.pratsdellucanes.cat
X-WR-CALDESC:Esdeveniments per Ajuntament de Prats de Lluçanès
REFRESH-INTERVAL;VALUE=DURATION:PT1H
X-Robots-Tag:noindex
X-PUBLISHED-TTL:PT1H
BEGIN:VTIMEZONE
TZID:Europe/Helsinki
BEGIN:DAYLIGHT
TZOFFSETFROM:+0200
TZOFFSETTO:+0300
TZNAME:EEST
DTSTART:20230326T010000
END:DAYLIGHT
BEGIN:STANDARD
TZOFFSETFROM:+0300
TZOFFSETTO:+0200
TZNAME:EET
DTSTART:20231029T010000
END:STANDARD
END:VTIMEZONE
BEGIN:VEVENT
DTSTART;VALUE=DATE:20230525
DTEND;VALUE=DATE:20230526
DTSTAMP:20260422T013222
CREATED:20240221T135644Z
LAST-MODIFIED:20240221T135644Z
UID:51904-1684972800-1685059199@historic.pratsdellucanes.cat
SUMMARY:Reunió escoles natació
DESCRIPTION:
URL:https://historic.pratsdellucanes.cat/esdeveniment/reunio-escoles-natacio/
CATEGORIES:Agenda de l'alcalde
END:VEVENT
BEGIN:VEVENT
DTSTART;VALUE=DATE:20230525
DTEND;VALUE=DATE:20230526
DTSTAMP:20260422T013222
CREATED:20240221T135716Z
LAST-MODIFIED:20240221T135716Z
UID:51906-1684972800-1685059199@historic.pratsdellucanes.cat
SUMMARY:Ple municipal
DESCRIPTION:
URL:https://historic.pratsdellucanes.cat/esdeveniment/ple-municipal-26/
CATEGORIES:Agenda de l'alcalde
END:VEVENT
BEGIN:VEVENT
DTSTART;VALUE=DATE:20230525
DTEND;VALUE=DATE:20230526
DTSTAMP:20260422T013222
CREATED:20240221T135759Z
LAST-MODIFIED:20240221T135759Z
UID:51908-1684972800-1685059199@historic.pratsdellucanes.cat
SUMMARY:Taules de debat La Rella
DESCRIPTION:
URL:https://historic.pratsdellucanes.cat/esdeveniment/taules-de-debat-la-rella/
CATEGORIES:Agenda de l'alcalde
END:VEVENT
END:VCALENDAR