BEGIN:VCALENDAR
VERSION:2.0
PRODID:-//Ajuntament de Prats de Lluçanès - ECPv6.14.2//NONSGML v1.0//EN
CALSCALE:GREGORIAN
METHOD:PUBLISH
X-ORIGINAL-URL:https://historic.pratsdellucanes.cat
X-WR-CALDESC:Esdeveniments per Ajuntament de Prats de Lluçanès
REFRESH-INTERVAL;VALUE=DURATION:PT1H
X-Robots-Tag:noindex
X-PUBLISHED-TTL:PT1H
BEGIN:VTIMEZONE
TZID:Europe/Madrid
BEGIN:DAYLIGHT
TZOFFSETFROM:+0100
TZOFFSETTO:+0200
TZNAME:CEST
DTSTART:20200329T010000
END:DAYLIGHT
BEGIN:STANDARD
TZOFFSETFROM:+0200
TZOFFSETTO:+0100
TZNAME:CET
DTSTART:20201025T010000
END:STANDARD
END:VTIMEZONE
BEGIN:VEVENT
DTSTART;TZID=Europe/Madrid:20200804T040000
DTEND;TZID=Europe/Madrid:20200804T060000
DTSTAMP:20260421T114956
CREATED:20180909T153708Z
LAST-MODIFIED:20180909T153708Z
UID:19087-1596513600-1596520800@historic.pratsdellucanes.cat
SUMMARY:Multiproducte
DESCRIPTION:
URL:https://historic.pratsdellucanes.cat/esdeveniment/multiproducte-317/
CATEGORIES:Recollida Porta a porta
END:VEVENT
BEGIN:VEVENT
DTSTART;TZID=Europe/Madrid:20200804T040000
DTEND;TZID=Europe/Madrid:20200804T060000
DTSTAMP:20260421T114956
CREATED:20180909T150731Z
LAST-MODIFIED:20180909T150731Z
UID:19085-1596513600-1596520800@historic.pratsdellucanes.cat
SUMMARY:Multiproducte
DESCRIPTION:
URL:https://historic.pratsdellucanes.cat/esdeveniment/multiproducte-316/
CATEGORIES:Recollida Porta a porta
END:VEVENT
BEGIN:VEVENT
DTSTART;TZID=Europe/Madrid:20200804T040000
DTEND;TZID=Europe/Madrid:20200804T060000
DTSTAMP:20260421T114956
CREATED:20180909T143712Z
LAST-MODIFIED:20180909T143712Z
UID:19080-1596513600-1596520800@historic.pratsdellucanes.cat
SUMMARY:Multiproducte
DESCRIPTION:
URL:https://historic.pratsdellucanes.cat/esdeveniment/multiproducte-315/
CATEGORIES:Recollida Porta a porta
END:VEVENT
BEGIN:VEVENT
DTSTART;TZID=Europe/Madrid:20200804T040000
DTEND;TZID=Europe/Madrid:20200804T060000
DTSTAMP:20260421T114956
CREATED:20180909T140711Z
LAST-MODIFIED:20180909T140711Z
UID:19078-1596513600-1596520800@historic.pratsdellucanes.cat
SUMMARY:Multiproducte
DESCRIPTION:
URL:https://historic.pratsdellucanes.cat/esdeveniment/multiproducte-314/
CATEGORIES:Recollida Porta a porta
END:VEVENT
BEGIN:VEVENT
DTSTART;TZID=Europe/Madrid:20200804T040000
DTEND;TZID=Europe/Madrid:20200804T060000
DTSTAMP:20260421T114956
CREATED:20180909T133843Z
LAST-MODIFIED:20180909T133843Z
UID:19076-1596513600-1596520800@historic.pratsdellucanes.cat
SUMMARY:Multiproducte
DESCRIPTION:
URL:https://historic.pratsdellucanes.cat/esdeveniment/multiproducte-313/
CATEGORIES:Recollida Porta a porta
END:VEVENT
BEGIN:VEVENT
DTSTART;TZID=Europe/Madrid:20200804T040000
DTEND;TZID=Europe/Madrid:20200804T060000
DTSTAMP:20260421T114956
CREATED:20180909T130725Z
LAST-MODIFIED:20180909T130725Z
UID:19074-1596513600-1596520800@historic.pratsdellucanes.cat
SUMMARY:Multiproducte
DESCRIPTION:
URL:https://historic.pratsdellucanes.cat/esdeveniment/multiproducte-312/
CATEGORIES:Recollida Porta a porta
END:VEVENT
BEGIN:VEVENT
DTSTART;TZID=Europe/Madrid:20200804T040000
DTEND;TZID=Europe/Madrid:20200804T060000
DTSTAMP:20260421T114956
CREATED:20180909T122159Z
LAST-MODIFIED:20180909T122159Z
UID:19072-1596513600-1596520800@historic.pratsdellucanes.cat
SUMMARY:Multiproducte
DESCRIPTION:
URL:https://historic.pratsdellucanes.cat/esdeveniment/multiproducte-311/
CATEGORIES:Recollida Porta a porta
END:VEVENT
BEGIN:VEVENT
DTSTART;TZID=Europe/Madrid:20200804T040000
DTEND;TZID=Europe/Madrid:20200804T060000
DTSTAMP:20260421T114956
CREATED:20180909T115309Z
LAST-MODIFIED:20180909T115309Z
UID:19070-1596513600-1596520800@historic.pratsdellucanes.cat
SUMMARY:Multiproducte
DESCRIPTION:
URL:https://historic.pratsdellucanes.cat/esdeveniment/multiproducte-310/
CATEGORIES:Recollida Porta a porta
END:VEVENT
BEGIN:VEVENT
DTSTART;TZID=Europe/Madrid:20200804T040000
DTEND;TZID=Europe/Madrid:20200804T060000
DTSTAMP:20260421T114956
CREATED:20180909T112219Z
LAST-MODIFIED:20180909T112219Z
UID:19068-1596513600-1596520800@historic.pratsdellucanes.cat
SUMMARY:Multiproducte
DESCRIPTION:
URL:https://historic.pratsdellucanes.cat/esdeveniment/multiproducte-309/
CATEGORIES:Recollida Porta a porta
END:VEVENT
BEGIN:VEVENT
DTSTART;TZID=Europe/Madrid:20200804T040000
DTEND;TZID=Europe/Madrid:20200804T060000
DTSTAMP:20260421T114956
CREATED:20180909T105228Z
LAST-MODIFIED:20180909T105228Z
UID:19066-1596513600-1596520800@historic.pratsdellucanes.cat
SUMMARY:Multiproducte
DESCRIPTION:
URL:https://historic.pratsdellucanes.cat/esdeveniment/multiproducte-308/
CATEGORIES:Recollida Porta a porta
END:VEVENT
BEGIN:VEVENT
DTSTART;TZID=Europe/Madrid:20200804T040000
DTEND;TZID=Europe/Madrid:20200804T060000
DTSTAMP:20260421T114956
CREATED:20180909T102238Z
LAST-MODIFIED:20180909T102238Z
UID:19064-1596513600-1596520800@historic.pratsdellucanes.cat
SUMMARY:Multiproducte
DESCRIPTION:
URL:https://historic.pratsdellucanes.cat/esdeveniment/multiproducte-307/
CATEGORIES:Recollida Porta a porta
END:VEVENT
BEGIN:VEVENT
DTSTART;TZID=Europe/Madrid:20200804T040000
DTEND;TZID=Europe/Madrid:20200804T060000
DTSTAMP:20260421T114956
CREATED:20180909T095203Z
LAST-MODIFIED:20180909T095203Z
UID:19062-1596513600-1596520800@historic.pratsdellucanes.cat
SUMMARY:Multiproducte
DESCRIPTION:
URL:https://historic.pratsdellucanes.cat/esdeveniment/multiproducte-306/
CATEGORIES:Recollida Porta a porta
END:VEVENT
BEGIN:VEVENT
DTSTART;TZID=Europe/Madrid:20200804T040000
DTEND;TZID=Europe/Madrid:20200804T060000
DTSTAMP:20260421T114956
CREATED:20180909T092226Z
LAST-MODIFIED:20180909T092226Z
UID:19060-1596513600-1596520800@historic.pratsdellucanes.cat
SUMMARY:Multiproducte
DESCRIPTION:
URL:https://historic.pratsdellucanes.cat/esdeveniment/multiproducte-305/
CATEGORIES:Recollida Porta a porta
END:VEVENT
BEGIN:VEVENT
DTSTART;TZID=Europe/Madrid:20200804T040000
DTEND;TZID=Europe/Madrid:20200804T060000
DTSTAMP:20260421T114956
CREATED:20180909T085238Z
LAST-MODIFIED:20180909T085238Z
UID:19058-1596513600-1596520800@historic.pratsdellucanes.cat
SUMMARY:Multiproducte
DESCRIPTION:
URL:https://historic.pratsdellucanes.cat/esdeveniment/multiproducte-304/
CATEGORIES:Recollida Porta a porta
END:VEVENT
BEGIN:VEVENT
DTSTART;TZID=Europe/Madrid:20200804T040000
DTEND;TZID=Europe/Madrid:20200804T060000
DTSTAMP:20260421T114956
CREATED:20180909T080708Z
LAST-MODIFIED:20180909T080708Z
UID:19056-1596513600-1596520800@historic.pratsdellucanes.cat
SUMMARY:Multiproducte
DESCRIPTION:
URL:https://historic.pratsdellucanes.cat/esdeveniment/multiproducte-303/
CATEGORIES:Recollida Porta a porta
END:VEVENT
BEGIN:VEVENT
DTSTART;TZID=Europe/Madrid:20200804T040000
DTEND;TZID=Europe/Madrid:20200804T060000
DTSTAMP:20260421T114956
CREATED:20180909T072208Z
LAST-MODIFIED:20180909T072208Z
UID:19054-1596513600-1596520800@historic.pratsdellucanes.cat
SUMMARY:Multiproducte
DESCRIPTION:
URL:https://historic.pratsdellucanes.cat/esdeveniment/multiproducte-302/
CATEGORIES:Recollida Porta a porta
END:VEVENT
BEGIN:VEVENT
DTSTART;TZID=Europe/Madrid:20200804T040000
DTEND;TZID=Europe/Madrid:20200804T060000
DTSTAMP:20260421T114956
CREATED:20180909T063915Z
LAST-MODIFIED:20180909T063915Z
UID:19052-1596513600-1596520800@historic.pratsdellucanes.cat
SUMMARY:Multiproducte
DESCRIPTION:
URL:https://historic.pratsdellucanes.cat/esdeveniment/multiproducte-301/
CATEGORIES:Recollida Porta a porta
END:VEVENT
BEGIN:VEVENT
DTSTART;TZID=Europe/Madrid:20200804T040000
DTEND;TZID=Europe/Madrid:20200804T060000
DTSTAMP:20260421T114956
CREATED:20180909T060648Z
LAST-MODIFIED:20180909T060648Z
UID:19050-1596513600-1596520800@historic.pratsdellucanes.cat
SUMMARY:Multiproducte
DESCRIPTION:
URL:https://historic.pratsdellucanes.cat/esdeveniment/multiproducte-300/
CATEGORIES:Recollida Porta a porta
END:VEVENT
BEGIN:VEVENT
DTSTART;TZID=Europe/Madrid:20200804T040000
DTEND;TZID=Europe/Madrid:20200804T060000
DTSTAMP:20260421T114956
CREATED:20180909T053711Z
LAST-MODIFIED:20180909T053711Z
UID:19047-1596513600-1596520800@historic.pratsdellucanes.cat
SUMMARY:Multiproducte
DESCRIPTION:
URL:https://historic.pratsdellucanes.cat/esdeveniment/multiproducte-299/
CATEGORIES:Recollida Porta a porta
END:VEVENT
BEGIN:VEVENT
DTSTART;TZID=Europe/Madrid:20200804T040000
DTEND;TZID=Europe/Madrid:20200804T060000
DTSTAMP:20260421T114956
CREATED:20180909T050708Z
LAST-MODIFIED:20180909T050708Z
UID:19045-1596513600-1596520800@historic.pratsdellucanes.cat
SUMMARY:Multiproducte
DESCRIPTION:
URL:https://historic.pratsdellucanes.cat/esdeveniment/multiproducte-298/
CATEGORIES:Recollida Porta a porta
END:VEVENT
BEGIN:VEVENT
DTSTART;TZID=Europe/Madrid:20200804T040000
DTEND;TZID=Europe/Madrid:20200804T060000
DTSTAMP:20260421T114956
CREATED:20180909T042154Z
LAST-MODIFIED:20180909T042154Z
UID:19043-1596513600-1596520800@historic.pratsdellucanes.cat
SUMMARY:Multiproducte
DESCRIPTION:
URL:https://historic.pratsdellucanes.cat/esdeveniment/multiproducte-297/
CATEGORIES:Recollida Porta a porta
END:VEVENT
BEGIN:VEVENT
DTSTART;TZID=Europe/Madrid:20200804T040000
DTEND;TZID=Europe/Madrid:20200804T060000
DTSTAMP:20260421T114956
CREATED:20180909T033654Z
LAST-MODIFIED:20180909T033654Z
UID:19041-1596513600-1596520800@historic.pratsdellucanes.cat
SUMMARY:Multiproducte
DESCRIPTION:
URL:https://historic.pratsdellucanes.cat/esdeveniment/multiproducte-296/
CATEGORIES:Recollida Porta a porta
END:VEVENT
BEGIN:VEVENT
DTSTART;TZID=Europe/Madrid:20200804T040000
DTEND;TZID=Europe/Madrid:20200804T060000
DTSTAMP:20260421T114956
CREATED:20180909T030708Z
LAST-MODIFIED:20180909T030708Z
UID:19038-1596513600-1596520800@historic.pratsdellucanes.cat
SUMMARY:Multiproducte
DESCRIPTION:
URL:https://historic.pratsdellucanes.cat/esdeveniment/multiproducte-295/
CATEGORIES:Recollida Porta a porta
END:VEVENT
BEGIN:VEVENT
DTSTART;TZID=Europe/Madrid:20200804T040000
DTEND;TZID=Europe/Madrid:20200804T060000
DTSTAMP:20260421T114956
CREATED:20180909T023757Z
LAST-MODIFIED:20180909T023757Z
UID:19036-1596513600-1596520800@historic.pratsdellucanes.cat
SUMMARY:Multiproducte
DESCRIPTION:
URL:https://historic.pratsdellucanes.cat/esdeveniment/multiproducte-294/
CATEGORIES:Recollida Porta a porta
END:VEVENT
BEGIN:VEVENT
DTSTART;TZID=Europe/Madrid:20200804T040000
DTEND;TZID=Europe/Madrid:20200804T060000
DTSTAMP:20260421T114956
CREATED:20180909T020808Z
LAST-MODIFIED:20180909T020808Z
UID:19034-1596513600-1596520800@historic.pratsdellucanes.cat
SUMMARY:Multiproducte
DESCRIPTION:
URL:https://historic.pratsdellucanes.cat/esdeveniment/multiproducte-293/
CATEGORIES:Recollida Porta a porta
END:VEVENT
BEGIN:VEVENT
DTSTART;TZID=Europe/Madrid:20200804T040000
DTEND;TZID=Europe/Madrid:20200804T060000
DTSTAMP:20260421T114956
CREATED:20180909T003957Z
LAST-MODIFIED:20180909T003957Z
UID:19027-1596513600-1596520800@historic.pratsdellucanes.cat
SUMMARY:Multiproducte
DESCRIPTION:
URL:https://historic.pratsdellucanes.cat/esdeveniment/multiproducte-291/
CATEGORIES:Recollida Porta a porta
END:VEVENT
BEGIN:VEVENT
DTSTART;TZID=Europe/Madrid:20200804T040000
DTEND;TZID=Europe/Madrid:20200804T060000
DTSTAMP:20260421T114956
CREATED:20180909T000727Z
LAST-MODIFIED:20180909T000727Z
UID:19025-1596513600-1596520800@historic.pratsdellucanes.cat
SUMMARY:Multiproducte
DESCRIPTION:
URL:https://historic.pratsdellucanes.cat/esdeveniment/multiproducte-290/
CATEGORIES:Recollida Porta a porta
END:VEVENT
BEGIN:VEVENT
DTSTART;TZID=Europe/Madrid:20200804T040000
DTEND;TZID=Europe/Madrid:20200804T060000
DTSTAMP:20260421T114956
CREATED:20180804T022658Z
LAST-MODIFIED:20190503T094856Z
UID:17177-1596513600-1596520800@historic.pratsdellucanes.cat
SUMMARY:Multiproducte
DESCRIPTION:
URL:https://historic.pratsdellucanes.cat/esdeveniment/multiproducte-280/
CATEGORIES:Recollida Porta a porta
END:VEVENT
BEGIN:VEVENT
DTSTART;TZID=Europe/Madrid:20200803T140000
DTEND;TZID=Europe/Madrid:20200803T150000
DTSTAMP:20260421T114956
CREATED:20191024T100023Z
LAST-MODIFIED:20191204T150850Z
UID:35729-1596463200-1596466800@historic.pratsdellucanes.cat
SUMMARY:Vane Gómez: Cal Bach
DESCRIPTION:
URL:https://historic.pratsdellucanes.cat/esdeveniment/vane-gomez-cal-bach-905/
CATEGORIES:Agenda de l'alcalde
END:VEVENT
BEGIN:VEVENT
DTSTART;TZID=Europe/Madrid:20200803T140000
DTEND;TZID=Europe/Madrid:20200803T150000
DTSTAMP:20260421T114956
CREATED:20190906T030831Z
LAST-MODIFIED:20191023T095238Z
UID:34640-1596463200-1596466800@historic.pratsdellucanes.cat
SUMMARY:Vane Gómez: Cal Bach
DESCRIPTION:
URL:https://historic.pratsdellucanes.cat/esdeveniment/vane-gomez-cal-bach-683/
CATEGORIES:Agenda de l'alcalde
END:VEVENT
END:VCALENDAR