BEGIN:VCALENDAR
VERSION:2.0
PRODID:-//Ajuntament de Prats de Lluçanès - ECPv6.14.2//NONSGML v1.0//EN
CALSCALE:GREGORIAN
METHOD:PUBLISH
X-ORIGINAL-URL:https://historic.pratsdellucanes.cat
X-WR-CALDESC:Esdeveniments per Ajuntament de Prats de Lluçanès
REFRESH-INTERVAL;VALUE=DURATION:PT1H
X-Robots-Tag:noindex
X-PUBLISHED-TTL:PT1H
BEGIN:VTIMEZONE
TZID:Europe/Madrid
BEGIN:DAYLIGHT
TZOFFSETFROM:+0100
TZOFFSETTO:+0200
TZNAME:CEST
DTSTART:20200329T010000
END:DAYLIGHT
BEGIN:STANDARD
TZOFFSETFROM:+0200
TZOFFSETTO:+0100
TZNAME:CET
DTSTART:20201025T010000
END:STANDARD
END:VTIMEZONE
BEGIN:VTIMEZONE
TZID:Europe/Helsinki
BEGIN:DAYLIGHT
TZOFFSETFROM:+0200
TZOFFSETTO:+0300
TZNAME:EEST
DTSTART:20200329T010000
END:DAYLIGHT
BEGIN:STANDARD
TZOFFSETFROM:+0300
TZOFFSETTO:+0200
TZNAME:EET
DTSTART:20201025T010000
END:STANDARD
END:VTIMEZONE
BEGIN:VEVENT
DTSTART;TZID=Europe/Madrid:20200608T140000
DTEND;TZID=Europe/Madrid:20200608T150000
DTSTAMP:20260421T225724
CREATED:20191024T095910Z
LAST-MODIFIED:20191204T150808Z
UID:35705-1591624800-1591628400@historic.pratsdellucanes.cat
SUMMARY:Vane Gómez: Cal Bach
DESCRIPTION:
URL:https://historic.pratsdellucanes.cat/esdeveniment/vane-gomez-cal-bach-881/
CATEGORIES:Agenda de l'alcalde
END:VEVENT
BEGIN:VEVENT
DTSTART;TZID=Europe/Madrid:20200608T140000
DTEND;TZID=Europe/Madrid:20200608T150000
DTSTAMP:20260421T225724
CREATED:20190906T030757Z
LAST-MODIFIED:20191023T095232Z
UID:34608-1591624800-1591628400@historic.pratsdellucanes.cat
SUMMARY:Vane Gómez: Cal Bach
DESCRIPTION:
URL:https://historic.pratsdellucanes.cat/esdeveniment/vane-gomez-cal-bach-651/
CATEGORIES:Agenda de l'alcalde
END:VEVENT
BEGIN:VEVENT
DTSTART;TZID=Europe/Madrid:20200608T134500
DTEND;TZID=Europe/Madrid:20200608T144500
DTSTAMP:20260421T225724
CREATED:20190809T215623Z
LAST-MODIFIED:20190905T025329Z
UID:33565-1591623900-1591627500@historic.pratsdellucanes.cat
SUMMARY:Vane Gómez: Cal Bach
DESCRIPTION:
URL:https://historic.pratsdellucanes.cat/esdeveniment/vane-gomez-cal-bach-326/
CATEGORIES:Agenda de l'alcalde
END:VEVENT
BEGIN:VEVENT
DTSTART;TZID=Europe/Madrid:20200608T080000
DTEND;TZID=Europe/Madrid:20200608T083000
DTSTAMP:20260421T225724
CREATED:20190809T215622Z
LAST-MODIFIED:20191204T150808Z
UID:33564-1591603200-1591605000@historic.pratsdellucanes.cat
SUMMARY:Vane Gómez: Cal Bach
DESCRIPTION:
URL:https://historic.pratsdellucanes.cat/esdeveniment/vane-gomez-cal-bach-325/
CATEGORIES:Agenda de l'alcalde
END:VEVENT
BEGIN:VEVENT
DTSTART;TZID=Europe/Madrid:20200608T040000
DTEND;TZID=Europe/Madrid:20200608T060000
DTSTAMP:20260421T225724
CREATED:20180608T002719Z
LAST-MODIFIED:20190503T094852Z
UID:13412-1591588800-1591596000@historic.pratsdellucanes.cat
SUMMARY:Orgànica
DESCRIPTION:
URL:https://historic.pratsdellucanes.cat/esdeveniment/organica-403/
CATEGORIES:Recollida Porta a porta
END:VEVENT
BEGIN:VEVENT
DTSTART;TZID=Europe/Madrid:20200607T080000
DTEND;TZID=Europe/Madrid:20200607T140000
DTSTAMP:20260421T225724
CREATED:20180607T020157Z
LAST-MODIFIED:20191204T153711Z
UID:13288-1591516800-1591538400@historic.pratsdellucanes.cat
SUMMARY:Mercat dominical i comerços oberts fins al migdia
DESCRIPTION:
URL:https://historic.pratsdellucanes.cat/esdeveniment/mercat-dominical-i-comercos-oberts-fins-al-migdia-125/
CATEGORIES:Agenda
END:VEVENT
BEGIN:VEVENT
DTSTART;TZID=Europe/Madrid:20200606T040000
DTEND;TZID=Europe/Madrid:20200606T060000
DTSTAMP:20260421T225724
CREATED:20180606T050750Z
LAST-MODIFIED:20190503T094852Z
UID:13107-1591416000-1591423200@historic.pratsdellucanes.cat
SUMMARY:Orgànica
DESCRIPTION:
URL:https://historic.pratsdellucanes.cat/esdeveniment/organica-402/
CATEGORIES:Recollida Porta a porta
END:VEVENT
BEGIN:VEVENT
DTSTART;TZID=Europe/Madrid:20200605T040000
DTEND;TZID=Europe/Madrid:20200605T060000
DTSTAMP:20260421T225724
CREATED:20180605T034541Z
LAST-MODIFIED:20190503T094852Z
UID:13082-1591329600-1591336800@historic.pratsdellucanes.cat
SUMMARY:Multiproducte
DESCRIPTION:
URL:https://historic.pratsdellucanes.cat/esdeveniment/multiproducte-263/
CATEGORIES:Recollida Porta a porta
END:VEVENT
BEGIN:VEVENT
DTSTART;TZID=Europe/Madrid:20200604T140000
DTEND;TZID=Europe/Madrid:20200604T150000
DTSTAMP:20260421T225724
CREATED:20191024T095909Z
LAST-MODIFIED:20191204T150807Z
UID:35704-1591279200-1591282800@historic.pratsdellucanes.cat
SUMMARY:Vane Gómez: Cal Bach
DESCRIPTION:
URL:https://historic.pratsdellucanes.cat/esdeveniment/vane-gomez-cal-bach-880/
CATEGORIES:Agenda de l'alcalde
END:VEVENT
BEGIN:VEVENT
DTSTART;TZID=Europe/Madrid:20200604T140000
DTEND;TZID=Europe/Madrid:20200604T150000
DTSTAMP:20260421T225724
CREATED:20190906T030757Z
LAST-MODIFIED:20191023T095232Z
UID:34607-1591279200-1591282800@historic.pratsdellucanes.cat
SUMMARY:Vane Gómez: Cal Bach
DESCRIPTION:
URL:https://historic.pratsdellucanes.cat/esdeveniment/vane-gomez-cal-bach-650/
CATEGORIES:Agenda de l'alcalde
END:VEVENT
BEGIN:VEVENT
DTSTART;TZID=Europe/Madrid:20200604T134500
DTEND;TZID=Europe/Madrid:20200604T144500
DTSTAMP:20260421T225724
CREATED:20190809T215622Z
LAST-MODIFIED:20190905T025329Z
UID:33563-1591278300-1591281900@historic.pratsdellucanes.cat
SUMMARY:Vane Gómez: Cal Bach
DESCRIPTION:
URL:https://historic.pratsdellucanes.cat/esdeveniment/vane-gomez-cal-bach-324/
CATEGORIES:Agenda de l'alcalde
END:VEVENT
BEGIN:VEVENT
DTSTART;TZID=Europe/Madrid:20200604T080000
DTEND;TZID=Europe/Madrid:20200604T083000
DTSTAMP:20260421T225724
CREATED:20190809T215622Z
LAST-MODIFIED:20191204T150807Z
UID:33562-1591257600-1591259400@historic.pratsdellucanes.cat
SUMMARY:Vane Gómez: Cal Bach
DESCRIPTION:
URL:https://historic.pratsdellucanes.cat/esdeveniment/vane-gomez-cal-bach-323/
CATEGORIES:Agenda de l'alcalde
END:VEVENT
BEGIN:VEVENT
DTSTART;TZID=Europe/Madrid:20200603T140000
DTEND;TZID=Europe/Madrid:20200603T150000
DTSTAMP:20260421T225724
CREATED:20191024T095908Z
LAST-MODIFIED:20191204T150807Z
UID:35703-1591192800-1591196400@historic.pratsdellucanes.cat
SUMMARY:Vane Gómez: Cal Bach
DESCRIPTION:
URL:https://historic.pratsdellucanes.cat/esdeveniment/vane-gomez-cal-bach-879/
CATEGORIES:Agenda de l'alcalde
END:VEVENT
BEGIN:VEVENT
DTSTART;TZID=Europe/Madrid:20200603T140000
DTEND;TZID=Europe/Madrid:20200603T150000
DTSTAMP:20260421T225724
CREATED:20190906T030756Z
LAST-MODIFIED:20191023T095231Z
UID:34606-1591192800-1591196400@historic.pratsdellucanes.cat
SUMMARY:Vane Gómez: Cal Bach
DESCRIPTION:
URL:https://historic.pratsdellucanes.cat/esdeveniment/vane-gomez-cal-bach-649/
CATEGORIES:Agenda de l'alcalde
END:VEVENT
BEGIN:VEVENT
DTSTART;TZID=Europe/Madrid:20200603T134500
DTEND;TZID=Europe/Madrid:20200603T144500
DTSTAMP:20260421T225724
CREATED:20190809T215621Z
LAST-MODIFIED:20190905T025328Z
UID:33561-1591191900-1591195500@historic.pratsdellucanes.cat
SUMMARY:Vane Gómez: Cal Bach
DESCRIPTION:
URL:https://historic.pratsdellucanes.cat/esdeveniment/vane-gomez-cal-bach-322/
CATEGORIES:Agenda de l'alcalde
END:VEVENT
BEGIN:VEVENT
DTSTART;TZID=Europe/Madrid:20200603T080000
DTEND;TZID=Europe/Madrid:20200603T083000
DTSTAMP:20260421T225724
CREATED:20190809T215621Z
LAST-MODIFIED:20191204T150806Z
UID:33560-1591171200-1591173000@historic.pratsdellucanes.cat
SUMMARY:Vane Gómez: Cal Bach
DESCRIPTION:
URL:https://historic.pratsdellucanes.cat/esdeveniment/vane-gomez-cal-bach-321/
CATEGORIES:Agenda de l'alcalde
END:VEVENT
BEGIN:VEVENT
DTSTART;TZID=Europe/Madrid:20200603T040000
DTEND;TZID=Europe/Madrid:20200603T060000
DTSTAMP:20260421T225724
CREATED:20180603T025522Z
LAST-MODIFIED:20190503T094852Z
UID:13020-1591156800-1591164000@historic.pratsdellucanes.cat
SUMMARY:Orgànica
DESCRIPTION:
URL:https://historic.pratsdellucanes.cat/esdeveniment/organica-401/
CATEGORIES:Recollida Porta a porta
END:VEVENT
BEGIN:VEVENT
DTSTART;TZID=Europe/Madrid:20200602T200000
DTEND;TZID=Europe/Madrid:20200602T220000
DTSTAMP:20260421T225724
CREATED:20190717T201851Z
LAST-MODIFIED:20191204T150806Z
UID:32655-1591128000-1591135200@historic.pratsdellucanes.cat
SUMMARY:Reunió de govern.
DESCRIPTION:
URL:https://historic.pratsdellucanes.cat/esdeveniment/reunio-de-govern-46/
LOCATION:Ajuntament de Prats de Lluçanès\, Passeig del Lluçanès\, 08513 Prats de Lluçanès\, Barcelona\, España
CATEGORIES:Agenda de l'alcalde
END:VEVENT
BEGIN:VEVENT
DTSTART;TZID=Europe/Madrid:20200602T140000
DTEND;TZID=Europe/Madrid:20200602T150000
DTSTAMP:20260421T225724
CREATED:20190906T030756Z
LAST-MODIFIED:20191023T095231Z
UID:34605-1591106400-1591110000@historic.pratsdellucanes.cat
SUMMARY:Vane Gómez: Cal Bach
DESCRIPTION:
URL:https://historic.pratsdellucanes.cat/esdeveniment/vane-gomez-cal-bach-648/
CATEGORIES:Agenda de l'alcalde
END:VEVENT
BEGIN:VEVENT
DTSTART;TZID=Europe/Madrid:20200602T134500
DTEND;TZID=Europe/Madrid:20200602T144500
DTSTAMP:20260421T225724
CREATED:20190809T215621Z
LAST-MODIFIED:20190905T025328Z
UID:33559-1591105500-1591109100@historic.pratsdellucanes.cat
SUMMARY:Vane Gómez: Cal Bach
DESCRIPTION:
URL:https://historic.pratsdellucanes.cat/esdeveniment/vane-gomez-cal-bach-320/
CATEGORIES:Agenda de l'alcalde
END:VEVENT
BEGIN:VEVENT
DTSTART;TZID=Europe/Madrid:20200602T080000
DTEND;TZID=Europe/Madrid:20200602T083000
DTSTAMP:20260421T225724
CREATED:20190809T215621Z
LAST-MODIFIED:20191204T150806Z
UID:33558-1591084800-1591086600@historic.pratsdellucanes.cat
SUMMARY:Vane Gómez: Cal Bach
DESCRIPTION:
URL:https://historic.pratsdellucanes.cat/esdeveniment/vane-gomez-cal-bach-319/
CATEGORIES:Agenda de l'alcalde
END:VEVENT
BEGIN:VEVENT
DTSTART;TZID=Europe/Madrid:20200602T040000
DTEND;TZID=Europe/Madrid:20200602T060000
DTSTAMP:20260421T225724
CREATED:20180602T025007Z
LAST-MODIFIED:20190503T094852Z
UID:12894-1591070400-1591077600@historic.pratsdellucanes.cat
SUMMARY:Multiproducte
DESCRIPTION:
URL:https://historic.pratsdellucanes.cat/esdeveniment/multiproducte-262/
CATEGORIES:Recollida Porta a porta
END:VEVENT
BEGIN:VEVENT
DTSTART;TZID=Europe/Madrid:20200601T140000
DTEND;TZID=Europe/Madrid:20200601T150000
DTSTAMP:20260421T225724
CREATED:20191024T095907Z
LAST-MODIFIED:20191204T150805Z
UID:35702-1591020000-1591023600@historic.pratsdellucanes.cat
SUMMARY:Vane Gómez: Cal Bach
DESCRIPTION:
URL:https://historic.pratsdellucanes.cat/esdeveniment/vane-gomez-cal-bach-878/
CATEGORIES:Agenda de l'alcalde
END:VEVENT
BEGIN:VEVENT
DTSTART;TZID=Europe/Madrid:20200601T140000
DTEND;TZID=Europe/Madrid:20200601T150000
DTSTAMP:20260421T225724
CREATED:20190906T030755Z
LAST-MODIFIED:20191023T095231Z
UID:34604-1591020000-1591023600@historic.pratsdellucanes.cat
SUMMARY:Vane Gómez: Cal Bach
DESCRIPTION:
URL:https://historic.pratsdellucanes.cat/esdeveniment/vane-gomez-cal-bach-647/
CATEGORIES:Agenda de l'alcalde
END:VEVENT
BEGIN:VEVENT
DTSTART;TZID=Europe/Madrid:20200601T134500
DTEND;TZID=Europe/Madrid:20200601T144500
DTSTAMP:20260421T225724
CREATED:20190809T215620Z
LAST-MODIFIED:20190905T025328Z
UID:33557-1591019100-1591022700@historic.pratsdellucanes.cat
SUMMARY:Vane Gómez: Cal Bach
DESCRIPTION:
URL:https://historic.pratsdellucanes.cat/esdeveniment/vane-gomez-cal-bach-318/
CATEGORIES:Agenda de l'alcalde
END:VEVENT
BEGIN:VEVENT
DTSTART;TZID=Europe/Madrid:20200601T080000
DTEND;TZID=Europe/Madrid:20200601T083000
DTSTAMP:20260421T225724
CREATED:20190809T215620Z
LAST-MODIFIED:20191204T150805Z
UID:33556-1590998400-1591000200@historic.pratsdellucanes.cat
SUMMARY:Vane Gómez: Cal Bach
DESCRIPTION:
URL:https://historic.pratsdellucanes.cat/esdeveniment/vane-gomez-cal-bach-317/
CATEGORIES:Agenda de l'alcalde
END:VEVENT
BEGIN:VEVENT
DTSTART;TZID=Europe/Madrid:20200601T040000
DTEND;TZID=Europe/Madrid:20200601T060000
DTSTAMP:20260421T225724
CREATED:20180601T011304Z
LAST-MODIFIED:20190503T094852Z
UID:12858-1590984000-1590991200@historic.pratsdellucanes.cat
SUMMARY:Orgànica
DESCRIPTION:
URL:https://historic.pratsdellucanes.cat/esdeveniment/organica-400/
CATEGORIES:Recollida Porta a porta
END:VEVENT
BEGIN:VEVENT
DTSTART;TZID=Europe/Madrid:20200531T080000
DTEND;TZID=Europe/Madrid:20200531T140000
DTSTAMP:20260421T225724
CREATED:20180531T013816Z
LAST-MODIFIED:20191204T153711Z
UID:12730-1590912000-1590933600@historic.pratsdellucanes.cat
SUMMARY:Mercat dominical i comerços oberts fins al migdia
DESCRIPTION:
URL:https://historic.pratsdellucanes.cat/esdeveniment/mercat-dominical-i-comercos-oberts-fins-al-migdia-124/
CATEGORIES:Agenda
END:VEVENT
BEGIN:VEVENT
DTSTART;TZID=Europe/Madrid:20200531T080000
DTEND;TZID=Europe/Madrid:20200531T090000
DTSTAMP:20260421T225724
CREATED:20190927T053753Z
LAST-MODIFIED:20191204T150805Z
UID:35282-1590912000-1590915600@historic.pratsdellucanes.cat
SUMMARY:Mercat Cooperatives CUEME
DESCRIPTION:
URL:https://historic.pratsdellucanes.cat/esdeveniment/mercat-cooperatives-cueme/
CATEGORIES:Agenda de l'alcalde
END:VEVENT
BEGIN:VEVENT
DTSTART;VALUE=DATE:20200531
DTEND;VALUE=DATE:20200601
DTSTAMP:20260421T225724
CREATED:20190927T061159Z
LAST-MODIFIED:20190927T061159Z
UID:35286-1590883200-1590969599@historic.pratsdellucanes.cat
SUMMARY:Mercat de cooperatives escolars del Lluçanès
DESCRIPTION:
URL:https://historic.pratsdellucanes.cat/esdeveniment/mercat-de-cooperatives-escolars-del-llucanes/
CATEGORIES:Agenda
END:VEVENT
END:VCALENDAR