BEGIN:VCALENDAR
VERSION:2.0
PRODID:-//Ajuntament de Prats de Lluçanès - ECPv6.14.2//NONSGML v1.0//EN
CALSCALE:GREGORIAN
METHOD:PUBLISH
X-WR-CALNAME:Ajuntament de Prats de Lluçanès
X-ORIGINAL-URL:https://historic.pratsdellucanes.cat
X-WR-CALDESC:Esdeveniments per Ajuntament de Prats de Lluçanès
REFRESH-INTERVAL;VALUE=DURATION:PT1H
X-Robots-Tag:noindex
X-PUBLISHED-TTL:PT1H
BEGIN:VTIMEZONE
TZID:Europe/Madrid
BEGIN:DAYLIGHT
TZOFFSETFROM:+0100
TZOFFSETTO:+0200
TZNAME:CEST
DTSTART:20200329T010000
END:DAYLIGHT
BEGIN:STANDARD
TZOFFSETFROM:+0200
TZOFFSETTO:+0100
TZNAME:CET
DTSTART:20201025T010000
END:STANDARD
END:VTIMEZONE
BEGIN:VEVENT
DTSTART;TZID=Europe/Madrid:20200507T140000
DTEND;TZID=Europe/Madrid:20200507T150000
DTSTAMP:20260422T091554
CREATED:20191024T095847Z
LAST-MODIFIED:20191204T150757Z
UID:35692-1588860000-1588863600@historic.pratsdellucanes.cat
SUMMARY:Vane Gómez: Cal Bach
DESCRIPTION:
URL:https://historic.pratsdellucanes.cat/esdeveniment/vane-gomez-cal-bach-868/
CATEGORIES:Agenda de l'alcalde
END:VEVENT
BEGIN:VEVENT
DTSTART;TZID=Europe/Madrid:20200507T140000
DTEND;TZID=Europe/Madrid:20200507T150000
DTSTAMP:20260422T091554
CREATED:20190906T030750Z
LAST-MODIFIED:20191023T095228Z
UID:34591-1588860000-1588863600@historic.pratsdellucanes.cat
SUMMARY:Vane Gómez: Cal Bach
DESCRIPTION:
URL:https://historic.pratsdellucanes.cat/esdeveniment/vane-gomez-cal-bach-634/
CATEGORIES:Agenda de l'alcalde
END:VEVENT
BEGIN:VEVENT
DTSTART;TZID=Europe/Madrid:20200507T134500
DTEND;TZID=Europe/Madrid:20200507T144500
DTSTAMP:20260422T091554
CREATED:20190809T215614Z
LAST-MODIFIED:20190905T025326Z
UID:33531-1588859100-1588862700@historic.pratsdellucanes.cat
SUMMARY:Vane Gómez: Cal Bach
DESCRIPTION:
URL:https://historic.pratsdellucanes.cat/esdeveniment/vane-gomez-cal-bach-292/
CATEGORIES:Agenda de l'alcalde
END:VEVENT
BEGIN:VEVENT
DTSTART;TZID=Europe/Madrid:20200507T080000
DTEND;TZID=Europe/Madrid:20200507T083000
DTSTAMP:20260422T091554
CREATED:20190809T215614Z
LAST-MODIFIED:20191204T150757Z
UID:33530-1588838400-1588840200@historic.pratsdellucanes.cat
SUMMARY:Vane Gómez: Cal Bach
DESCRIPTION:
URL:https://historic.pratsdellucanes.cat/esdeveniment/vane-gomez-cal-bach-291/
CATEGORIES:Agenda de l'alcalde
END:VEVENT
BEGIN:VEVENT
DTSTART;TZID=Europe/Madrid:20200506T140000
DTEND;TZID=Europe/Madrid:20200506T150000
DTSTAMP:20260422T091554
CREATED:20191024T095846Z
LAST-MODIFIED:20191204T150756Z
UID:35691-1588773600-1588777200@historic.pratsdellucanes.cat
SUMMARY:Vane Gómez: Cal Bach
DESCRIPTION:
URL:https://historic.pratsdellucanes.cat/esdeveniment/vane-gomez-cal-bach-867/
CATEGORIES:Agenda de l'alcalde
END:VEVENT
BEGIN:VEVENT
DTSTART;TZID=Europe/Madrid:20200506T140000
DTEND;TZID=Europe/Madrid:20200506T150000
DTSTAMP:20260422T091554
CREATED:20190906T030749Z
LAST-MODIFIED:20191023T095228Z
UID:34590-1588773600-1588777200@historic.pratsdellucanes.cat
SUMMARY:Vane Gómez: Cal Bach
DESCRIPTION:
URL:https://historic.pratsdellucanes.cat/esdeveniment/vane-gomez-cal-bach-633/
CATEGORIES:Agenda de l'alcalde
END:VEVENT
BEGIN:VEVENT
DTSTART;TZID=Europe/Madrid:20200506T134500
DTEND;TZID=Europe/Madrid:20200506T144500
DTSTAMP:20260422T091554
CREATED:20190809T215613Z
LAST-MODIFIED:20190905T025326Z
UID:33529-1588772700-1588776300@historic.pratsdellucanes.cat
SUMMARY:Vane Gómez: Cal Bach
DESCRIPTION:
URL:https://historic.pratsdellucanes.cat/esdeveniment/vane-gomez-cal-bach-290/
CATEGORIES:Agenda de l'alcalde
END:VEVENT
BEGIN:VEVENT
DTSTART;TZID=Europe/Madrid:20200506T080000
DTEND;TZID=Europe/Madrid:20200506T083000
DTSTAMP:20260422T091554
CREATED:20190809T215613Z
LAST-MODIFIED:20191204T150756Z
UID:33528-1588752000-1588753800@historic.pratsdellucanes.cat
SUMMARY:Vane Gómez: Cal Bach
DESCRIPTION:
URL:https://historic.pratsdellucanes.cat/esdeveniment/vane-gomez-cal-bach-289/
CATEGORIES:Agenda de l'alcalde
END:VEVENT
BEGIN:VEVENT
DTSTART;TZID=Europe/Madrid:20200506T040000
DTEND;TZID=Europe/Madrid:20200506T060000
DTSTAMP:20260422T091554
CREATED:20180506T013458Z
LAST-MODIFIED:20190503T094850Z
UID:10682-1588737600-1588744800@historic.pratsdellucanes.cat
SUMMARY:Orgànica
DESCRIPTION:
URL:https://historic.pratsdellucanes.cat/esdeveniment/organica-389/
CATEGORIES:Recollida Porta a porta
END:VEVENT
BEGIN:VEVENT
DTSTART;TZID=Europe/Madrid:20200505T200000
DTEND;TZID=Europe/Madrid:20200505T220000
DTSTAMP:20260422T091554
CREATED:20190717T201850Z
LAST-MODIFIED:20191204T150756Z
UID:32647-1588708800-1588716000@historic.pratsdellucanes.cat
SUMMARY:Reunió de govern.
DESCRIPTION:
URL:https://historic.pratsdellucanes.cat/esdeveniment/reunio-de-govern-42/
LOCATION:Ajuntament de Prats de Lluçanès\, Passeig del Lluçanès\, 08513 Prats de Lluçanès\, Barcelona\, España
CATEGORIES:Agenda de l'alcalde
END:VEVENT
BEGIN:VEVENT
DTSTART;TZID=Europe/Madrid:20200505T140000
DTEND;TZID=Europe/Madrid:20200505T150000
DTSTAMP:20260422T091554
CREATED:20190906T030749Z
LAST-MODIFIED:20191023T095227Z
UID:34589-1588687200-1588690800@historic.pratsdellucanes.cat
SUMMARY:Vane Gómez: Cal Bach
DESCRIPTION:
URL:https://historic.pratsdellucanes.cat/esdeveniment/vane-gomez-cal-bach-632/
CATEGORIES:Agenda de l'alcalde
END:VEVENT
BEGIN:VEVENT
DTSTART;TZID=Europe/Madrid:20200505T134500
DTEND;TZID=Europe/Madrid:20200505T144500
DTSTAMP:20260422T091554
CREATED:20190809T215613Z
LAST-MODIFIED:20190905T025326Z
UID:33527-1588686300-1588689900@historic.pratsdellucanes.cat
SUMMARY:Vane Gómez: Cal Bach
DESCRIPTION:
URL:https://historic.pratsdellucanes.cat/esdeveniment/vane-gomez-cal-bach-288/
CATEGORIES:Agenda de l'alcalde
END:VEVENT
BEGIN:VEVENT
DTSTART;TZID=Europe/Madrid:20200505T080000
DTEND;TZID=Europe/Madrid:20200505T083000
DTSTAMP:20260422T091554
CREATED:20190809T215613Z
LAST-MODIFIED:20191204T150755Z
UID:33526-1588665600-1588667400@historic.pratsdellucanes.cat
SUMMARY:Vane Gómez: Cal Bach
DESCRIPTION:
URL:https://historic.pratsdellucanes.cat/esdeveniment/vane-gomez-cal-bach-287/
CATEGORIES:Agenda de l'alcalde
END:VEVENT
BEGIN:VEVENT
DTSTART;TZID=Europe/Madrid:20200505T040000
DTEND;TZID=Europe/Madrid:20200505T060000
DTSTAMP:20260422T091554
CREATED:20180505T012037Z
LAST-MODIFIED:20190503T094850Z
UID:10537-1588651200-1588658400@historic.pratsdellucanes.cat
SUMMARY:Multiproducte
DESCRIPTION:
URL:https://historic.pratsdellucanes.cat/esdeveniment/multiproducte-254/
CATEGORIES:Recollida Porta a porta
END:VEVENT
BEGIN:VEVENT
DTSTART;TZID=Europe/Madrid:20200504T140000
DTEND;TZID=Europe/Madrid:20200504T150000
DTSTAMP:20260422T091554
CREATED:20191024T095845Z
LAST-MODIFIED:20191204T150755Z
UID:35690-1588600800-1588604400@historic.pratsdellucanes.cat
SUMMARY:Vane Gómez: Cal Bach
DESCRIPTION:
URL:https://historic.pratsdellucanes.cat/esdeveniment/vane-gomez-cal-bach-866/
CATEGORIES:Agenda de l'alcalde
END:VEVENT
BEGIN:VEVENT
DTSTART;TZID=Europe/Madrid:20200504T140000
DTEND;TZID=Europe/Madrid:20200504T150000
DTSTAMP:20260422T091554
CREATED:20190906T030748Z
LAST-MODIFIED:20191023T095227Z
UID:34588-1588600800-1588604400@historic.pratsdellucanes.cat
SUMMARY:Vane Gómez: Cal Bach
DESCRIPTION:
URL:https://historic.pratsdellucanes.cat/esdeveniment/vane-gomez-cal-bach-631/
CATEGORIES:Agenda de l'alcalde
END:VEVENT
BEGIN:VEVENT
DTSTART;TZID=Europe/Madrid:20200504T134500
DTEND;TZID=Europe/Madrid:20200504T144500
DTSTAMP:20260422T091554
CREATED:20190809T215612Z
LAST-MODIFIED:20190905T025326Z
UID:33525-1588599900-1588603500@historic.pratsdellucanes.cat
SUMMARY:Vane Gómez: Cal Bach
DESCRIPTION:
URL:https://historic.pratsdellucanes.cat/esdeveniment/vane-gomez-cal-bach-286/
CATEGORIES:Agenda de l'alcalde
END:VEVENT
BEGIN:VEVENT
DTSTART;TZID=Europe/Madrid:20200504T080000
DTEND;TZID=Europe/Madrid:20200504T083000
DTSTAMP:20260422T091554
CREATED:20190809T215612Z
LAST-MODIFIED:20191204T150754Z
UID:33524-1588579200-1588581000@historic.pratsdellucanes.cat
SUMMARY:Vane Gómez: Cal Bach
DESCRIPTION:
URL:https://historic.pratsdellucanes.cat/esdeveniment/vane-gomez-cal-bach-285/
CATEGORIES:Agenda de l'alcalde
END:VEVENT
BEGIN:VEVENT
DTSTART;TZID=Europe/Madrid:20200504T040000
DTEND;TZID=Europe/Madrid:20200504T060000
DTSTAMP:20260422T091554
CREATED:20180504T004313Z
LAST-MODIFIED:20190503T094850Z
UID:10470-1588564800-1588572000@historic.pratsdellucanes.cat
SUMMARY:Orgànica
DESCRIPTION:
URL:https://historic.pratsdellucanes.cat/esdeveniment/organica-388/
CATEGORIES:Recollida Porta a porta
END:VEVENT
BEGIN:VEVENT
DTSTART;TZID=Europe/Madrid:20200503T080000
DTEND;TZID=Europe/Madrid:20200503T140000
DTSTAMP:20260422T091554
CREATED:20180503T005007Z
LAST-MODIFIED:20191204T153709Z
UID:10323-1588492800-1588514400@historic.pratsdellucanes.cat
SUMMARY:Mercat dominical i comerços oberts fins al migdia
DESCRIPTION:
URL:https://historic.pratsdellucanes.cat/esdeveniment/mercat-dominical-i-comercos-oberts-fins-al-migdia-120/
CATEGORIES:Agenda
END:VEVENT
BEGIN:VEVENT
DTSTART;TZID=Europe/Madrid:20200502T040000
DTEND;TZID=Europe/Madrid:20200502T060000
DTSTAMP:20260422T091554
CREATED:20180502T015037Z
LAST-MODIFIED:20190503T094850Z
UID:10135-1588392000-1588399200@historic.pratsdellucanes.cat
SUMMARY:Orgànica
DESCRIPTION:
URL:https://historic.pratsdellucanes.cat/esdeveniment/organica-387/
CATEGORIES:Recollida Porta a porta
END:VEVENT
BEGIN:VEVENT
DTSTART;TZID=Europe/Madrid:20200501T040000
DTEND;TZID=Europe/Madrid:20200501T060000
DTSTAMP:20260422T091554
CREATED:20180501T012801Z
LAST-MODIFIED:20190503T094850Z
UID:10098-1588305600-1588312800@historic.pratsdellucanes.cat
SUMMARY:Multiproducte
DESCRIPTION:
URL:https://historic.pratsdellucanes.cat/esdeveniment/multiproducte-253/
CATEGORIES:Recollida Porta a porta
END:VEVENT
BEGIN:VEVENT
DTSTART;TZID=Europe/Madrid:20200430T140000
DTEND;TZID=Europe/Madrid:20200430T150000
DTSTAMP:20260422T091554
CREATED:20191024T095844Z
LAST-MODIFIED:20191204T150754Z
UID:35689-1588255200-1588258800@historic.pratsdellucanes.cat
SUMMARY:Vane Gómez: Cal Bach
DESCRIPTION:
URL:https://historic.pratsdellucanes.cat/esdeveniment/vane-gomez-cal-bach-865/
CATEGORIES:Agenda de l'alcalde
END:VEVENT
BEGIN:VEVENT
DTSTART;TZID=Europe/Madrid:20200430T140000
DTEND;TZID=Europe/Madrid:20200430T150000
DTSTAMP:20260422T091554
CREATED:20190906T030748Z
LAST-MODIFIED:20191023T095227Z
UID:34587-1588255200-1588258800@historic.pratsdellucanes.cat
SUMMARY:Vane Gómez: Cal Bach
DESCRIPTION:
URL:https://historic.pratsdellucanes.cat/esdeveniment/vane-gomez-cal-bach-630/
CATEGORIES:Agenda de l'alcalde
END:VEVENT
BEGIN:VEVENT
DTSTART;TZID=Europe/Madrid:20200430T134500
DTEND;TZID=Europe/Madrid:20200430T144500
DTSTAMP:20260422T091554
CREATED:20190809T215612Z
LAST-MODIFIED:20190905T025326Z
UID:33523-1588254300-1588257900@historic.pratsdellucanes.cat
SUMMARY:Vane Gómez: Cal Bach
DESCRIPTION:
URL:https://historic.pratsdellucanes.cat/esdeveniment/vane-gomez-cal-bach-284/
CATEGORIES:Agenda de l'alcalde
END:VEVENT
BEGIN:VEVENT
DTSTART;TZID=Europe/Madrid:20200430T080000
DTEND;TZID=Europe/Madrid:20200430T083000
DTSTAMP:20260422T091554
CREATED:20190809T215612Z
LAST-MODIFIED:20191204T150754Z
UID:33522-1588233600-1588235400@historic.pratsdellucanes.cat
SUMMARY:Vane Gómez: Cal Bach
DESCRIPTION:
URL:https://historic.pratsdellucanes.cat/esdeveniment/vane-gomez-cal-bach-283/
CATEGORIES:Agenda de l'alcalde
END:VEVENT
BEGIN:VEVENT
DTSTART;TZID=Europe/Madrid:20200430T040000
DTEND;TZID=Europe/Madrid:20200430T060000
DTSTAMP:20260422T091554
CREATED:20180430T023745Z
LAST-MODIFIED:20190503T094850Z
UID:10070-1588219200-1588226400@historic.pratsdellucanes.cat
SUMMARY:Rebuig
DESCRIPTION:
URL:https://historic.pratsdellucanes.cat/esdeveniment/rebuig-64/
CATEGORIES:Recollida Porta a porta
END:VEVENT
BEGIN:VEVENT
DTSTART;TZID=Europe/Madrid:20200429T140000
DTEND;TZID=Europe/Madrid:20200429T150000
DTSTAMP:20260422T091554
CREATED:20191024T095844Z
LAST-MODIFIED:20191204T150753Z
UID:35688-1588168800-1588172400@historic.pratsdellucanes.cat
SUMMARY:Vane Gómez: Cal Bach
DESCRIPTION:
URL:https://historic.pratsdellucanes.cat/esdeveniment/vane-gomez-cal-bach-864/
CATEGORIES:Agenda de l'alcalde
END:VEVENT
BEGIN:VEVENT
DTSTART;TZID=Europe/Madrid:20200429T140000
DTEND;TZID=Europe/Madrid:20200429T150000
DTSTAMP:20260422T091554
CREATED:20190906T030748Z
LAST-MODIFIED:20191023T095227Z
UID:34586-1588168800-1588172400@historic.pratsdellucanes.cat
SUMMARY:Vane Gómez: Cal Bach
DESCRIPTION:
URL:https://historic.pratsdellucanes.cat/esdeveniment/vane-gomez-cal-bach-629/
CATEGORIES:Agenda de l'alcalde
END:VEVENT
BEGIN:VEVENT
DTSTART;TZID=Europe/Madrid:20200429T134500
DTEND;TZID=Europe/Madrid:20200429T144500
DTSTAMP:20260422T091554
CREATED:20190809T215611Z
LAST-MODIFIED:20190905T025326Z
UID:33521-1588167900-1588171500@historic.pratsdellucanes.cat
SUMMARY:Vane Gómez: Cal Bach
DESCRIPTION:
URL:https://historic.pratsdellucanes.cat/esdeveniment/vane-gomez-cal-bach-282/
CATEGORIES:Agenda de l'alcalde
END:VEVENT
END:VCALENDAR