BEGIN:VCALENDAR
VERSION:2.0
PRODID:-//Ajuntament de Prats de Lluçanès - ECPv6.14.2//NONSGML v1.0//EN
CALSCALE:GREGORIAN
METHOD:PUBLISH
X-WR-CALNAME:Ajuntament de Prats de Lluçanès
X-ORIGINAL-URL:https://historic.pratsdellucanes.cat
X-WR-CALDESC:Esdeveniments per Ajuntament de Prats de Lluçanès
REFRESH-INTERVAL;VALUE=DURATION:PT1H
X-Robots-Tag:noindex
X-PUBLISHED-TTL:PT1H
BEGIN:VTIMEZONE
TZID:Europe/Madrid
BEGIN:DAYLIGHT
TZOFFSETFROM:+0100
TZOFFSETTO:+0200
TZNAME:CEST
DTSTART:20200329T010000
END:DAYLIGHT
BEGIN:STANDARD
TZOFFSETFROM:+0200
TZOFFSETTO:+0100
TZNAME:CET
DTSTART:20201025T010000
END:STANDARD
END:VTIMEZONE
BEGIN:VTIMEZONE
TZID:Europe/Helsinki
BEGIN:DAYLIGHT
TZOFFSETFROM:+0200
TZOFFSETTO:+0300
TZNAME:EEST
DTSTART:20200329T010000
END:DAYLIGHT
BEGIN:STANDARD
TZOFFSETFROM:+0300
TZOFFSETTO:+0200
TZNAME:EET
DTSTART:20201025T010000
END:STANDARD
END:VTIMEZONE
BEGIN:VEVENT
DTSTART;TZID=Europe/Madrid:20200309T140000
DTEND;TZID=Europe/Madrid:20200309T150000
DTSTAMP:20260422T122946
CREATED:20190906T030730Z
LAST-MODIFIED:20191023T095206Z
UID:34556-1583762400-1583766000@historic.pratsdellucanes.cat
SUMMARY:Vane Gómez: Cal Bach
DESCRIPTION:
URL:https://historic.pratsdellucanes.cat/esdeveniment/vane-gomez-cal-bach-599/
CATEGORIES:Agenda de l'alcalde
END:VEVENT
BEGIN:VEVENT
DTSTART;TZID=Europe/Madrid:20200309T134500
DTEND;TZID=Europe/Madrid:20200309T144500
DTSTAMP:20260422T122946
CREATED:20190809T215405Z
LAST-MODIFIED:20190905T025322Z
UID:33461-1583761500-1583765100@historic.pratsdellucanes.cat
SUMMARY:Vane Gómez: Cal Bach
DESCRIPTION:
URL:https://historic.pratsdellucanes.cat/esdeveniment/vane-gomez-cal-bach-222/
CATEGORIES:Agenda de l'alcalde
END:VEVENT
BEGIN:VEVENT
DTSTART;TZID=Europe/Madrid:20200309T080000
DTEND;TZID=Europe/Madrid:20200309T083000
DTSTAMP:20260422T122946
CREATED:20190809T215405Z
LAST-MODIFIED:20191204T150737Z
UID:33460-1583740800-1583742600@historic.pratsdellucanes.cat
SUMMARY:Vane Gómez: Cal Bach
DESCRIPTION:
URL:https://historic.pratsdellucanes.cat/esdeveniment/vane-gomez-cal-bach-221/
CATEGORIES:Agenda de l'alcalde
END:VEVENT
BEGIN:VEVENT
DTSTART;TZID=Europe/Madrid:20200309T040000
DTEND;TZID=Europe/Madrid:20200309T060000
DTSTAMP:20260422T122946
CREATED:20180421T091552Z
LAST-MODIFIED:20190503T094847Z
UID:8266-1583726400-1583733600@historic.pratsdellucanes.cat
SUMMARY:Orgànica
DESCRIPTION:
URL:https://historic.pratsdellucanes.cat/esdeveniment/organica-364/
CATEGORIES:Recollida Porta a porta
END:VEVENT
BEGIN:VEVENT
DTSTART;TZID=Europe/Madrid:20200308T080000
DTEND;TZID=Europe/Madrid:20200308T140000
DTSTAMP:20260422T122946
CREATED:20180421T091949Z
LAST-MODIFIED:20191204T153708Z
UID:8397-1583654400-1583676000@historic.pratsdellucanes.cat
SUMMARY:Mercat dominical i comerços oberts fins al migdia
DESCRIPTION:
URL:https://historic.pratsdellucanes.cat/esdeveniment/mercat-dominical-i-comercos-oberts-fins-al-migdia-112/
CATEGORIES:Agenda
END:VEVENT
BEGIN:VEVENT
DTSTART;TZID=Europe/Helsinki:20200307T190000
DTEND;TZID=Europe/Helsinki:20200308T223000
DTSTAMP:20260422T122946
CREATED:20200302T074930Z
LAST-MODIFIED:20200303T080436Z
UID:38256-1583607600-1583706600@historic.pratsdellucanes.cat
SUMMARY:Musical Sister Act 2 alumnes Institut Castell del Quer
DESCRIPTION:
URL:https://historic.pratsdellucanes.cat/esdeveniment/musical-sister-act-2-alumnes-institut-castell-del-quer/
CATEGORIES:Agenda
ATTACH;FMTTYPE=image/jpeg:https://historic.pratsdellucanes.cat/wp-content/uploads/2020/03/TEATRE-INSTI.jpeg
END:VEVENT
BEGIN:VEVENT
DTSTART;TZID=Europe/Madrid:20200307T040000
DTEND;TZID=Europe/Madrid:20200307T060000
DTSTAMP:20260422T122946
CREATED:20180421T091548Z
LAST-MODIFIED:20190503T094847Z
UID:8265-1583553600-1583560800@historic.pratsdellucanes.cat
SUMMARY:Orgànica
DESCRIPTION:
URL:https://historic.pratsdellucanes.cat/esdeveniment/organica-363/
CATEGORIES:Recollida Porta a porta
END:VEVENT
BEGIN:VEVENT
DTSTART;TZID=Europe/Madrid:20200306T040000
DTEND;TZID=Europe/Madrid:20200306T060000
DTSTAMP:20260422T122946
CREATED:20180421T091547Z
LAST-MODIFIED:20190503T094847Z
UID:8264-1583467200-1583474400@historic.pratsdellucanes.cat
SUMMARY:Multiproducte
DESCRIPTION:
URL:https://historic.pratsdellucanes.cat/esdeveniment/multiproducte-237/
CATEGORIES:Recollida Porta a porta
END:VEVENT
BEGIN:VEVENT
DTSTART;VALUE=DATE:20200306
DTEND;VALUE=DATE:20200312
DTSTAMP:20260422T122946
CREATED:20200224T084632Z
LAST-MODIFIED:20200302T095016Z
UID:38168-1583452800-1583971199@historic.pratsdellucanes.cat
SUMMARY:Dia Internacional de les Dones a Prats
DESCRIPTION:
URL:https://historic.pratsdellucanes.cat/esdeveniment/dia-internacional-de-la-dona-a-prats/
CATEGORIES:Agenda
ATTACH;FMTTYPE=image/jpeg:https://historic.pratsdellucanes.cat/wp-content/uploads/2020/03/CARTELL_8M_2020.jpg
END:VEVENT
BEGIN:VEVENT
DTSTART;TZID=Europe/Madrid:20200305T140000
DTEND;TZID=Europe/Madrid:20200305T150000
DTSTAMP:20260422T122946
CREATED:20191024T095603Z
LAST-MODIFIED:20191204T150737Z
UID:35665-1583416800-1583420400@historic.pratsdellucanes.cat
SUMMARY:Vane Gómez: Cal Bach
DESCRIPTION:
URL:https://historic.pratsdellucanes.cat/esdeveniment/vane-gomez-cal-bach-841/
CATEGORIES:Agenda de l'alcalde
END:VEVENT
BEGIN:VEVENT
DTSTART;TZID=Europe/Madrid:20200305T140000
DTEND;TZID=Europe/Madrid:20200305T150000
DTSTAMP:20260422T122946
CREATED:20190906T030730Z
LAST-MODIFIED:20191023T095205Z
UID:34555-1583416800-1583420400@historic.pratsdellucanes.cat
SUMMARY:Vane Gómez: Cal Bach
DESCRIPTION:
URL:https://historic.pratsdellucanes.cat/esdeveniment/vane-gomez-cal-bach-598/
CATEGORIES:Agenda de l'alcalde
END:VEVENT
BEGIN:VEVENT
DTSTART;TZID=Europe/Madrid:20200305T134500
DTEND;TZID=Europe/Madrid:20200305T144500
DTSTAMP:20260422T122946
CREATED:20190809T215405Z
LAST-MODIFIED:20190905T025322Z
UID:33459-1583415900-1583419500@historic.pratsdellucanes.cat
SUMMARY:Vane Gómez: Cal Bach
DESCRIPTION:
URL:https://historic.pratsdellucanes.cat/esdeveniment/vane-gomez-cal-bach-220/
CATEGORIES:Agenda de l'alcalde
END:VEVENT
BEGIN:VEVENT
DTSTART;TZID=Europe/Madrid:20200305T080000
DTEND;TZID=Europe/Madrid:20200305T083000
DTSTAMP:20260422T122946
CREATED:20190809T215405Z
LAST-MODIFIED:20191204T150737Z
UID:33458-1583395200-1583397000@historic.pratsdellucanes.cat
SUMMARY:Vane Gómez: Cal Bach
DESCRIPTION:
URL:https://historic.pratsdellucanes.cat/esdeveniment/vane-gomez-cal-bach-219/
CATEGORIES:Agenda de l'alcalde
END:VEVENT
BEGIN:VEVENT
DTSTART;TZID=Europe/Madrid:20200305T040000
DTEND;TZID=Europe/Madrid:20200305T060000
DTSTAMP:20260422T122946
CREATED:20180421T091547Z
LAST-MODIFIED:20190503T094847Z
UID:8263-1583380800-1583388000@historic.pratsdellucanes.cat
SUMMARY:Rebuig
DESCRIPTION:
URL:https://historic.pratsdellucanes.cat/esdeveniment/rebuig-60/
CATEGORIES:Recollida Porta a porta
END:VEVENT
BEGIN:VEVENT
DTSTART;TZID=Europe/Helsinki:20200304T190000
DTEND;TZID=Europe/Helsinki:20200304T193000
DTSTAMP:20260422T122946
CREATED:20200225T073341Z
LAST-MODIFIED:20200225T073341Z
UID:38178-1583348400-1583350200@historic.pratsdellucanes.cat
SUMMARY:Sessió participativa Fem el teu Teatre Orient
DESCRIPTION:
URL:https://historic.pratsdellucanes.cat/esdeveniment/sessio-participativa-fem-el-teu-teatre-orient/
CATEGORIES:Agenda
ATTACH;FMTTYPE=image/jpeg:https://historic.pratsdellucanes.cat/wp-content/uploads/2020/02/CARTELL_ORIENT_1.jpg
END:VEVENT
BEGIN:VEVENT
DTSTART;TZID=Europe/Madrid:20200304T140000
DTEND;TZID=Europe/Madrid:20200304T150000
DTSTAMP:20260422T122946
CREATED:20191024T095602Z
LAST-MODIFIED:20191204T150737Z
UID:35664-1583330400-1583334000@historic.pratsdellucanes.cat
SUMMARY:Vane Gómez: Cal Bach
DESCRIPTION:
URL:https://historic.pratsdellucanes.cat/esdeveniment/vane-gomez-cal-bach-840/
CATEGORIES:Agenda de l'alcalde
END:VEVENT
BEGIN:VEVENT
DTSTART;TZID=Europe/Madrid:20200304T140000
DTEND;TZID=Europe/Madrid:20200304T150000
DTSTAMP:20260422T122946
CREATED:20190906T030730Z
LAST-MODIFIED:20191023T095205Z
UID:34554-1583330400-1583334000@historic.pratsdellucanes.cat
SUMMARY:Vane Gómez: Cal Bach
DESCRIPTION:
URL:https://historic.pratsdellucanes.cat/esdeveniment/vane-gomez-cal-bach-597/
CATEGORIES:Agenda de l'alcalde
END:VEVENT
BEGIN:VEVENT
DTSTART;TZID=Europe/Madrid:20200304T134500
DTEND;TZID=Europe/Madrid:20200304T144500
DTSTAMP:20260422T122946
CREATED:20190809T215404Z
LAST-MODIFIED:20190905T025322Z
UID:33457-1583329500-1583333100@historic.pratsdellucanes.cat
SUMMARY:Vane Gómez: Cal Bach
DESCRIPTION:
URL:https://historic.pratsdellucanes.cat/esdeveniment/vane-gomez-cal-bach-218/
CATEGORIES:Agenda de l'alcalde
END:VEVENT
BEGIN:VEVENT
DTSTART;TZID=Europe/Madrid:20200304T080000
DTEND;TZID=Europe/Madrid:20200304T083000
DTSTAMP:20260422T122946
CREATED:20190809T215404Z
LAST-MODIFIED:20191204T150737Z
UID:33456-1583308800-1583310600@historic.pratsdellucanes.cat
SUMMARY:Vane Gómez: Cal Bach
DESCRIPTION:
URL:https://historic.pratsdellucanes.cat/esdeveniment/vane-gomez-cal-bach-217/
CATEGORIES:Agenda de l'alcalde
END:VEVENT
BEGIN:VEVENT
DTSTART;TZID=Europe/Madrid:20200304T040000
DTEND;TZID=Europe/Madrid:20200304T060000
DTSTAMP:20260422T122946
CREATED:20180421T091546Z
LAST-MODIFIED:20190503T094847Z
UID:8262-1583294400-1583301600@historic.pratsdellucanes.cat
SUMMARY:Orgànica
DESCRIPTION:
URL:https://historic.pratsdellucanes.cat/esdeveniment/organica-362/
CATEGORIES:Recollida Porta a porta
END:VEVENT
BEGIN:VEVENT
DTSTART;TZID=Europe/Madrid:20200303T200000
DTEND;TZID=Europe/Madrid:20200303T220000
DTSTAMP:20260422T122946
CREATED:20190717T201847Z
LAST-MODIFIED:20191204T150737Z
UID:32629-1583265600-1583272800@historic.pratsdellucanes.cat
SUMMARY:Reunió de govern.
DESCRIPTION:
URL:https://historic.pratsdellucanes.cat/esdeveniment/reunio-de-govern-33/
LOCATION:Ajuntament de Prats de Lluçanès\, Passeig del Lluçanès\, 08513 Prats de Lluçanès\, Barcelona\, España
CATEGORIES:Agenda de l'alcalde
END:VEVENT
BEGIN:VEVENT
DTSTART;TZID=Europe/Madrid:20200303T140000
DTEND;TZID=Europe/Madrid:20200303T150000
DTSTAMP:20260422T122946
CREATED:20190906T030729Z
LAST-MODIFIED:20191023T095205Z
UID:34553-1583244000-1583247600@historic.pratsdellucanes.cat
SUMMARY:Vane Gómez: Cal Bach
DESCRIPTION:
URL:https://historic.pratsdellucanes.cat/esdeveniment/vane-gomez-cal-bach-596/
CATEGORIES:Agenda de l'alcalde
END:VEVENT
BEGIN:VEVENT
DTSTART;TZID=Europe/Madrid:20200303T134500
DTEND;TZID=Europe/Madrid:20200303T144500
DTSTAMP:20260422T122946
CREATED:20190809T215404Z
LAST-MODIFIED:20190905T025321Z
UID:33455-1583243100-1583246700@historic.pratsdellucanes.cat
SUMMARY:Vane Gómez: Cal Bach
DESCRIPTION:
URL:https://historic.pratsdellucanes.cat/esdeveniment/vane-gomez-cal-bach-216/
CATEGORIES:Agenda de l'alcalde
END:VEVENT
BEGIN:VEVENT
DTSTART;TZID=Europe/Madrid:20200303T080000
DTEND;TZID=Europe/Madrid:20200303T083000
DTSTAMP:20260422T122946
CREATED:20190809T215403Z
LAST-MODIFIED:20191204T150737Z
UID:33454-1583222400-1583224200@historic.pratsdellucanes.cat
SUMMARY:Vane Gómez: Cal Bach
DESCRIPTION:
URL:https://historic.pratsdellucanes.cat/esdeveniment/vane-gomez-cal-bach-215/
CATEGORIES:Agenda de l'alcalde
END:VEVENT
BEGIN:VEVENT
DTSTART;TZID=Europe/Madrid:20200303T040000
DTEND;TZID=Europe/Madrid:20200303T060000
DTSTAMP:20260422T122946
CREATED:20180421T091546Z
LAST-MODIFIED:20190503T094847Z
UID:8261-1583208000-1583215200@historic.pratsdellucanes.cat
SUMMARY:Multiproducte
DESCRIPTION:
URL:https://historic.pratsdellucanes.cat/esdeveniment/multiproducte-236/
CATEGORIES:Recollida Porta a porta
END:VEVENT
BEGIN:VEVENT
DTSTART;TZID=Europe/Helsinki:20200302T163000
DTEND;TZID=Europe/Helsinki:20200302T170000
DTSTAMP:20260422T122946
CREATED:20200226T101447Z
LAST-MODIFIED:20200226T101447Z
UID:38203-1583166600-1583168400@historic.pratsdellucanes.cat
SUMMARY:Reunió informativa Hort Comunitari
DESCRIPTION:
URL:https://historic.pratsdellucanes.cat/esdeveniment/reunio-informativa-hort-comunitari/
CATEGORIES:Agenda
ATTACH;FMTTYPE=image/jpeg:https://historic.pratsdellucanes.cat/wp-content/uploads/2020/02/cartell-horts.jpg
END:VEVENT
BEGIN:VEVENT
DTSTART;TZID=Europe/Madrid:20200302T140000
DTEND;TZID=Europe/Madrid:20200302T150000
DTSTAMP:20260422T122946
CREATED:20191024T095601Z
LAST-MODIFIED:20191204T150736Z
UID:35663-1583157600-1583161200@historic.pratsdellucanes.cat
SUMMARY:Vane Gómez: Cal Bach
DESCRIPTION:
URL:https://historic.pratsdellucanes.cat/esdeveniment/vane-gomez-cal-bach-839/
CATEGORIES:Agenda de l'alcalde
END:VEVENT
BEGIN:VEVENT
DTSTART;TZID=Europe/Madrid:20200302T140000
DTEND;TZID=Europe/Madrid:20200302T150000
DTSTAMP:20260422T122946
CREATED:20190906T030729Z
LAST-MODIFIED:20191023T095204Z
UID:34552-1583157600-1583161200@historic.pratsdellucanes.cat
SUMMARY:Vane Gómez: Cal Bach
DESCRIPTION:
URL:https://historic.pratsdellucanes.cat/esdeveniment/vane-gomez-cal-bach-595/
CATEGORIES:Agenda de l'alcalde
END:VEVENT
BEGIN:VEVENT
DTSTART;TZID=Europe/Madrid:20200302T134500
DTEND;TZID=Europe/Madrid:20200302T144500
DTSTAMP:20260422T122946
CREATED:20190809T215403Z
LAST-MODIFIED:20190905T025321Z
UID:33453-1583156700-1583160300@historic.pratsdellucanes.cat
SUMMARY:Vane Gómez: Cal Bach
DESCRIPTION:
URL:https://historic.pratsdellucanes.cat/esdeveniment/vane-gomez-cal-bach-214/
CATEGORIES:Agenda de l'alcalde
END:VEVENT
BEGIN:VEVENT
DTSTART;TZID=Europe/Madrid:20200302T080000
DTEND;TZID=Europe/Madrid:20200302T083000
DTSTAMP:20260422T122946
CREATED:20190809T215403Z
LAST-MODIFIED:20191204T150736Z
UID:33452-1583136000-1583137800@historic.pratsdellucanes.cat
SUMMARY:Vane Gómez: Cal Bach
DESCRIPTION:
URL:https://historic.pratsdellucanes.cat/esdeveniment/vane-gomez-cal-bach-213/
CATEGORIES:Agenda de l'alcalde
END:VEVENT
END:VCALENDAR