BEGIN:VCALENDAR
VERSION:2.0
PRODID:-//Ajuntament de Prats de Lluçanès - ECPv6.14.2//NONSGML v1.0//EN
CALSCALE:GREGORIAN
METHOD:PUBLISH
X-WR-CALNAME:Ajuntament de Prats de Lluçanès
X-ORIGINAL-URL:https://historic.pratsdellucanes.cat
X-WR-CALDESC:Esdeveniments per Ajuntament de Prats de Lluçanès
REFRESH-INTERVAL;VALUE=DURATION:PT1H
X-Robots-Tag:noindex
X-PUBLISHED-TTL:PT1H
BEGIN:VTIMEZONE
TZID:Europe/Helsinki
BEGIN:DAYLIGHT
TZOFFSETFROM:+0200
TZOFFSETTO:+0300
TZNAME:EEST
DTSTART:20190331T010000
END:DAYLIGHT
BEGIN:STANDARD
TZOFFSETFROM:+0300
TZOFFSETTO:+0200
TZNAME:EET
DTSTART:20191027T010000
END:STANDARD
END:VTIMEZONE
BEGIN:VTIMEZONE
TZID:Europe/Madrid
BEGIN:DAYLIGHT
TZOFFSETFROM:+0100
TZOFFSETTO:+0200
TZNAME:CEST
DTSTART:20190331T010000
END:DAYLIGHT
BEGIN:STANDARD
TZOFFSETFROM:+0200
TZOFFSETTO:+0100
TZNAME:CET
DTSTART:20191027T010000
END:STANDARD
END:VTIMEZONE
BEGIN:VEVENT
DTSTART;TZID=Europe/Helsinki:20191217T180000
DTEND;TZID=Europe/Helsinki:20191217T200000
DTSTAMP:20260423T180819
CREATED:20191213T100228Z
LAST-MODIFIED:20191213T100402Z
UID:37187-1576605600-1576612800@historic.pratsdellucanes.cat
SUMMARY:Cantada de Nadales a càrrec de l'EMAL
DESCRIPTION:
URL:https://historic.pratsdellucanes.cat/esdeveniment/cantada-de-nadales-a-carrec-de-lemal/
CATEGORIES:Agenda
ATTACH;FMTTYPE=image/jpeg:https://historic.pratsdellucanes.cat/wp-content/uploads/2019/12/DIAPO_PROGRAMACIO_NADAL_19_1.jpg
END:VEVENT
BEGIN:VEVENT
DTSTART;TZID=Europe/Madrid:20191217T140000
DTEND;TZID=Europe/Madrid:20191217T150000
DTSTAMP:20260423T180819
CREATED:20190906T030703Z
LAST-MODIFIED:20191023T095155Z
UID:34509-1576591200-1576594800@historic.pratsdellucanes.cat
SUMMARY:Vane Gómez: Cal Bach
DESCRIPTION:
URL:https://historic.pratsdellucanes.cat/esdeveniment/vane-gomez-cal-bach-552/
CATEGORIES:Agenda de l'alcalde
END:VEVENT
BEGIN:VEVENT
DTSTART;TZID=Europe/Madrid:20191217T134500
DTEND;TZID=Europe/Madrid:20191217T144500
DTSTAMP:20260423T180819
CREATED:20190809T215313Z
LAST-MODIFIED:20190905T025308Z
UID:33367-1576590300-1576593900@historic.pratsdellucanes.cat
SUMMARY:Vane Gómez: Cal Bach
DESCRIPTION:
URL:https://historic.pratsdellucanes.cat/esdeveniment/vane-gomez-cal-bach-128/
CATEGORIES:Agenda de l'alcalde
END:VEVENT
BEGIN:VEVENT
DTSTART;TZID=Europe/Madrid:20191217T080000
DTEND;TZID=Europe/Madrid:20191217T083000
DTSTAMP:20260423T180819
CREATED:20190809T215313Z
LAST-MODIFIED:20191204T150705Z
UID:33366-1576569600-1576571400@historic.pratsdellucanes.cat
SUMMARY:Vane Gómez: Cal Bach
DESCRIPTION:
URL:https://historic.pratsdellucanes.cat/esdeveniment/vane-gomez-cal-bach-127/
CATEGORIES:Agenda de l'alcalde
END:VEVENT
BEGIN:VEVENT
DTSTART;TZID=Europe/Madrid:20191217T040000
DTEND;TZID=Europe/Madrid:20191217T060000
DTSTAMP:20260423T180819
CREATED:20180112T164943Z
LAST-MODIFIED:20190503T094759Z
UID:4940-1576555200-1576562400@historic.pratsdellucanes.cat
SUMMARY:Multiproducte
DESCRIPTION:
URL:https://historic.pratsdellucanes.cat/esdeveniment/multiproducte-214/
CATEGORIES:Recollida Porta a porta
END:VEVENT
BEGIN:VEVENT
DTSTART;TZID=Europe/Madrid:20191216T140000
DTEND;TZID=Europe/Madrid:20191216T150000
DTSTAMP:20260423T180819
CREATED:20191024T095518Z
LAST-MODIFIED:20191204T150705Z
UID:35630-1576504800-1576508400@historic.pratsdellucanes.cat
SUMMARY:Vane Gómez: Cal Bach
DESCRIPTION:
URL:https://historic.pratsdellucanes.cat/esdeveniment/vane-gomez-cal-bach-806/
CATEGORIES:Agenda de l'alcalde
END:VEVENT
BEGIN:VEVENT
DTSTART;TZID=Europe/Madrid:20191216T140000
DTEND;TZID=Europe/Madrid:20191216T150000
DTSTAMP:20260423T180819
CREATED:20190906T030703Z
LAST-MODIFIED:20191023T095154Z
UID:34508-1576504800-1576508400@historic.pratsdellucanes.cat
SUMMARY:Vane Gómez: Cal Bach
DESCRIPTION:
URL:https://historic.pratsdellucanes.cat/esdeveniment/vane-gomez-cal-bach-551/
CATEGORIES:Agenda de l'alcalde
END:VEVENT
BEGIN:VEVENT
DTSTART;TZID=Europe/Madrid:20191216T134500
DTEND;TZID=Europe/Madrid:20191216T144500
DTSTAMP:20260423T180819
CREATED:20190809T215313Z
LAST-MODIFIED:20190905T025308Z
UID:33365-1576503900-1576507500@historic.pratsdellucanes.cat
SUMMARY:Vane Gómez: Cal Bach
DESCRIPTION:
URL:https://historic.pratsdellucanes.cat/esdeveniment/vane-gomez-cal-bach-126/
CATEGORIES:Agenda de l'alcalde
END:VEVENT
BEGIN:VEVENT
DTSTART;TZID=Europe/Madrid:20191216T080000
DTEND;TZID=Europe/Madrid:20191216T083000
DTSTAMP:20260423T180819
CREATED:20190809T215313Z
LAST-MODIFIED:20191204T150704Z
UID:33364-1576483200-1576485000@historic.pratsdellucanes.cat
SUMMARY:Vane Gómez: Cal Bach
DESCRIPTION:
URL:https://historic.pratsdellucanes.cat/esdeveniment/vane-gomez-cal-bach-125/
CATEGORIES:Agenda de l'alcalde
END:VEVENT
BEGIN:VEVENT
DTSTART;TZID=Europe/Madrid:20191216T040000
DTEND;TZID=Europe/Madrid:20191216T060000
DTSTAMP:20260423T180819
CREATED:20180112T164942Z
LAST-MODIFIED:20190503T094759Z
UID:4939-1576468800-1576476000@historic.pratsdellucanes.cat
SUMMARY:Orgànica
DESCRIPTION:
URL:https://historic.pratsdellucanes.cat/esdeveniment/organica-328/
CATEGORIES:Recollida Porta a porta
END:VEVENT
BEGIN:VEVENT
DTSTART;TZID=Europe/Madrid:20191215T090000
DTEND;TZID=Europe/Madrid:20191215T170000
DTSTAMP:20260423T180819
CREATED:20180924T162310Z
LAST-MODIFIED:20191104T120614Z
UID:20081-1576400400-1576429200@historic.pratsdellucanes.cat
SUMMARY:Fira de Santa Llúcia
DESCRIPTION:
URL:https://historic.pratsdellucanes.cat/esdeveniment/fira-de-santa-llucia/
CATEGORIES:Agenda política
END:VEVENT
BEGIN:VEVENT
DTSTART;TZID=Europe/Madrid:20191215T080000
DTEND;TZID=Europe/Madrid:20191215T140000
DTSTAMP:20260423T180819
CREATED:20180115T171131Z
LAST-MODIFIED:20191204T153703Z
UID:5362-1576396800-1576418400@historic.pratsdellucanes.cat
SUMMARY:Mercat dominical i comerços oberts fins al migdia
DESCRIPTION:
URL:https://historic.pratsdellucanes.cat/esdeveniment/mercat-dominical-i-comercos-oberts-fins-al-migdia-100/
CATEGORIES:Agenda
END:VEVENT
BEGIN:VEVENT
DTSTART;TZID=Europe/Helsinki:20191214T173000
DTEND;TZID=Europe/Helsinki:20191214T230000
DTSTAMP:20260423T180819
CREATED:20191202T072351Z
LAST-MODIFIED:20191202T072351Z
UID:36957-1576344600-1576364400@historic.pratsdellucanes.cat
SUMMARY:Estrena Obra de Teatre Femení Plural a Prats
DESCRIPTION:
URL:https://historic.pratsdellucanes.cat/esdeveniment/estrena-obra-de-teatre-femeni-plural-a-prats/
CATEGORIES:Agenda
ATTACH;FMTTYPE=image/jpeg:https://historic.pratsdellucanes.cat/wp-content/uploads/2019/12/DIAPO_FEMENI_PLURAL.jpg
END:VEVENT
BEGIN:VEVENT
DTSTART;TZID=Europe/Helsinki:20191214T094500
DTEND;TZID=Europe/Helsinki:20191214T130000
DTSTAMP:20260423T180819
CREATED:20191129T073939Z
LAST-MODIFIED:20191129T073939Z
UID:36916-1576316700-1576328400@historic.pratsdellucanes.cat
SUMMARY:Jornada Tècnica Creació Productes Turístics Eqüestres - Fira Santa Llúcia
DESCRIPTION:
URL:https://historic.pratsdellucanes.cat/esdeveniment/jornada-tecnica-creacio-productes-turistics-equestres-fira-santa-llucia/
LOCATION:L’Espai\, Avinguda Pompeu Fabra\, 8\, Prats de Lluçanès\, Barcelona\, 08513\, Espanya
CATEGORIES:Agenda
ATTACH;FMTTYPE=image/jpeg:https://historic.pratsdellucanes.cat/wp-content/uploads/2019/11/WhatsApp-Image-2019-11-29-at-07.37.55.jpeg
END:VEVENT
BEGIN:VEVENT
DTSTART;TZID=Europe/Madrid:20191214T040000
DTEND;TZID=Europe/Madrid:20191214T060000
DTSTAMP:20260423T180819
CREATED:20180112T164942Z
LAST-MODIFIED:20190503T094759Z
UID:4938-1576296000-1576303200@historic.pratsdellucanes.cat
SUMMARY:Orgànica
DESCRIPTION:
URL:https://historic.pratsdellucanes.cat/esdeveniment/organica-327/
CATEGORIES:Recollida Porta a porta
END:VEVENT
BEGIN:VEVENT
DTSTART;VALUE=DATE:20191214
DTEND;VALUE=DATE:20191216
DTSTAMP:20260423T180819
CREATED:20191129T074112Z
LAST-MODIFIED:20191203T105606Z
UID:36919-1576281600-1576454399@historic.pratsdellucanes.cat
SUMMARY:Fira de Santa Llúcia 2019
DESCRIPTION:
URL:https://historic.pratsdellucanes.cat/esdeveniment/fira-de-santa-llucia-2019/
CATEGORIES:Agenda
ATTACH;FMTTYPE=image/jpeg:https://historic.pratsdellucanes.cat/wp-content/uploads/2019/12/TRIPTIC_FIRA_SANTALLUCIA_2019_page-0002.jpg
END:VEVENT
BEGIN:VEVENT
DTSTART;TZID=Europe/Helsinki:20191213T200000
DTEND;TZID=Europe/Helsinki:20191213T210000
DTSTAMP:20260423T180819
CREATED:20191114T071208Z
LAST-MODIFIED:20191114T071208Z
UID:36680-1576267200-1576270800@historic.pratsdellucanes.cat
SUMMARY:Projecció Audiovisual "A Pulmó" amb Sergi Mingote
DESCRIPTION:
URL:https://historic.pratsdellucanes.cat/esdeveniment/projeccio-audiovisual-a-pulmo-amb-sergi-mingote/
LOCATION:L’Espai\, Avinguda Pompeu Fabra\, 8\, Prats de Lluçanès\, Barcelona\, 08513\, Espanya
CATEGORIES:Agenda
ATTACH;FMTTYPE=image/jpeg:https://historic.pratsdellucanes.cat/wp-content/uploads/2019/11/activitat-fira.jpg
END:VEVENT
BEGIN:VEVENT
DTSTART;TZID=Europe/Madrid:20191213T040000
DTEND;TZID=Europe/Madrid:20191213T060000
DTSTAMP:20260423T180819
CREATED:20180112T164940Z
LAST-MODIFIED:20190503T094759Z
UID:4937-1576209600-1576216800@historic.pratsdellucanes.cat
SUMMARY:Multiproducte
DESCRIPTION:
URL:https://historic.pratsdellucanes.cat/esdeveniment/multiproducte-213/
CATEGORIES:Recollida Porta a porta
END:VEVENT
BEGIN:VEVENT
DTSTART;TZID=Europe/Helsinki:20191212T163000
DTEND;TZID=Europe/Helsinki:20191212T173000
DTSTAMP:20260423T180819
CREATED:20191122T081033Z
LAST-MODIFIED:20191122T081033Z
UID:36818-1576168200-1576171800@historic.pratsdellucanes.cat
SUMMARY:Taller sobre el funcionament de La Meva Salut a l'Espai Social de la gent gran
DESCRIPTION:
URL:https://historic.pratsdellucanes.cat/esdeveniment/taller-sobre-el-funcionament-de-la-meva-salut-a-lespai-social-de-la-gent-gran/
CATEGORIES:Agenda
ATTACH;FMTTYPE=image/jpeg:https://historic.pratsdellucanes.cat/wp-content/uploads/2019/11/cartell-la-meva-salut-12.12.19_page-0001.jpg
END:VEVENT
BEGIN:VEVENT
DTSTART;TZID=Europe/Madrid:20191212T140000
DTEND;TZID=Europe/Madrid:20191212T150000
DTSTAMP:20260423T180819
CREATED:20191024T095517Z
LAST-MODIFIED:20191204T150704Z
UID:35629-1576159200-1576162800@historic.pratsdellucanes.cat
SUMMARY:Vane Gómez: Cal Bach
DESCRIPTION:
URL:https://historic.pratsdellucanes.cat/esdeveniment/vane-gomez-cal-bach-805/
CATEGORIES:Agenda de l'alcalde
END:VEVENT
BEGIN:VEVENT
DTSTART;TZID=Europe/Madrid:20191212T140000
DTEND;TZID=Europe/Madrid:20191212T150000
DTSTAMP:20260423T180819
CREATED:20190906T030702Z
LAST-MODIFIED:20191023T095154Z
UID:34507-1576159200-1576162800@historic.pratsdellucanes.cat
SUMMARY:Vane Gómez: Cal Bach
DESCRIPTION:
URL:https://historic.pratsdellucanes.cat/esdeveniment/vane-gomez-cal-bach-550/
CATEGORIES:Agenda de l'alcalde
END:VEVENT
BEGIN:VEVENT
DTSTART;TZID=Europe/Madrid:20191212T134500
DTEND;TZID=Europe/Madrid:20191212T144500
DTSTAMP:20260423T180819
CREATED:20190809T215313Z
LAST-MODIFIED:20190905T025308Z
UID:33363-1576158300-1576161900@historic.pratsdellucanes.cat
SUMMARY:Vane Gómez: Cal Bach
DESCRIPTION:
URL:https://historic.pratsdellucanes.cat/esdeveniment/vane-gomez-cal-bach-124/
CATEGORIES:Agenda de l'alcalde
END:VEVENT
BEGIN:VEVENT
DTSTART;TZID=Europe/Madrid:20191212T080000
DTEND;TZID=Europe/Madrid:20191212T083000
DTSTAMP:20260423T180819
CREATED:20190809T215313Z
LAST-MODIFIED:20191204T150704Z
UID:33362-1576137600-1576139400@historic.pratsdellucanes.cat
SUMMARY:Vane Gómez: Cal Bach
DESCRIPTION:
URL:https://historic.pratsdellucanes.cat/esdeveniment/vane-gomez-cal-bach-123/
CATEGORIES:Agenda de l'alcalde
END:VEVENT
BEGIN:VEVENT
DTSTART;TZID=Europe/Madrid:20191212T040000
DTEND;TZID=Europe/Madrid:20191212T060000
DTSTAMP:20260423T180819
CREATED:20180112T164940Z
LAST-MODIFIED:20190503T094759Z
UID:4936-1576123200-1576130400@historic.pratsdellucanes.cat
SUMMARY:Rebuig
DESCRIPTION:
URL:https://historic.pratsdellucanes.cat/esdeveniment/rebuig-54/
CATEGORIES:Recollida Porta a porta
END:VEVENT
BEGIN:VEVENT
DTSTART;TZID=Europe/Madrid:20191211T140000
DTEND;TZID=Europe/Madrid:20191211T150000
DTSTAMP:20260423T180819
CREATED:20191024T095516Z
LAST-MODIFIED:20191204T150703Z
UID:35628-1576072800-1576076400@historic.pratsdellucanes.cat
SUMMARY:Vane Gómez: Cal Bach
DESCRIPTION:
URL:https://historic.pratsdellucanes.cat/esdeveniment/vane-gomez-cal-bach-804/
CATEGORIES:Agenda de l'alcalde
END:VEVENT
BEGIN:VEVENT
DTSTART;TZID=Europe/Madrid:20191211T140000
DTEND;TZID=Europe/Madrid:20191211T150000
DTSTAMP:20260423T180819
CREATED:20190906T030702Z
LAST-MODIFIED:20191023T095154Z
UID:34506-1576072800-1576076400@historic.pratsdellucanes.cat
SUMMARY:Vane Gómez: Cal Bach
DESCRIPTION:
URL:https://historic.pratsdellucanes.cat/esdeveniment/vane-gomez-cal-bach-549/
CATEGORIES:Agenda de l'alcalde
END:VEVENT
BEGIN:VEVENT
DTSTART;TZID=Europe/Madrid:20191211T134500
DTEND;TZID=Europe/Madrid:20191211T144500
DTSTAMP:20260423T180819
CREATED:20190809T215313Z
LAST-MODIFIED:20190905T025308Z
UID:33361-1576071900-1576075500@historic.pratsdellucanes.cat
SUMMARY:Vane Gómez: Cal Bach
DESCRIPTION:
URL:https://historic.pratsdellucanes.cat/esdeveniment/vane-gomez-cal-bach-122/
CATEGORIES:Agenda de l'alcalde
END:VEVENT
BEGIN:VEVENT
DTSTART;TZID=Europe/Madrid:20191211T080000
DTEND;TZID=Europe/Madrid:20191211T083000
DTSTAMP:20260423T180819
CREATED:20190809T215313Z
LAST-MODIFIED:20191204T150703Z
UID:33360-1576051200-1576053000@historic.pratsdellucanes.cat
SUMMARY:Vane Gómez: Cal Bach
DESCRIPTION:
URL:https://historic.pratsdellucanes.cat/esdeveniment/vane-gomez-cal-bach-121/
CATEGORIES:Agenda de l'alcalde
END:VEVENT
BEGIN:VEVENT
DTSTART;TZID=Europe/Madrid:20191211T040000
DTEND;TZID=Europe/Madrid:20191211T060000
DTSTAMP:20260423T180819
CREATED:20180112T164939Z
LAST-MODIFIED:20190503T094759Z
UID:4935-1576036800-1576044000@historic.pratsdellucanes.cat
SUMMARY:Orgànica
DESCRIPTION:
URL:https://historic.pratsdellucanes.cat/esdeveniment/organica-326/
CATEGORIES:Recollida Porta a porta
END:VEVENT
BEGIN:VEVENT
DTSTART;TZID=Europe/Madrid:20191210T200000
DTEND;TZID=Europe/Madrid:20191210T220000
DTSTAMP:20260423T180819
CREATED:20190717T201844Z
LAST-MODIFIED:20191204T150702Z
UID:32605-1576008000-1576015200@historic.pratsdellucanes.cat
SUMMARY:Reunió de govern.
DESCRIPTION:
URL:https://historic.pratsdellucanes.cat/esdeveniment/reunio-de-govern-21/
LOCATION:Ajuntament de Prats de Lluçanès\, Passeig del Lluçanès\, 08513 Prats de Lluçanès\, Barcelona\, España
CATEGORIES:Agenda de l'alcalde
END:VEVENT
END:VCALENDAR