BEGIN:VCALENDAR
VERSION:2.0
PRODID:-//Ajuntament de Prats de Lluçanès - ECPv6.14.2//NONSGML v1.0//EN
CALSCALE:GREGORIAN
METHOD:PUBLISH
X-WR-CALNAME:Ajuntament de Prats de Lluçanès
X-ORIGINAL-URL:https://historic.pratsdellucanes.cat
X-WR-CALDESC:Esdeveniments per Ajuntament de Prats de Lluçanès
REFRESH-INTERVAL;VALUE=DURATION:PT1H
X-Robots-Tag:noindex
X-PUBLISHED-TTL:PT1H
BEGIN:VTIMEZONE
TZID:Europe/Madrid
BEGIN:DAYLIGHT
TZOFFSETFROM:+0100
TZOFFSETTO:+0200
TZNAME:CEST
DTSTART:20190331T010000
END:DAYLIGHT
BEGIN:STANDARD
TZOFFSETFROM:+0200
TZOFFSETTO:+0100
TZNAME:CET
DTSTART:20191027T010000
END:STANDARD
END:VTIMEZONE
BEGIN:VTIMEZONE
TZID:Europe/Helsinki
BEGIN:DAYLIGHT
TZOFFSETFROM:+0200
TZOFFSETTO:+0300
TZNAME:EEST
DTSTART:20190331T010000
END:DAYLIGHT
BEGIN:STANDARD
TZOFFSETFROM:+0300
TZOFFSETTO:+0200
TZNAME:EET
DTSTART:20191027T010000
END:STANDARD
END:VTIMEZONE
BEGIN:VEVENT
DTSTART;TZID=Europe/Madrid:20190917T080000
DTEND;TZID=Europe/Madrid:20190917T083000
DTSTAMP:20260424T093004
CREATED:20190809T215301Z
LAST-MODIFIED:20190917T040648Z
UID:33261-1568707200-1568709000@historic.pratsdellucanes.cat
SUMMARY:Vane Gómez: Cal Bach
DESCRIPTION:
URL:https://historic.pratsdellucanes.cat/esdeveniment/vane-gomez-cal-bach-23/
CATEGORIES:Agenda de l'alcalde
END:VEVENT
BEGIN:VEVENT
DTSTART;TZID=Europe/Madrid:20190917T040000
DTEND;TZID=Europe/Madrid:20190917T060000
DTSTAMP:20260424T093004
CREATED:20180112T164837Z
LAST-MODIFIED:20190503T094752Z
UID:4868-1568692800-1568700000@historic.pratsdellucanes.cat
SUMMARY:Multiproducte
DESCRIPTION:
URL:https://historic.pratsdellucanes.cat/esdeveniment/multiproducte-188/
CATEGORIES:Recollida Porta a porta
END:VEVENT
BEGIN:VEVENT
DTSTART;TZID=Europe/Madrid:20190916T140000
DTEND;TZID=Europe/Madrid:20190916T150000
DTSTAMP:20260424T093004
CREATED:20190906T030639Z
LAST-MODIFIED:20190916T040703Z
UID:34456-1568642400-1568646000@historic.pratsdellucanes.cat
SUMMARY:Vane Gómez: Cal Bach
DESCRIPTION:
URL:https://historic.pratsdellucanes.cat/esdeveniment/vane-gomez-cal-bach-499/
CATEGORIES:Agenda de l'alcalde
END:VEVENT
BEGIN:VEVENT
DTSTART;TZID=Europe/Madrid:20190916T134500
DTEND;TZID=Europe/Madrid:20190916T144500
DTSTAMP:20260424T093004
CREATED:20190809T215301Z
LAST-MODIFIED:20190905T025300Z
UID:33260-1568641500-1568645100@historic.pratsdellucanes.cat
SUMMARY:Vane Gómez: Cal Bach
DESCRIPTION:
URL:https://historic.pratsdellucanes.cat/esdeveniment/vane-gomez-cal-bach-22/
CATEGORIES:Agenda de l'alcalde
END:VEVENT
BEGIN:VEVENT
DTSTART;TZID=Europe/Madrid:20190916T080000
DTEND;TZID=Europe/Madrid:20190916T083000
DTSTAMP:20260424T093004
CREATED:20190809T215301Z
LAST-MODIFIED:20190916T040703Z
UID:33259-1568620800-1568622600@historic.pratsdellucanes.cat
SUMMARY:Vane Gómez: Cal Bach
DESCRIPTION:
URL:https://historic.pratsdellucanes.cat/esdeveniment/vane-gomez-cal-bach-21/
CATEGORIES:Agenda de l'alcalde
END:VEVENT
BEGIN:VEVENT
DTSTART;TZID=Europe/Madrid:20190916T040000
DTEND;TZID=Europe/Madrid:20190916T060000
DTSTAMP:20260424T093004
CREATED:20180112T164835Z
LAST-MODIFIED:20190503T094751Z
UID:4867-1568606400-1568613600@historic.pratsdellucanes.cat
SUMMARY:Orgànica
DESCRIPTION:
URL:https://historic.pratsdellucanes.cat/esdeveniment/organica-289/
CATEGORIES:Recollida Porta a porta
END:VEVENT
BEGIN:VEVENT
DTSTART;TZID=Europe/Madrid:20190915T110000
DTEND;TZID=Europe/Madrid:20190915T120000
DTSTAMP:20260424T093004
CREATED:20190908T030739Z
LAST-MODIFIED:20190915T035215Z
UID:34996-1568545200-1568548800@historic.pratsdellucanes.cat
SUMMARY:Montse Juvanteny. Parada projecte hort social
DESCRIPTION:
URL:https://historic.pratsdellucanes.cat/esdeveniment/montse-juvanteny-parada-projecte-hort-social/
LOCATION:Carrer del Mercat\, 08513 Prats de Lluçanès\, Barcelona\, Espanya
CATEGORIES:Agenda de l'alcalde
END:VEVENT
BEGIN:VEVENT
DTSTART;TZID=Europe/Madrid:20190915T080000
DTEND;TZID=Europe/Madrid:20190915T140000
DTSTAMP:20260424T093004
CREATED:20180115T171124Z
LAST-MODIFIED:20190915T040715Z
UID:5349-1568534400-1568556000@historic.pratsdellucanes.cat
SUMMARY:Mercat dominical i comerços oberts fins al migdia
DESCRIPTION:
URL:https://historic.pratsdellucanes.cat/esdeveniment/mercat-dominical-i-comercos-oberts-fins-al-migdia-87/
CATEGORIES:Agenda
END:VEVENT
BEGIN:VEVENT
DTSTART;TZID=Europe/Madrid:20190914T040000
DTEND;TZID=Europe/Madrid:20190914T060000
DTSTAMP:20260424T093004
CREATED:20180112T164835Z
LAST-MODIFIED:20190503T094751Z
UID:4866-1568433600-1568440800@historic.pratsdellucanes.cat
SUMMARY:Orgànica
DESCRIPTION:
URL:https://historic.pratsdellucanes.cat/esdeveniment/organica-288/
CATEGORIES:Recollida Porta a porta
END:VEVENT
BEGIN:VEVENT
DTSTART;TZID=Europe/Madrid:20190913T150000
DTEND;TZID=Europe/Madrid:20190913T160000
DTSTAMP:20260424T093004
CREATED:20190913T035211Z
LAST-MODIFIED:20190913T035211Z
UID:35046-1568386800-1568390400@historic.pratsdellucanes.cat
SUMMARY:Montse Juvanteny - Reunió Tocats pel bolt
DESCRIPTION:
URL:https://historic.pratsdellucanes.cat/esdeveniment/montse-juvanteny-reunio-tocats-pel-bolt/
CATEGORIES:Agenda de l'alcalde
END:VEVENT
BEGIN:VEVENT
DTSTART;TZID=Europe/Madrid:20190913T040000
DTEND;TZID=Europe/Madrid:20190913T060000
DTSTAMP:20260424T093004
CREATED:20180112T164834Z
LAST-MODIFIED:20190503T094751Z
UID:4865-1568347200-1568354400@historic.pratsdellucanes.cat
SUMMARY:Multiproducte
DESCRIPTION:
URL:https://historic.pratsdellucanes.cat/esdeveniment/multiproducte-187/
CATEGORIES:Recollida Porta a porta
END:VEVENT
BEGIN:VEVENT
DTSTART;TZID=Europe/Madrid:20190912T140000
DTEND;TZID=Europe/Madrid:20190912T150000
DTSTAMP:20260424T093004
CREATED:20190906T030639Z
LAST-MODIFIED:20190911T033829Z
UID:34455-1568296800-1568300400@historic.pratsdellucanes.cat
SUMMARY:Vane Gómez: Cal Bach
DESCRIPTION:
URL:https://historic.pratsdellucanes.cat/esdeveniment/vane-gomez-cal-bach-498/
CATEGORIES:Agenda de l'alcalde
END:VEVENT
BEGIN:VEVENT
DTSTART;TZID=Europe/Madrid:20190912T134500
DTEND;TZID=Europe/Madrid:20190912T144500
DTSTAMP:20260424T093004
CREATED:20190809T215301Z
LAST-MODIFIED:20190905T025300Z
UID:33258-1568295900-1568299500@historic.pratsdellucanes.cat
SUMMARY:Vane Gómez: Cal Bach
DESCRIPTION:
URL:https://historic.pratsdellucanes.cat/esdeveniment/vane-gomez-cal-bach-20/
CATEGORIES:Agenda de l'alcalde
END:VEVENT
BEGIN:VEVENT
DTSTART;TZID=Europe/Madrid:20190912T100000
DTEND;TZID=Europe/Madrid:20190912T110000
DTSTAMP:20260424T093004
CREATED:20190903T022412Z
LAST-MODIFIED:20190911T033829Z
UID:34401-1568282400-1568286000@historic.pratsdellucanes.cat
SUMMARY:Ferran Chacón - Reunió habitatge Consorci
DESCRIPTION:
URL:https://historic.pratsdellucanes.cat/esdeveniment/ferran-chacon-reunio-habitatge-consorci/
CATEGORIES:Agenda de l'alcalde
END:VEVENT
BEGIN:VEVENT
DTSTART;TZID=Europe/Madrid:20190912T080000
DTEND;TZID=Europe/Madrid:20190912T083000
DTSTAMP:20260424T093004
CREATED:20190809T215301Z
LAST-MODIFIED:20190911T033829Z
UID:33257-1568275200-1568277000@historic.pratsdellucanes.cat
SUMMARY:Vane Gómez: Cal Bach
DESCRIPTION:
URL:https://historic.pratsdellucanes.cat/esdeveniment/vane-gomez-cal-bach-19/
CATEGORIES:Agenda de l'alcalde
END:VEVENT
BEGIN:VEVENT
DTSTART;TZID=Europe/Madrid:20190911T193000
DTEND;TZID=Europe/Madrid:20190911T210000
DTSTAMP:20260424T093004
CREATED:20190717T201841Z
LAST-MODIFIED:20190911T033829Z
UID:32580-1568230200-1568235600@historic.pratsdellucanes.cat
SUMMARY:Jordi Batriu.
DESCRIPTION:Reunió de treball amb tècnics i regidors.
URL:https://historic.pratsdellucanes.cat/esdeveniment/jordi-batriu-9/
LOCATION:cal bach
CATEGORIES:Agenda de l'alcalde
END:VEVENT
BEGIN:VEVENT
DTSTART;TZID=Europe/Madrid:20190911T153000
DTEND;TZID=Europe/Madrid:20190911T163000
DTSTAMP:20260424T093004
CREATED:20180421T092752Z
LAST-MODIFIED:20190615T195138Z
UID:8729-1568215800-1568219400@historic.pratsdellucanes.cat
SUMMARY:Urbanisme.
DESCRIPTION:Equip d’urbanisme. Glòria B.
URL:https://historic.pratsdellucanes.cat/esdeveniment/urbanisme-74/
CATEGORIES:Agenda política
END:VEVENT
BEGIN:VEVENT
DTSTART;TZID=Europe/Madrid:20190911T140000
DTEND;TZID=Europe/Madrid:20190911T150000
DTSTAMP:20260424T093004
CREATED:20190906T030638Z
LAST-MODIFIED:20190911T033829Z
UID:34454-1568210400-1568214000@historic.pratsdellucanes.cat
SUMMARY:Vane Gómez: Cal Bach
DESCRIPTION:
URL:https://historic.pratsdellucanes.cat/esdeveniment/vane-gomez-cal-bach-497/
CATEGORIES:Agenda de l'alcalde
END:VEVENT
BEGIN:VEVENT
DTSTART;TZID=Europe/Madrid:20190911T134500
DTEND;TZID=Europe/Madrid:20190911T144500
DTSTAMP:20260424T093004
CREATED:20190809T215301Z
LAST-MODIFIED:20190905T025300Z
UID:33256-1568209500-1568213100@historic.pratsdellucanes.cat
SUMMARY:Vane Gómez: Cal Bach
DESCRIPTION:
URL:https://historic.pratsdellucanes.cat/esdeveniment/vane-gomez-cal-bach-18/
CATEGORIES:Agenda de l'alcalde
END:VEVENT
BEGIN:VEVENT
DTSTART;TZID=Europe/Helsinki:20190911T110000
DTEND;TZID=Europe/Helsinki:20190911T123000
DTSTAMP:20260424T093004
CREATED:20190827T100154Z
LAST-MODIFIED:20190904T081219Z
UID:34346-1568199600-1568205000@historic.pratsdellucanes.cat
SUMMARY:Diada Nacional de Catalunya a Prats
DESCRIPTION:
URL:https://historic.pratsdellucanes.cat/esdeveniment/diada-nacional-de-catalunya/
CATEGORIES:Agenda
ATTACH;FMTTYPE=image/jpeg:https://historic.pratsdellucanes.cat/wp-content/uploads/2019/09/CARTELL_11S_2019-1.jpg
END:VEVENT
BEGIN:VEVENT
DTSTART;TZID=Europe/Madrid:20190911T080000
DTEND;TZID=Europe/Madrid:20190911T083000
DTSTAMP:20260424T093004
CREATED:20190809T215301Z
LAST-MODIFIED:20190911T033828Z
UID:33255-1568188800-1568190600@historic.pratsdellucanes.cat
SUMMARY:Vane Gómez: Cal Bach
DESCRIPTION:
URL:https://historic.pratsdellucanes.cat/esdeveniment/vane-gomez-cal-bach-17/
CATEGORIES:Agenda de l'alcalde
END:VEVENT
BEGIN:VEVENT
DTSTART;TZID=Europe/Madrid:20190911T040000
DTEND;TZID=Europe/Madrid:20190911T060000
DTSTAMP:20260424T093004
CREATED:20180112T164833Z
LAST-MODIFIED:20190503T094751Z
UID:4864-1568174400-1568181600@historic.pratsdellucanes.cat
SUMMARY:Orgànica
DESCRIPTION:
URL:https://historic.pratsdellucanes.cat/esdeveniment/organica-287/
CATEGORIES:Recollida Porta a porta
END:VEVENT
BEGIN:VEVENT
DTSTART;TZID=Europe/Madrid:20190910T200000
DTEND;TZID=Europe/Madrid:20190910T220000
DTSTAMP:20260424T093004
CREATED:20190717T201841Z
LAST-MODIFIED:20190910T032229Z
UID:32579-1568145600-1568152800@historic.pratsdellucanes.cat
SUMMARY:Reunió de govern.
DESCRIPTION:
URL:https://historic.pratsdellucanes.cat/esdeveniment/reunio-de-govern-8/
LOCATION:Ajuntament de Prats de Lluçanès\, Passeig del Lluçanès\, 08513 Prats de Lluçanès\, Barcelona\, España
CATEGORIES:Agenda de l'alcalde
END:VEVENT
BEGIN:VEVENT
DTSTART;TZID=Europe/Madrid:20190910T160000
DTEND;TZID=Europe/Madrid:20190910T170000
DTSTAMP:20260424T093004
CREATED:20180116T101502Z
LAST-MODIFIED:20180116T101502Z
UID:5745-1568131200-1568134800@historic.pratsdellucanes.cat
SUMMARY:Junta de Govern
DESCRIPTION:
URL:https://historic.pratsdellucanes.cat/esdeveniment/junta-de-govern-47/
CATEGORIES:Agenda política
END:VEVENT
BEGIN:VEVENT
DTSTART;TZID=Europe/Madrid:20190910T160000
DTEND;TZID=Europe/Madrid:20190910T163000
DTSTAMP:20260424T093004
CREATED:20180529T113818Z
LAST-MODIFIED:20180822T141816Z
UID:12506-1568131200-1568133000@historic.pratsdellucanes.cat
SUMMARY:Junta de Govern
DESCRIPTION:Montse Juvanteny\, Anna Plans\, Glòria Borralleras\, Laia Font\, Montse Perarnau i Isaac Peraire
URL:https://historic.pratsdellucanes.cat/esdeveniment/junta-de-govern-145/
LOCATION:cal bach
CATEGORIES:Agenda política
END:VEVENT
BEGIN:VEVENT
DTSTART;TZID=Europe/Madrid:20190910T150000
DTEND;TZID=Europe/Madrid:20190910T160000
DTSTAMP:20260424T093004
CREATED:20190908T030738Z
LAST-MODIFIED:20190910T032229Z
UID:34994-1568127600-1568131200@historic.pratsdellucanes.cat
SUMMARY:Montse Juvanteny. Reunió Centre de dia
DESCRIPTION:
URL:https://historic.pratsdellucanes.cat/esdeveniment/montse-juvanteny-reunio-centre-de-dia-3/
CATEGORIES:Agenda de l'alcalde
END:VEVENT
BEGIN:VEVENT
DTSTART;TZID=Europe/Madrid:20190910T140000
DTEND;TZID=Europe/Madrid:20190910T150000
DTSTAMP:20260424T093004
CREATED:20190906T030638Z
LAST-MODIFIED:20190910T032229Z
UID:34453-1568124000-1568127600@historic.pratsdellucanes.cat
SUMMARY:Vane Gómez: Cal Bach
DESCRIPTION:
URL:https://historic.pratsdellucanes.cat/esdeveniment/vane-gomez-cal-bach-496/
CATEGORIES:Agenda de l'alcalde
END:VEVENT
BEGIN:VEVENT
DTSTART;TZID=Europe/Madrid:20190910T134500
DTEND;TZID=Europe/Madrid:20190910T144500
DTSTAMP:20260424T093004
CREATED:20190809T215301Z
LAST-MODIFIED:20190905T025300Z
UID:33254-1568123100-1568126700@historic.pratsdellucanes.cat
SUMMARY:Vane Gómez: Cal Bach
DESCRIPTION:
URL:https://historic.pratsdellucanes.cat/esdeveniment/vane-gomez-cal-bach-16/
CATEGORIES:Agenda de l'alcalde
END:VEVENT
BEGIN:VEVENT
DTSTART;TZID=Europe/Madrid:20190910T080000
DTEND;TZID=Europe/Madrid:20190910T083000
DTSTAMP:20260424T093004
CREATED:20190809T215300Z
LAST-MODIFIED:20190910T032228Z
UID:33253-1568102400-1568104200@historic.pratsdellucanes.cat
SUMMARY:Vane Gómez: Cal Bach
DESCRIPTION:
URL:https://historic.pratsdellucanes.cat/esdeveniment/vane-gomez-cal-bach-15/
CATEGORIES:Agenda de l'alcalde
END:VEVENT
BEGIN:VEVENT
DTSTART;TZID=Europe/Madrid:20190910T040000
DTEND;TZID=Europe/Madrid:20190910T060000
DTSTAMP:20260424T093004
CREATED:20180112T164833Z
LAST-MODIFIED:20190503T094751Z
UID:4863-1568088000-1568095200@historic.pratsdellucanes.cat
SUMMARY:Multiproducte
DESCRIPTION:
URL:https://historic.pratsdellucanes.cat/esdeveniment/multiproducte-186/
CATEGORIES:Recollida Porta a porta
END:VEVENT
END:VCALENDAR