BEGIN:VCALENDAR
VERSION:2.0
PRODID:-//Ajuntament de Prats de Lluçanès - ECPv6.14.2//NONSGML v1.0//EN
CALSCALE:GREGORIAN
METHOD:PUBLISH
X-WR-CALNAME:Ajuntament de Prats de Lluçanès
X-ORIGINAL-URL:https://historic.pratsdellucanes.cat
X-WR-CALDESC:Esdeveniments per Ajuntament de Prats de Lluçanès
REFRESH-INTERVAL;VALUE=DURATION:PT1H
X-Robots-Tag:noindex
X-PUBLISHED-TTL:PT1H
BEGIN:VTIMEZONE
TZID:Europe/Madrid
BEGIN:DAYLIGHT
TZOFFSETFROM:+0100
TZOFFSETTO:+0200
TZNAME:CEST
DTSTART:20190331T010000
END:DAYLIGHT
BEGIN:STANDARD
TZOFFSETFROM:+0200
TZOFFSETTO:+0100
TZNAME:CET
DTSTART:20191027T010000
END:STANDARD
END:VTIMEZONE
BEGIN:VTIMEZONE
TZID:Europe/Helsinki
BEGIN:DAYLIGHT
TZOFFSETFROM:+0200
TZOFFSETTO:+0300
TZNAME:EEST
DTSTART:20190331T010000
END:DAYLIGHT
BEGIN:STANDARD
TZOFFSETFROM:+0300
TZOFFSETTO:+0200
TZNAME:EET
DTSTART:20191027T010000
END:STANDARD
END:VTIMEZONE
BEGIN:VEVENT
DTSTART;TZID=Europe/Madrid:20190814T100000
DTEND;TZID=Europe/Madrid:20190814T110000
DTSTAMP:20260424T130048
CREATED:20190814T230844Z
LAST-MODIFIED:20190814T230844Z
UID:34237-1565776800-1565780400@historic.pratsdellucanes.cat
SUMMARY:Vane Gómez: Agència Catalana de Residus
DESCRIPTION:
URL:https://historic.pratsdellucanes.cat/esdeveniment/vane-gomez-agencia-catalana-de-residus/
CATEGORIES:Agenda de l'alcalde
END:VEVENT
BEGIN:VEVENT
DTSTART;TZID=Europe/Madrid:20190814T083000
DTEND;TZID=Europe/Madrid:20190814T100000
DTSTAMP:20260424T130048
CREATED:20190814T230843Z
LAST-MODIFIED:20190814T230843Z
UID:34236-1565771400-1565776800@historic.pratsdellucanes.cat
SUMMARY:Vane Gómez: Cal Bach
DESCRIPTION:
URL:https://historic.pratsdellucanes.cat/esdeveniment/vane-gomez-cal-bach-483/
CATEGORIES:Agenda de l'alcalde
END:VEVENT
BEGIN:VEVENT
DTSTART;TZID=Europe/Madrid:20190814T040000
DTEND;TZID=Europe/Madrid:20190814T060000
DTSTAMP:20260424T130048
CREATED:20180112T164811Z
LAST-MODIFIED:20190503T094749Z
UID:4842-1565755200-1565762400@historic.pratsdellucanes.cat
SUMMARY:Orgànica
DESCRIPTION:
URL:https://historic.pratsdellucanes.cat/esdeveniment/organica-275/
CATEGORIES:Recollida Porta a porta
END:VEVENT
BEGIN:VEVENT
DTSTART;TZID=Europe/Madrid:20190813T200000
DTEND;TZID=Europe/Madrid:20190813T220000
DTSTAMP:20260424T130048
CREATED:20190717T201840Z
LAST-MODIFIED:20190813T225317Z
UID:32571-1565726400-1565733600@historic.pratsdellucanes.cat
SUMMARY:Reunió de govern.
DESCRIPTION:
URL:https://historic.pratsdellucanes.cat/esdeveniment/reunio-de-govern-4/
LOCATION:Ajuntament de Prats de Lluçanès\, Passeig del Lluçanès\, 08513 Prats de Lluçanès\, Barcelona\, España
CATEGORIES:Agenda de l'alcalde
END:VEVENT
BEGIN:VEVENT
DTSTART;TZID=Europe/Madrid:20190813T160000
DTEND;TZID=Europe/Madrid:20190813T170000
DTSTAMP:20260424T130048
CREATED:20180116T101452Z
LAST-MODIFIED:20180116T101452Z
UID:5731-1565712000-1565715600@historic.pratsdellucanes.cat
SUMMARY:Junta de Govern
DESCRIPTION:
URL:https://historic.pratsdellucanes.cat/esdeveniment/junta-de-govern-45/
CATEGORIES:Agenda política
END:VEVENT
BEGIN:VEVENT
DTSTART;TZID=Europe/Madrid:20190813T160000
DTEND;TZID=Europe/Madrid:20190813T163000
DTSTAMP:20260424T130048
CREATED:20180529T113632Z
LAST-MODIFIED:20180822T141726Z
UID:12504-1565712000-1565713800@historic.pratsdellucanes.cat
SUMMARY:Junta de Govern
DESCRIPTION:Montse Juvanteny\, Anna Plans\, Glòria Borralleras\, Laia Font\, Montse Perarnau i Isaac Peraire
URL:https://historic.pratsdellucanes.cat/esdeveniment/junta-de-govern-143/
LOCATION:cal bach
CATEGORIES:Agenda política
END:VEVENT
BEGIN:VEVENT
DTSTART;TZID=Europe/Madrid:20190813T110000
DTEND;TZID=Europe/Madrid:20190813T140000
DTSTAMP:20260424T130048
CREATED:20190813T225317Z
LAST-MODIFIED:20190813T225317Z
UID:34231-1565694000-1565704800@historic.pratsdellucanes.cat
SUMMARY:Vane Gómez: Montse Pedrisa
DESCRIPTION:
URL:https://historic.pratsdellucanes.cat/esdeveniment/vane-gomez-montse-pedrisa/
CATEGORIES:Agenda de l'alcalde
END:VEVENT
BEGIN:VEVENT
DTSTART;TZID=Europe/Madrid:20190813T090000
DTEND;TZID=Europe/Madrid:20190813T110000
DTSTAMP:20260424T130048
CREATED:20190809T215259Z
LAST-MODIFIED:20190813T225316Z
UID:33242-1565686800-1565694000@historic.pratsdellucanes.cat
SUMMARY:Vane Gómez: Reunió Paco
DESCRIPTION:
URL:https://historic.pratsdellucanes.cat/esdeveniment/vane-gomez-reunio-paco-2/
CATEGORIES:Agenda de l'alcalde
END:VEVENT
BEGIN:VEVENT
DTSTART;TZID=Europe/Madrid:20190813T080000
DTEND;TZID=Europe/Madrid:20190813T090000
DTSTAMP:20260424T130048
CREATED:20190813T225316Z
LAST-MODIFIED:20190813T225316Z
UID:34230-1565683200-1565686800@historic.pratsdellucanes.cat
SUMMARY:Vane Gómez: Reunió Mireia
DESCRIPTION:
URL:https://historic.pratsdellucanes.cat/esdeveniment/vane-gomez-reunio-mireia/
CATEGORIES:Agenda de l'alcalde
END:VEVENT
BEGIN:VEVENT
DTSTART;TZID=Europe/Madrid:20190813T040000
DTEND;TZID=Europe/Madrid:20190813T060000
DTSTAMP:20260424T130048
CREATED:20180112T164811Z
LAST-MODIFIED:20190503T094749Z
UID:4841-1565668800-1565676000@historic.pratsdellucanes.cat
SUMMARY:Multiproducte
DESCRIPTION:
URL:https://historic.pratsdellucanes.cat/esdeveniment/multiproducte-178/
CATEGORIES:Recollida Porta a porta
END:VEVENT
BEGIN:VEVENT
DTSTART;TZID=Europe/Madrid:20190812T040000
DTEND;TZID=Europe/Madrid:20190812T060000
DTSTAMP:20260424T130048
CREATED:20180112T164811Z
LAST-MODIFIED:20190503T094749Z
UID:4840-1565582400-1565589600@historic.pratsdellucanes.cat
SUMMARY:Orgànica
DESCRIPTION:
URL:https://historic.pratsdellucanes.cat/esdeveniment/organica-274/
CATEGORIES:Recollida Porta a porta
END:VEVENT
BEGIN:VEVENT
DTSTART;TZID=Europe/Madrid:20190811T080000
DTEND;TZID=Europe/Madrid:20190811T140000
DTSTAMP:20260424T130048
CREATED:20180115T171121Z
LAST-MODIFIED:20190811T005534Z
UID:5344-1565510400-1565532000@historic.pratsdellucanes.cat
SUMMARY:Mercat dominical i comerços oberts fins al migdia
DESCRIPTION:
URL:https://historic.pratsdellucanes.cat/esdeveniment/mercat-dominical-i-comercos-oberts-fins-al-migdia-82/
CATEGORIES:Agenda
END:VEVENT
BEGIN:VEVENT
DTSTART;TZID=Europe/Madrid:20190810T040000
DTEND;TZID=Europe/Madrid:20190810T060000
DTSTAMP:20260424T130048
CREATED:20180112T164810Z
LAST-MODIFIED:20190503T094749Z
UID:4839-1565409600-1565416800@historic.pratsdellucanes.cat
SUMMARY:Orgànica
DESCRIPTION:
URL:https://historic.pratsdellucanes.cat/esdeveniment/organica-273/
CATEGORIES:Recollida Porta a porta
END:VEVENT
BEGIN:VEVENT
DTSTART;TZID=Europe/Helsinki:20190809T200000
DTEND;TZID=Europe/Helsinki:20190809T230000
DTSTAMP:20260424T130048
CREATED:20190619T073737Z
LAST-MODIFIED:20190708T075233Z
UID:32210-1565380800-1565391600@historic.pratsdellucanes.cat
SUMMARY:Fes-te l'Agost 2019
DESCRIPTION:
URL:https://historic.pratsdellucanes.cat/esdeveniment/fes-te-lagost-2019-2/
CATEGORIES:Agenda
ATTACH;FMTTYPE=image/jpeg:https://historic.pratsdellucanes.cat/wp-content/uploads/2019/06/CARTELL_FESTE_LAGOST_2019.jpg
END:VEVENT
BEGIN:VEVENT
DTSTART;TZID=Europe/Madrid:20190809T110000
DTEND;TZID=Europe/Madrid:20190809T130000
DTSTAMP:20260424T130048
CREATED:20190809T215259Z
LAST-MODIFIED:20190809T215259Z
UID:33241-1565348400-1565355600@historic.pratsdellucanes.cat
SUMMARY:Vane Gómez: Cal Bach
DESCRIPTION:
URL:https://historic.pratsdellucanes.cat/esdeveniment/vane-gomez-cal-bach-4/
CATEGORIES:Agenda de l'alcalde
END:VEVENT
BEGIN:VEVENT
DTSTART;TZID=Europe/Madrid:20190809T110000
DTEND;TZID=Europe/Madrid:20190809T123000
DTSTAMP:20260424T130048
CREATED:20180116T101451Z
LAST-MODIFIED:20190606T183905Z
UID:5730-1565348400-1565353800@historic.pratsdellucanes.cat
SUMMARY:Mediambient. Reunió d'equip. Tècnic i Glòria Borralleras
DESCRIPTION:
URL:https://historic.pratsdellucanes.cat/esdeveniment/mediambient-reunio-dequip-tecnic-i-gloria-borralleras-84/
LOCATION:Ajuntament de Prats de Lluçanès\, Cal Bach\, Passeig Lluçanes\, s/n\, 08513 Prats de Llusanés\, Barcelona\, Espanya
CATEGORIES:Agenda política
END:VEVENT
BEGIN:VEVENT
DTSTART;TZID=Europe/Madrid:20190809T090000
DTEND;TZID=Europe/Madrid:20190809T100000
DTSTAMP:20260424T130048
CREATED:20180116T101451Z
LAST-MODIFIED:20190615T195137Z
UID:5729-1565341200-1565344800@historic.pratsdellucanes.cat
SUMMARY:Reunió Brigada
DESCRIPTION:Montse Perarnau
URL:https://historic.pratsdellucanes.cat/esdeveniment/reunio-brigada-86/
LOCATION:Ajuntament de Prats de Lluçanès\, Cal Bach\, Passeig Lluçanes\, s/n\, 08513 Prats de Llusanés\, Barcelona\, Espanya
CATEGORIES:Agenda política
END:VEVENT
BEGIN:VEVENT
DTSTART;TZID=Europe/Madrid:20190809T040000
DTEND;TZID=Europe/Madrid:20190809T060000
DTSTAMP:20260424T130048
CREATED:20180112T164810Z
LAST-MODIFIED:20190503T094749Z
UID:4838-1565323200-1565330400@historic.pratsdellucanes.cat
SUMMARY:Multiproducte
DESCRIPTION:
URL:https://historic.pratsdellucanes.cat/esdeveniment/multiproducte-177/
CATEGORIES:Recollida Porta a porta
END:VEVENT
BEGIN:VEVENT
DTSTART;TZID=Europe/Madrid:20190808T130000
DTEND;TZID=Europe/Madrid:20190808T140000
DTSTAMP:20260424T130048
CREATED:20190808T215228Z
LAST-MODIFIED:20190808T215228Z
UID:33227-1565269200-1565272800@historic.pratsdellucanes.cat
SUMMARY:Ferran Chacón\, Cal Bach
DESCRIPTION:
URL:https://historic.pratsdellucanes.cat/esdeveniment/ferran-chacon-cal-bach-3/
CATEGORIES:Agenda de l'alcalde
END:VEVENT
BEGIN:VEVENT
DTSTART;TZID=Europe/Madrid:20190808T040000
DTEND;TZID=Europe/Madrid:20190808T060000
DTSTAMP:20260424T130048
CREATED:20180112T164807Z
LAST-MODIFIED:20190503T094749Z
UID:4837-1565236800-1565244000@historic.pratsdellucanes.cat
SUMMARY:Rebuig
DESCRIPTION:
URL:https://historic.pratsdellucanes.cat/esdeveniment/rebuig-45/
CATEGORIES:Recollida Porta a porta
END:VEVENT
BEGIN:VEVENT
DTSTART;TZID=Europe/Madrid:20190807T193000
DTEND;TZID=Europe/Madrid:20190807T210000
DTSTAMP:20260424T130048
CREATED:20190717T201840Z
LAST-MODIFIED:20190807T215159Z
UID:32570-1565206200-1565211600@historic.pratsdellucanes.cat
SUMMARY:Jordi Batriu.
DESCRIPTION:Reunió de treball amb tècnics i regidors.
URL:https://historic.pratsdellucanes.cat/esdeveniment/jordi-batriu-4/
LOCATION:cal bach
CATEGORIES:Agenda de l'alcalde
END:VEVENT
BEGIN:VEVENT
DTSTART;TZID=Europe/Madrid:20190807T183000
DTEND;TZID=Europe/Madrid:20190807T193000
DTSTAMP:20260424T130048
CREATED:20190807T215159Z
LAST-MODIFIED:20190807T215159Z
UID:33220-1565202600-1565206200@historic.pratsdellucanes.cat
SUMMARY:Vane Gómez: Reunió Isaac Peraire > Traspàs Hisenda
DESCRIPTION:
URL:https://historic.pratsdellucanes.cat/esdeveniment/vane-gomez-reunio-isaac-peraire-traspas-hisenda/
CATEGORIES:Agenda de l'alcalde
END:VEVENT
BEGIN:VEVENT
DTSTART;TZID=Europe/Madrid:20190807T180000
DTEND;TZID=Europe/Madrid:20190807T190000
DTSTAMP:20260424T130048
CREATED:20190807T215159Z
LAST-MODIFIED:20190807T215159Z
UID:33219-1565200800-1565204400@historic.pratsdellucanes.cat
SUMMARY:Ferran Chacón\, traspàs regidories amb Isaac Peraire
DESCRIPTION:
URL:https://historic.pratsdellucanes.cat/esdeveniment/ferran-chacon-traspas-regidories-amb-isaac-peraire/
CATEGORIES:Agenda de l'alcalde
END:VEVENT
BEGIN:VEVENT
DTSTART;TZID=Europe/Madrid:20190807T160000
DTEND;TZID=Europe/Madrid:20190807T180000
DTSTAMP:20260424T130048
CREATED:20190807T215158Z
LAST-MODIFIED:20190807T215158Z
UID:33218-1565193600-1565200800@historic.pratsdellucanes.cat
SUMMARY:Vane Gómez: Reunió amb RRO
DESCRIPTION:
URL:https://historic.pratsdellucanes.cat/esdeveniment/vane-gomez-reunio-amb-rro/
CATEGORIES:Agenda de l'alcalde
END:VEVENT
BEGIN:VEVENT
DTSTART;TZID=Europe/Madrid:20190807T153000
DTEND;TZID=Europe/Madrid:20190807T163000
DTSTAMP:20260424T130048
CREATED:20180421T092716Z
LAST-MODIFIED:20190615T195137Z
UID:8707-1565191800-1565195400@historic.pratsdellucanes.cat
SUMMARY:Urbanisme.
DESCRIPTION:Equip d’urbanisme. Glòria B.
URL:https://historic.pratsdellucanes.cat/esdeveniment/urbanisme-69/
CATEGORIES:Agenda política
END:VEVENT
BEGIN:VEVENT
DTSTART;TZID=Europe/Madrid:20190807T040000
DTEND;TZID=Europe/Madrid:20190807T060000
DTSTAMP:20260424T130048
CREATED:20180112T164806Z
LAST-MODIFIED:20190503T094749Z
UID:4836-1565150400-1565157600@historic.pratsdellucanes.cat
SUMMARY:Orgànica
DESCRIPTION:
URL:https://historic.pratsdellucanes.cat/esdeveniment/organica-272/
CATEGORIES:Recollida Porta a porta
END:VEVENT
BEGIN:VEVENT
DTSTART;TZID=Europe/Madrid:20190806T203000
DTEND;TZID=Europe/Madrid:20190806T213000
DTSTAMP:20260424T130048
CREATED:20180421T092715Z
LAST-MODIFIED:20180829T142013Z
UID:8706-1565123400-1565127000@historic.pratsdellucanes.cat
SUMMARY:Reunió equip de Govern
DESCRIPTION:Montse Juvanteny\, Anna Plans\, Glòria Borralleras\, Laia Font\, Montse Perarnau i Isaac Peraire
URL:https://historic.pratsdellucanes.cat/esdeveniment/reunio-equip-de-govern-178/
LOCATION:Ajuntament de Prats de Lluçanès\, Cal Bach\, Passeig Lluçanes\, s/n\, 08513 Prats de Llusanés\, Barcelona\, Espanya
CATEGORIES:Agenda política
END:VEVENT
BEGIN:VEVENT
DTSTART;TZID=Europe/Madrid:20190806T200000
DTEND;TZID=Europe/Madrid:20190806T220000
DTSTAMP:20260424T130048
CREATED:20190717T201839Z
LAST-MODIFIED:20190805T213644Z
UID:32569-1565121600-1565128800@historic.pratsdellucanes.cat
SUMMARY:Reunió de govern.
DESCRIPTION:
URL:https://historic.pratsdellucanes.cat/esdeveniment/reunio-de-govern-3/
LOCATION:Ajuntament de Prats de Lluçanès\, Passeig del Lluçanès\, 08513 Prats de Lluçanès\, Barcelona\, España
CATEGORIES:Agenda de l'alcalde
END:VEVENT
BEGIN:VEVENT
DTSTART;TZID=Europe/Madrid:20190806T190000
DTEND;TZID=Europe/Madrid:20190806T200000
DTSTAMP:20260424T130048
CREATED:20180116T101451Z
LAST-MODIFIED:20180116T101451Z
UID:5728-1565118000-1565121600@historic.pratsdellucanes.cat
SUMMARY:Reunió equip de Govern
DESCRIPTION:
URL:https://historic.pratsdellucanes.cat/esdeveniment/reunio-equip-de-govern-87/
LOCATION:Ajuntament de Prats de Lluçanès\, Cal Bach\, Passeig Lluçanes\, s/n\, 08513 Prats de Llusanés\, Barcelona\, Espanya
CATEGORIES:Agenda política
END:VEVENT
BEGIN:VEVENT
DTSTART;TZID=Europe/Madrid:20190806T180000
DTEND;TZID=Europe/Madrid:20190806T193000
DTSTAMP:20260424T130048
CREATED:20180830T142000Z
LAST-MODIFIED:20190617T202211Z
UID:18289-1565114400-1565119800@historic.pratsdellucanes.cat
SUMMARY:Reunió equip de Govern
DESCRIPTION:Montse Juvanteny\, Anna Plans\, Glòria Borralleras\, Laia Font\, Montse Perarnau i Isaac Peraire
URL:https://historic.pratsdellucanes.cat/esdeveniment/reunio-equip-de-govern-283/
LOCATION:Ajuntament de Prats de Lluçanès\, Cal Bach\, Passeig Lluçanes\, s/n\, 08513 Prats de Llusanés\, Barcelona\, Espanya
CATEGORIES:Agenda política
END:VEVENT
END:VCALENDAR