BEGIN:VCALENDAR
VERSION:2.0
PRODID:-//Ajuntament de Prats de Lluçanès - ECPv6.14.2//NONSGML v1.0//EN
CALSCALE:GREGORIAN
METHOD:PUBLISH
X-WR-CALNAME:Ajuntament de Prats de Lluçanès
X-ORIGINAL-URL:https://historic.pratsdellucanes.cat
X-WR-CALDESC:Esdeveniments per Ajuntament de Prats de Lluçanès
REFRESH-INTERVAL;VALUE=DURATION:PT1H
X-Robots-Tag:noindex
X-PUBLISHED-TTL:PT1H
BEGIN:VTIMEZONE
TZID:Europe/Helsinki
BEGIN:DAYLIGHT
TZOFFSETFROM:+0200
TZOFFSETTO:+0300
TZNAME:EEST
DTSTART:20190331T010000
END:DAYLIGHT
BEGIN:STANDARD
TZOFFSETFROM:+0300
TZOFFSETTO:+0200
TZNAME:EET
DTSTART:20191027T010000
END:STANDARD
END:VTIMEZONE
BEGIN:VTIMEZONE
TZID:Europe/Madrid
BEGIN:DAYLIGHT
TZOFFSETFROM:+0100
TZOFFSETTO:+0200
TZNAME:CEST
DTSTART:20190331T010000
END:DAYLIGHT
BEGIN:STANDARD
TZOFFSETFROM:+0200
TZOFFSETTO:+0100
TZNAME:CET
DTSTART:20191027T010000
END:STANDARD
END:VTIMEZONE
BEGIN:VEVENT
DTSTART;TZID=Europe/Helsinki:20190616T180000
DTEND;TZID=Europe/Helsinki:20190616T200000
DTSTAMP:20260425T053126
CREATED:20190528T074924Z
LAST-MODIFIED:20190528T074924Z
UID:31911-1560708000-1560715200@historic.pratsdellucanes.cat
SUMMARY:Festa de Final de Curs de l'Escola FEDAC Prats
DESCRIPTION:A partir de les 6 de la tarda\, a la Sala Polivalent Municipal\, Festa de Final de Curs de l’Escola FEDAC Prats. La música ens mou\, amb berenar-sopar per a tots els assistents. Organitza: Escola i AMPA FEDAC Prats
URL:https://historic.pratsdellucanes.cat/esdeveniment/festa-de-final-de-curs-de-lescola-fedac-prats-2/
CATEGORIES:Agenda
END:VEVENT
BEGIN:VEVENT
DTSTART;TZID=Europe/Helsinki:20190616T110000
DTEND;TZID=Europe/Helsinki:20190616T130000
DTSTAMP:20260425T053126
CREATED:20190528T074553Z
LAST-MODIFIED:20190528T074553Z
UID:31907-1560682800-1560690000@historic.pratsdellucanes.cat
SUMMARY:Racó de les Experiències: Estenedor de fotografies de Puntaires
DESCRIPTION:Racó de les Experiències: Estenedor de fotografies de Puntaires.\nDe les 11 a la 1\, a la plaça de l’U d’Octubre
URL:https://historic.pratsdellucanes.cat/esdeveniment/raco-de-les-experiencies-estenedor-de-fotografies-de-puntaires/
CATEGORIES:Agenda
END:VEVENT
BEGIN:VEVENT
DTSTART;TZID=Europe/Helsinki:20190616T100000
DTEND;TZID=Europe/Helsinki:20190616T133000
DTSTAMP:20260425T053126
CREATED:20190528T074737Z
LAST-MODIFIED:20190528T074737Z
UID:31909-1560679200-1560691800@historic.pratsdellucanes.cat
SUMMARY:22a Trobada de Puntaires
DESCRIPTION:De les 10 del matí a 2/4 de 2 del migdia\, al Passeig del Lluçanès\,\n22a Trobada de Puntaires.
URL:https://historic.pratsdellucanes.cat/esdeveniment/22a-trobada-de-puntaires/
CATEGORIES:Agenda
END:VEVENT
BEGIN:VEVENT
DTSTART;TZID=Europe/Madrid:20190616T080000
DTEND;TZID=Europe/Madrid:20190616T140000
DTSTAMP:20260425T053126
CREATED:20180115T171115Z
LAST-MODIFIED:20190616T202129Z
UID:5336-1560672000-1560693600@historic.pratsdellucanes.cat
SUMMARY:Mercat dominical i comerços oberts fins al migdia
DESCRIPTION:
URL:https://historic.pratsdellucanes.cat/esdeveniment/mercat-dominical-i-comercos-oberts-fins-al-migdia-74/
CATEGORIES:Agenda
END:VEVENT
BEGIN:VEVENT
DTSTART;VALUE=DATE:20190616
DTEND;VALUE=DATE:20190617
DTSTAMP:20260425T053126
CREATED:20190528T074424Z
LAST-MODIFIED:20190528T074424Z
UID:31905-1560643200-1560729599@historic.pratsdellucanes.cat
SUMMARY:II Torneig de Futbol Base Futbol 7
DESCRIPTION:Durant tot el dia\, al Camp de Futbol Municipal\nCategoria Aleví. Organitza: FC Pradenc.
URL:https://historic.pratsdellucanes.cat/esdeveniment/ii-torneig-de-futbol-base-futbol-7/
CATEGORIES:Agenda
END:VEVENT
BEGIN:VEVENT
DTSTART;TZID=Europe/Helsinki:20190615T173000
DTEND;TZID=Europe/Helsinki:20190615T230000
DTSTAMP:20260425T053126
CREATED:20190528T074046Z
LAST-MODIFIED:20190528T074046Z
UID:31903-1560619800-1560639600@historic.pratsdellucanes.cat
SUMMARY:25a Trobada de Gegants de Prats de Lluçanès
DESCRIPTION:A les 5 de la tarda\, davant de Cal Bach\, al Passeig del Lluçanès\, Arribada de les colles i plantada dels gegants participants a la Trobada.\nA les 6 de la tarda\, al mateix lloc\, Cercavila. \nSeguidament\, a la plaça Vella\, Sopar geganter amb música ambient.
URL:https://historic.pratsdellucanes.cat/esdeveniment/25a-trobada-de-gegants-de-prats-de-llucanes/
CATEGORIES:Agenda
END:VEVENT
BEGIN:VEVENT
DTSTART;TZID=Europe/Helsinki:20190615T120000
DTEND;TZID=Europe/Helsinki:20190615T140000
DTSTAMP:20260425T053126
CREATED:20190531T075434Z
LAST-MODIFIED:20190531T075434Z
UID:31990-1560600000-1560607200@historic.pratsdellucanes.cat
SUMMARY:Ple de constitució del nou Ajuntament de Prats
DESCRIPTION:
URL:https://historic.pratsdellucanes.cat/esdeveniment/ple-de-constitucio-del-nou-ajuntament-de-prats/
CATEGORIES:Agenda
END:VEVENT
BEGIN:VEVENT
DTSTART;TZID=Europe/Helsinki:20190615T100000
DTEND;TZID=Europe/Helsinki:20190621T200000
DTSTAMP:20260425T053126
CREATED:20190531T075306Z
LAST-MODIFIED:20190531T075328Z
UID:31988-1560592800-1561147200@historic.pratsdellucanes.cat
SUMMARY:Portes Obertes a la Piscina Municipal
DESCRIPTION:
URL:https://historic.pratsdellucanes.cat/esdeveniment/portes-obertes-a-la-piscina-municipal/
CATEGORIES:Agenda
END:VEVENT
BEGIN:VEVENT
DTSTART;TZID=Europe/Madrid:20190615T040000
DTEND;TZID=Europe/Madrid:20190615T060000
DTSTAMP:20260425T053126
CREATED:20180112T164732Z
LAST-MODIFIED:20190503T094745Z
UID:4795-1560571200-1560578400@historic.pratsdellucanes.cat
SUMMARY:Orgànica
DESCRIPTION:
URL:https://historic.pratsdellucanes.cat/esdeveniment/organica-249/
CATEGORIES:Recollida Porta a porta
END:VEVENT
BEGIN:VEVENT
DTSTART;VALUE=DATE:20190615
DTEND;VALUE=DATE:20190616
DTSTAMP:20260425T053126
CREATED:20190528T073042Z
LAST-MODIFIED:20190528T073042Z
UID:31901-1560556800-1560643199@historic.pratsdellucanes.cat
SUMMARY:II Torneig de Futbol Base 7
DESCRIPTION:Durant tot el dia\, al Camp de Futbol Municipal\nCategoria Benjamí. Organitza: FC Pradenc.
URL:https://historic.pratsdellucanes.cat/esdeveniment/ii-torneig-de-futbol-base-7-2/
CATEGORIES:Agenda
END:VEVENT
BEGIN:VEVENT
DTSTART;TZID=Europe/Helsinki:20190614T190000
DTEND;TZID=Europe/Helsinki:20190614T203000
DTSTAMP:20260425T053126
CREATED:20190528T072811Z
LAST-MODIFIED:20190528T072811Z
UID:31899-1560538800-1560544200@historic.pratsdellucanes.cat
SUMMARY:Col·loqui Ens Jutgen a Tots
DESCRIPTION:A les 7 de la tarda\, a la plaça de l’Església\nOrganitza: Òmnium Cultural Osona.
URL:https://historic.pratsdellucanes.cat/esdeveniment/colloqui-ens-jutgen-a-tots/
CATEGORIES:Agenda
END:VEVENT
BEGIN:VEVENT
DTSTART;TZID=Europe/Madrid:20190614T110000
DTEND;TZID=Europe/Madrid:20190614T123000
DTSTAMP:20260425T053126
CREATED:20180116T101430Z
LAST-MODIFIED:20190606T183903Z
UID:5702-1560510000-1560515400@historic.pratsdellucanes.cat
SUMMARY:Mediambient. Reunió d'equip. Tècnic i Glòria Borralleras
DESCRIPTION:
URL:https://historic.pratsdellucanes.cat/esdeveniment/mediambient-reunio-dequip-tecnic-i-gloria-borralleras-76/
LOCATION:Ajuntament de Prats de Lluçanès\, Cal Bach\, Passeig Lluçanes\, s/n\, 08513 Prats de Llusanés\, Barcelona\, Espanya
CATEGORIES:Agenda política
END:VEVENT
BEGIN:VEVENT
DTSTART;TZID=Europe/Madrid:20190614T090000
DTEND;TZID=Europe/Madrid:20190614T100000
DTSTAMP:20260425T053126
CREATED:20180116T101430Z
LAST-MODIFIED:20190614T195142Z
UID:5701-1560502800-1560506400@historic.pratsdellucanes.cat
SUMMARY:Reunió Brigada
DESCRIPTION:Montse Perarnau
URL:https://historic.pratsdellucanes.cat/esdeveniment/reunio-brigada-78/
LOCATION:Ajuntament de Prats de Lluçanès\, Cal Bach\, Passeig Lluçanes\, s/n\, 08513 Prats de Llusanés\, Barcelona\, Espanya
CATEGORIES:Agenda política
END:VEVENT
BEGIN:VEVENT
DTSTART;TZID=Europe/Madrid:20190614T040000
DTEND;TZID=Europe/Madrid:20190614T060000
DTSTAMP:20260425T053126
CREATED:20180112T164731Z
LAST-MODIFIED:20190503T094745Z
UID:4794-1560484800-1560492000@historic.pratsdellucanes.cat
SUMMARY:Multiproducte
DESCRIPTION:
URL:https://historic.pratsdellucanes.cat/esdeveniment/multiproducte-161/
CATEGORIES:Recollida Porta a porta
END:VEVENT
BEGIN:VEVENT
DTSTART;TZID=Europe/Helsinki:20190613T173000
DTEND;TZID=Europe/Helsinki:20190613T233000
DTSTAMP:20260425T053126
CREATED:20190528T072628Z
LAST-MODIFIED:20190528T072628Z
UID:31897-1560447000-1560468600@historic.pratsdellucanes.cat
SUMMARY:Festa del barri dels Escuraossos
DESCRIPTION:A 2/4 de 6 de la tarda\, a la plaça Vella\, Jocs de cucanya per a la quitxalla.  \nA les 10 del vespre\, al mateix lloc\, Ball amb Carles Xandri. \nDurant el ball\, Elecció de l’hereu i la pubilla del barri dels Escuraossos 2019 i sorteig d’una toia feta per M. Rosa Gost. En cas de pluja\, es farà a un altre indret del mateix barri.
URL:https://historic.pratsdellucanes.cat/esdeveniment/festa-del-barri-dels-escuraossos/
CATEGORIES:Agenda
END:VEVENT
BEGIN:VEVENT
DTSTART;TZID=Europe/Madrid:20190613T040000
DTEND;TZID=Europe/Madrid:20190613T060000
DTSTAMP:20260425T053126
CREATED:20180112T164731Z
LAST-MODIFIED:20190503T094745Z
UID:4793-1560398400-1560405600@historic.pratsdellucanes.cat
SUMMARY:Rebuig
DESCRIPTION:
URL:https://historic.pratsdellucanes.cat/esdeveniment/rebuig-41/
CATEGORIES:Recollida Porta a porta
END:VEVENT
BEGIN:VEVENT
DTSTART;TZID=Europe/Madrid:20190612T193000
DTEND;TZID=Europe/Madrid:20190612T203000
DTSTAMP:20260425T053126
CREATED:20190522T152133Z
LAST-MODIFIED:20190612T195148Z
UID:31835-1560367800-1560371400@historic.pratsdellucanes.cat
SUMMARY:Ple de tancament
DESCRIPTION:Pendent confirmar hora
URL:https://historic.pratsdellucanes.cat/esdeveniment/ple-de-tancament/
CATEGORIES:Agenda política
END:VEVENT
BEGIN:VEVENT
DTSTART;TZID=Europe/Madrid:20190612T191500
DTEND;TZID=Europe/Madrid:20190612T193000
DTSTAMP:20260425T053126
CREATED:20190529T170722Z
LAST-MODIFIED:20190612T195148Z
UID:31969-1560366900-1560367800@historic.pratsdellucanes.cat
SUMMARY:Junta de govern
DESCRIPTION:
URL:https://historic.pratsdellucanes.cat/esdeveniment/junta-de-govern-182/
CATEGORIES:Agenda política
END:VEVENT
BEGIN:VEVENT
DTSTART;TZID=Europe/Helsinki:20190612T180000
DTEND;TZID=Europe/Helsinki:20190612T233000
DTSTAMP:20260425T053126
CREATED:20190528T072502Z
LAST-MODIFIED:20190528T072502Z
UID:31895-1560362400-1560382200@historic.pratsdellucanes.cat
SUMMARY:Festa del barri dels Llangardaixos
DESCRIPTION:A les 6 de la tarda\, a la plaça de l’Onze de Setembre\, Jocs de cucanya per a la quitxalla.  \nA les 10 del vespre\, al mateix lloc\, Ball amb Jordi Bruch.  \nDurant el ball\, Elecció de l’hereu i la pubilla del barri dels Llangardaixos 2019. En cas de pluja\, els actes es faran la setmana següent.
URL:https://historic.pratsdellucanes.cat/esdeveniment/festa-del-barri-dels-llangardaixos/
CATEGORIES:Agenda
END:VEVENT
BEGIN:VEVENT
DTSTART;TZID=Europe/Madrid:20190612T153000
DTEND;TZID=Europe/Madrid:20190612T163000
DTSTAMP:20260425T053126
CREATED:20180421T092615Z
LAST-MODIFIED:20190612T195148Z
UID:8671-1560353400-1560357000@historic.pratsdellucanes.cat
SUMMARY:Urbanisme.
DESCRIPTION:Equip d’urbanisme. Glòria B.
URL:https://historic.pratsdellucanes.cat/esdeveniment/urbanisme-61/
CATEGORIES:Agenda política
END:VEVENT
BEGIN:VEVENT
DTSTART;TZID=Europe/Madrid:20190612T040000
DTEND;TZID=Europe/Madrid:20190612T060000
DTSTAMP:20260425T053126
CREATED:20180112T164729Z
LAST-MODIFIED:20190503T094745Z
UID:4792-1560312000-1560319200@historic.pratsdellucanes.cat
SUMMARY:Orgànica
DESCRIPTION:
URL:https://historic.pratsdellucanes.cat/esdeveniment/organica-248/
CATEGORIES:Recollida Porta a porta
END:VEVENT
BEGIN:VEVENT
DTSTART;TZID=Europe/Madrid:20190611T203000
DTEND;TZID=Europe/Madrid:20190611T213000
DTSTAMP:20260425T053126
CREATED:20180421T092615Z
LAST-MODIFIED:20180829T141936Z
UID:8670-1560285000-1560288600@historic.pratsdellucanes.cat
SUMMARY:Reunió equip de Govern
DESCRIPTION:Montse Juvanteny\, Anna Plans\, Glòria Borralleras\, Laia Font\, Montse Perarnau i Isaac Peraire
URL:https://historic.pratsdellucanes.cat/esdeveniment/reunio-equip-de-govern-170/
LOCATION:Ajuntament de Prats de Lluçanès\, Cal Bach\, Passeig Lluçanes\, s/n\, 08513 Prats de Llusanés\, Barcelona\, Espanya
CATEGORIES:Agenda política
END:VEVENT
BEGIN:VEVENT
DTSTART;TZID=Europe/Madrid:20190611T190000
DTEND;TZID=Europe/Madrid:20190611T200000
DTSTAMP:20260425T053126
CREATED:20180116T101429Z
LAST-MODIFIED:20180116T101429Z
UID:5700-1560279600-1560283200@historic.pratsdellucanes.cat
SUMMARY:Reunió equip de Govern
DESCRIPTION:
URL:https://historic.pratsdellucanes.cat/esdeveniment/reunio-equip-de-govern-79/
LOCATION:Ajuntament de Prats de Lluçanès\, Cal Bach\, Passeig Lluçanes\, s/n\, 08513 Prats de Llusanés\, Barcelona\, Espanya
CATEGORIES:Agenda política
END:VEVENT
BEGIN:VEVENT
DTSTART;TZID=Europe/Helsinki:20190611T181500
DTEND;TZID=Europe/Helsinki:20190611T200000
DTSTAMP:20260425T053126
CREATED:20190531T101731Z
LAST-MODIFIED:20190531T101731Z
UID:32019-1560276900-1560283200@historic.pratsdellucanes.cat
SUMMARY:Xerrada informativa: Grup de Dol
DESCRIPTION:
URL:https://historic.pratsdellucanes.cat/esdeveniment/xerrada-informativa-grup-de-dol/
CATEGORIES:Agenda
END:VEVENT
BEGIN:VEVENT
DTSTART;TZID=Europe/Madrid:20190611T180000
DTEND;TZID=Europe/Madrid:20190611T193000
DTSTAMP:20260425T053126
CREATED:20180830T141659Z
LAST-MODIFIED:20190611T193755Z
UID:18281-1560276000-1560281400@historic.pratsdellucanes.cat
SUMMARY:Reunió equip de Govern
DESCRIPTION:Montse Juvanteny\, Anna Plans\, Glòria Borralleras\, Laia Font\, Montse Perarnau i Isaac Peraire
URL:https://historic.pratsdellucanes.cat/esdeveniment/reunio-equip-de-govern-275/
LOCATION:Ajuntament de Prats de Lluçanès\, Cal Bach\, Passeig Lluçanes\, s/n\, 08513 Prats de Llusanés\, Barcelona\, Espanya
CATEGORIES:Agenda política
END:VEVENT
BEGIN:VEVENT
DTSTART;TZID=Europe/Helsinki:20190611T173000
DTEND;TZID=Europe/Helsinki:20190611T230000
DTSTAMP:20260425T053126
CREATED:20190528T072344Z
LAST-MODIFIED:20190528T072344Z
UID:31893-1560274200-1560294000@historic.pratsdellucanes.cat
SUMMARY:Festa del barri de les Sargantanes
DESCRIPTION:A 2/4 de 6 de la tarda\, a la plaça Nova\, Jocs de cucanya per a la quitxalla.  \nSeguidament\, al mateix lloc\, Sopar popular i balls en línia per a tothom. \nDurant l’actuació\, Elecció de l’hereu i la pubilla del barri de les Sargantanes 2019 i sorteig de paneres. En cas de pluja\, es farà a un altre indret del mateix barri.
URL:https://historic.pratsdellucanes.cat/esdeveniment/festa-del-barri-de-les-sargantanes/
CATEGORIES:Agenda
END:VEVENT
BEGIN:VEVENT
DTSTART;TZID=Europe/Madrid:20190611T160000
DTEND;TZID=Europe/Madrid:20190611T163000
DTSTAMP:20260425T053126
CREATED:20180421T092615Z
LAST-MODIFIED:20180528T112339Z
UID:8669-1560268800-1560270600@historic.pratsdellucanes.cat
SUMMARY:Junta de Govern
DESCRIPTION:
URL:https://historic.pratsdellucanes.cat/esdeveniment/junta-de-govern-86/
LOCATION:cal bach
CATEGORIES:Agenda política
END:VEVENT
BEGIN:VEVENT
DTSTART;TZID=Europe/Madrid:20190611T040000
DTEND;TZID=Europe/Madrid:20190611T060000
DTSTAMP:20260425T053126
CREATED:20180112T164728Z
LAST-MODIFIED:20190503T094745Z
UID:4791-1560225600-1560232800@historic.pratsdellucanes.cat
SUMMARY:Multiproducte
DESCRIPTION:
URL:https://historic.pratsdellucanes.cat/esdeveniment/multiproducte-160/
CATEGORIES:Recollida Porta a porta
END:VEVENT
BEGIN:VEVENT
DTSTART;TZID=Europe/Helsinki:20190610T180000
DTEND;TZID=Europe/Helsinki:20190610T233000
DTSTAMP:20260425T053126
CREATED:20190528T072023Z
LAST-MODIFIED:20190528T072023Z
UID:31891-1560189600-1560209400@historic.pratsdellucanes.cat
SUMMARY:Festa del barri dels Capgrossos
DESCRIPTION:A les 6 de la tarda\, a la Pista del Passeig\, Jocs de cucanya per a la quitxalla.  \nA 2/4 de 10 del vespre\, al capdamunt del Passeig\, Trobada d’acordionistes.  \nDurant l’actuació\, Elecció de l’hereu i la pubilla del barri dels Capgrossos 2019 i sorteig de paneres. En cas de pluja\, es farà a la Sala Polivalent
URL:https://historic.pratsdellucanes.cat/esdeveniment/festa-del-barri-dels-capgrossos/
CATEGORIES:Agenda
END:VEVENT
BEGIN:VEVENT
DTSTART;TZID=Europe/Helsinki:20190610T170000
DTEND;TZID=Europe/Helsinki:20190610T190000
DTSTAMP:20260425T053126
CREATED:20190528T070531Z
LAST-MODIFIED:20190528T070531Z
UID:31878-1560186000-1560193200@historic.pratsdellucanes.cat
SUMMARY:Ball de Cinquagesma
DESCRIPTION:
URL:https://historic.pratsdellucanes.cat/esdeveniment/ball-de-cinquagesma/
CATEGORIES:Agenda
END:VEVENT
END:VCALENDAR