BEGIN:VCALENDAR
VERSION:2.0
PRODID:-//Ajuntament de Prats de Lluçanès - ECPv6.14.2//NONSGML v1.0//EN
CALSCALE:GREGORIAN
METHOD:PUBLISH
X-ORIGINAL-URL:https://historic.pratsdellucanes.cat
X-WR-CALDESC:Esdeveniments per Ajuntament de Prats de Lluçanès
REFRESH-INTERVAL;VALUE=DURATION:PT1H
X-Robots-Tag:noindex
X-PUBLISHED-TTL:PT1H
BEGIN:VTIMEZONE
TZID:Europe/Madrid
BEGIN:DAYLIGHT
TZOFFSETFROM:+0100
TZOFFSETTO:+0200
TZNAME:CEST
DTSTART:20190331T010000
END:DAYLIGHT
BEGIN:STANDARD
TZOFFSETFROM:+0200
TZOFFSETTO:+0100
TZNAME:CET
DTSTART:20191027T010000
END:STANDARD
END:VTIMEZONE
BEGIN:VTIMEZONE
TZID:Europe/Helsinki
BEGIN:DAYLIGHT
TZOFFSETFROM:+0200
TZOFFSETTO:+0300
TZNAME:EEST
DTSTART:20190331T010000
END:DAYLIGHT
BEGIN:STANDARD
TZOFFSETFROM:+0300
TZOFFSETTO:+0200
TZNAME:EET
DTSTART:20191027T010000
END:STANDARD
END:VTIMEZONE
BEGIN:VEVENT
DTSTART;TZID=Europe/Madrid:20190514T190000
DTEND;TZID=Europe/Madrid:20190514T200000
DTSTAMP:20260426T045815
CREATED:20180116T101421Z
LAST-MODIFIED:20180116T101421Z
UID:5685-1557860400-1557864000@historic.pratsdellucanes.cat
SUMMARY:Reunió equip de Govern
DESCRIPTION:
URL:https://historic.pratsdellucanes.cat/esdeveniment/reunio-equip-de-govern-75/
LOCATION:Ajuntament de Prats de Lluçanès\, Cal Bach\, Passeig Lluçanes\, s/n\, 08513 Prats de Llusanés\, Barcelona\, Espanya
CATEGORIES:Agenda política
END:VEVENT
BEGIN:VEVENT
DTSTART;TZID=Europe/Madrid:20190514T180000
DTEND;TZID=Europe/Madrid:20190514T193000
DTSTAMP:20260426T045815
CREATED:20180830T141615Z
LAST-MODIFIED:20190510T220745Z
UID:18277-1557856800-1557862200@historic.pratsdellucanes.cat
SUMMARY:Reunió equip de Govern
DESCRIPTION:Montse Juvanteny\, Anna Plans\, Glòria Borralleras\, Laia Font\, Montse Perarnau i Isaac Peraire
URL:https://historic.pratsdellucanes.cat/esdeveniment/reunio-equip-de-govern-271/
LOCATION:Ajuntament de Prats de Lluçanès\, Cal Bach\, Passeig Lluçanes\, s/n\, 08513 Prats de Llusanés\, Barcelona\, Espanya
CATEGORIES:Agenda política
END:VEVENT
BEGIN:VEVENT
DTSTART;TZID=Europe/Madrid:20190514T160000
DTEND;TZID=Europe/Madrid:20190514T163000
DTSTAMP:20260426T045815
CREATED:20180421T092552Z
LAST-MODIFIED:20180528T112207Z
UID:8651-1557849600-1557851400@historic.pratsdellucanes.cat
SUMMARY:Junta de Govern
DESCRIPTION:
URL:https://historic.pratsdellucanes.cat/esdeveniment/junta-de-govern-84/
LOCATION:cal bach
CATEGORIES:Agenda política
END:VEVENT
BEGIN:VEVENT
DTSTART;TZID=Europe/Madrid:20190514T120000
DTEND;TZID=Europe/Madrid:20190514T130000
DTSTAMP:20260426T045815
CREATED:20190428T192225Z
LAST-MODIFIED:20190510T220745Z
UID:31376-1557835200-1557838800@historic.pratsdellucanes.cat
SUMMARY:Seguiment incidències. Gas natural/Consum\, Diputació.
DESCRIPTION:
URL:https://historic.pratsdellucanes.cat/esdeveniment/seguiment-incidencies-gas-natural-consum-diputacio/
CATEGORIES:Agenda política
END:VEVENT
BEGIN:VEVENT
DTSTART;TZID=Europe/Madrid:20190514T040000
DTEND;TZID=Europe/Madrid:20190514T060000
DTSTAMP:20260426T045815
CREATED:20180112T164708Z
LAST-MODIFIED:20190503T094742Z
UID:4769-1557806400-1557813600@historic.pratsdellucanes.cat
SUMMARY:Multiproducte
DESCRIPTION:
URL:https://historic.pratsdellucanes.cat/esdeveniment/multiproducte-152/
CATEGORIES:Recollida Porta a porta
END:VEVENT
BEGIN:VEVENT
DTSTART;TZID=Europe/Madrid:20190513T040000
DTEND;TZID=Europe/Madrid:20190513T060000
DTSTAMP:20260426T045815
CREATED:20180112T164707Z
LAST-MODIFIED:20190503T094742Z
UID:4768-1557720000-1557727200@historic.pratsdellucanes.cat
SUMMARY:Orgànica
DESCRIPTION:
URL:https://historic.pratsdellucanes.cat/esdeveniment/organica-235/
CATEGORIES:Recollida Porta a porta
END:VEVENT
BEGIN:VEVENT
DTSTART;TZID=Europe/Helsinki:20190512T173000
DTEND;TZID=Europe/Helsinki:20190512T190000
DTSTAMP:20260426T045815
CREATED:20190506T071315Z
LAST-MODIFIED:20190506T082157Z
UID:31654-1557682200-1557687600@historic.pratsdellucanes.cat
SUMMARY:Celebració 25 anys grup Teatral Pep
DESCRIPTION:A 2/4 de 6 de la tarda\, a la Sala Polivalent. Amb espectacle musical i coca i xocolata per a tothom.
URL:https://historic.pratsdellucanes.cat/esdeveniment/celebracio-25-anys-grup-teatral-pep/
CATEGORIES:Agenda
END:VEVENT
BEGIN:VEVENT
DTSTART;TZID=Europe/Helsinki:20190512T110000
DTEND;TZID=Europe/Helsinki:20190512T123000
DTSTAMP:20260426T045815
CREATED:20190429T085704Z
LAST-MODIFIED:20190429T085704Z
UID:31414-1557658800-1557664200@historic.pratsdellucanes.cat
SUMMARY:Jornada Arxiu Municipal
DESCRIPTION:
URL:https://historic.pratsdellucanes.cat/esdeveniment/jornada-arxiu-municipal/
CATEGORIES:Agenda
END:VEVENT
BEGIN:VEVENT
DTSTART;TZID=Europe/Helsinki:20190512T090000
DTEND;TZID=Europe/Helsinki:20190512T140000
DTSTAMP:20260426T045815
CREATED:20190503T075441Z
LAST-MODIFIED:20190503T075441Z
UID:31629-1557651600-1557669600@historic.pratsdellucanes.cat
SUMMARY:Fira Infantil i Mercat de Cooperatives del projecte CUEME
DESCRIPTION:Durant tot el matí\, al carrer Major\, Fira Infantil i Mercat de Cooperatives del projecte CUEME de les escoles del Lluçanès.
URL:https://historic.pratsdellucanes.cat/esdeveniment/fira-infantil-i-mercat-de-cooperatives-del-projecte-cueme/
CATEGORIES:Agenda
END:VEVENT
BEGIN:VEVENT
DTSTART;TZID=Europe/Madrid:20190512T080000
DTEND;TZID=Europe/Madrid:20190512T140000
DTSTAMP:20260426T045815
CREATED:20180115T171112Z
LAST-MODIFIED:20190510T203653Z
UID:5331-1557648000-1557669600@historic.pratsdellucanes.cat
SUMMARY:Mercat dominical i comerços oberts fins al migdia
DESCRIPTION:
URL:https://historic.pratsdellucanes.cat/esdeveniment/mercat-dominical-i-comercos-oberts-fins-al-migdia-69/
CATEGORIES:Agenda
END:VEVENT
BEGIN:VEVENT
DTSTART;TZID=Europe/Madrid:20190511T040000
DTEND;TZID=Europe/Madrid:20190511T060000
DTSTAMP:20260426T045815
CREATED:20180112T164705Z
LAST-MODIFIED:20190503T094742Z
UID:4767-1557547200-1557554400@historic.pratsdellucanes.cat
SUMMARY:Orgànica
DESCRIPTION:
URL:https://historic.pratsdellucanes.cat/esdeveniment/organica-234/
CATEGORIES:Recollida Porta a porta
END:VEVENT
BEGIN:VEVENT
DTSTART;TZID=Europe/Madrid:20190510T110000
DTEND;TZID=Europe/Madrid:20190510T123000
DTSTAMP:20260426T045815
CREATED:20180116T101420Z
LAST-MODIFIED:20190510T220745Z
UID:5684-1557486000-1557491400@historic.pratsdellucanes.cat
SUMMARY:Mediambient. Reunió d'equip. Tècnic i Glòria Borralleras
DESCRIPTION:
URL:https://historic.pratsdellucanes.cat/esdeveniment/mediambient-reunio-dequip-tecnic-i-gloria-borralleras-71/
LOCATION:Ajuntament de Prats de Lluçanès\, Cal Bach\, Passeig Lluçanes\, s/n\, 08513 Prats de Llusanés\, Barcelona\, Espanya
CATEGORIES:Agenda política
END:VEVENT
BEGIN:VEVENT
DTSTART;TZID=Europe/Madrid:20190510T090000
DTEND;TZID=Europe/Madrid:20190510T100000
DTSTAMP:20260426T045815
CREATED:20180116T101420Z
LAST-MODIFIED:20190510T220745Z
UID:5683-1557478800-1557482400@historic.pratsdellucanes.cat
SUMMARY:Reunió Brigada
DESCRIPTION:Montse Perarnau
URL:https://historic.pratsdellucanes.cat/esdeveniment/reunio-brigada-73/
LOCATION:Ajuntament de Prats de Lluçanès\, Cal Bach\, Passeig Lluçanes\, s/n\, 08513 Prats de Llusanés\, Barcelona\, Espanya
CATEGORIES:Agenda política
END:VEVENT
BEGIN:VEVENT
DTSTART;TZID=Europe/Madrid:20190510T040000
DTEND;TZID=Europe/Madrid:20190510T060000
DTSTAMP:20260426T045815
CREATED:20180112T164705Z
LAST-MODIFIED:20190503T094742Z
UID:4766-1557460800-1557468000@historic.pratsdellucanes.cat
SUMMARY:Multiproducte
DESCRIPTION:
URL:https://historic.pratsdellucanes.cat/esdeveniment/multiproducte-151/
CATEGORIES:Recollida Porta a porta
END:VEVENT
BEGIN:VEVENT
DTSTART;VALUE=DATE:20190510
DTEND;VALUE=DATE:20190511
DTSTAMP:20260426T045815
CREATED:20190412T072525Z
LAST-MODIFIED:20190412T072525Z
UID:30580-1557446400-1557532799@historic.pratsdellucanes.cat
SUMMARY:Intercanvi de Casals de la gent gran a Prats
DESCRIPTION:
URL:https://historic.pratsdellucanes.cat/esdeveniment/intercanvi-de-casals-a-prats/
CATEGORIES:Agenda
END:VEVENT
BEGIN:VEVENT
DTSTART;TZID=Europe/Helsinki:20190509T180000
DTEND;TZID=Europe/Helsinki:20190509T200000
DTSTAMP:20260426T045815
CREATED:20190508T070857Z
LAST-MODIFIED:20190508T070857Z
UID:31671-1557424800-1557432000@historic.pratsdellucanes.cat
SUMMARY:Taller per a pares i fills sobre ús segur de dispositius mòbils i xarxes socials
DESCRIPTION:
URL:https://historic.pratsdellucanes.cat/esdeveniment/taller-per-a-pares-i-fills-sobre-us-segur-de-dispositius-mobils-i-xarxes-socials/
CATEGORIES:Agenda
END:VEVENT
BEGIN:VEVENT
DTSTART;TZID=Europe/Helsinki:20190509T173000
DTEND;TZID=Europe/Helsinki:20190509T183000
DTSTAMP:20260426T045815
CREATED:20190503T065515Z
LAST-MODIFIED:20190503T065515Z
UID:31624-1557423000-1557426600@historic.pratsdellucanes.cat
SUMMARY:Activitat Bibliobús: "La màgia dels llibres"
DESCRIPTION:
URL:https://historic.pratsdellucanes.cat/esdeveniment/activitat-bibliobus-la-magia-dels-llibres/
CATEGORIES:Agenda
END:VEVENT
BEGIN:VEVENT
DTSTART;TZID=Europe/Madrid:20190508T183000
DTEND;TZID=Europe/Madrid:20190508T193000
DTSTAMP:20260426T045815
CREATED:20190418T172123Z
LAST-MODIFIED:20190508T215148Z
UID:30919-1557340200-1557343800@historic.pratsdellucanes.cat
SUMMARY:Reunió amb veïns del C. Bonasort
DESCRIPTION:
URL:https://historic.pratsdellucanes.cat/esdeveniment/reunio-amb-veins-del-c-bonasort/
CATEGORIES:Agenda política
END:VEVENT
BEGIN:VEVENT
DTSTART;TZID=Europe/Madrid:20190508T153000
DTEND;TZID=Europe/Madrid:20190508T163000
DTSTAMP:20260426T045815
CREATED:20180421T092545Z
LAST-MODIFIED:20190508T215148Z
UID:8648-1557329400-1557333000@historic.pratsdellucanes.cat
SUMMARY:Urbanisme.
DESCRIPTION:Equip d’urbanisme. Glòria B.
URL:https://historic.pratsdellucanes.cat/esdeveniment/urbanisme-56/
CATEGORIES:Agenda política
END:VEVENT
BEGIN:VEVENT
DTSTART;TZID=Europe/Madrid:20190508T040000
DTEND;TZID=Europe/Madrid:20190508T060000
DTSTAMP:20260426T045815
CREATED:20180112T164704Z
LAST-MODIFIED:20190503T094742Z
UID:4765-1557288000-1557295200@historic.pratsdellucanes.cat
SUMMARY:Orgànica
DESCRIPTION:
URL:https://historic.pratsdellucanes.cat/esdeveniment/organica-233/
CATEGORIES:Recollida Porta a porta
END:VEVENT
BEGIN:VEVENT
DTSTART;TZID=Europe/Madrid:20190507T203000
DTEND;TZID=Europe/Madrid:20190507T213000
DTSTAMP:20260426T045815
CREATED:20180421T092545Z
LAST-MODIFIED:20180829T141919Z
UID:8647-1557261000-1557264600@historic.pratsdellucanes.cat
SUMMARY:Reunió equip de Govern
DESCRIPTION:Montse Juvanteny\, Anna Plans\, Glòria Borralleras\, Laia Font\, Montse Perarnau i Isaac Peraire
URL:https://historic.pratsdellucanes.cat/esdeveniment/reunio-equip-de-govern-165/
LOCATION:Ajuntament de Prats de Lluçanès\, Cal Bach\, Passeig Lluçanes\, s/n\, 08513 Prats de Llusanés\, Barcelona\, Espanya
CATEGORIES:Agenda política
END:VEVENT
BEGIN:VEVENT
DTSTART;TZID=Europe/Madrid:20190507T190000
DTEND;TZID=Europe/Madrid:20190507T200000
DTSTAMP:20260426T045815
CREATED:20180116T101419Z
LAST-MODIFIED:20180116T101419Z
UID:5682-1557255600-1557259200@historic.pratsdellucanes.cat
SUMMARY:Reunió equip de Govern
DESCRIPTION:Montse Juvanteny\, Anna Plans\, Glòria Borralleras\, Laia Font\, Montse Perarnau i Isaac Peraire
URL:https://historic.pratsdellucanes.cat/esdeveniment/reunio-equip-de-govern-74/
LOCATION:Ajuntament de Prats de Lluçanès\, Cal Bach\, Passeig Lluçanes\, s/n\, 08513 Prats de Llusanés\, Barcelona\, Espanya
CATEGORIES:Agenda política
END:VEVENT
BEGIN:VEVENT
DTSTART;TZID=Europe/Madrid:20190507T180000
DTEND;TZID=Europe/Madrid:20190507T193000
DTSTAMP:20260426T045815
CREATED:20180830T141558Z
LAST-MODIFIED:20190507T213737Z
UID:18276-1557252000-1557257400@historic.pratsdellucanes.cat
SUMMARY:Reunió equip de Govern
DESCRIPTION:Montse Juvanteny\, Anna Plans\, Glòria Borralleras\, Laia Font\, Montse Perarnau i Isaac Peraire
URL:https://historic.pratsdellucanes.cat/esdeveniment/reunio-equip-de-govern-270/
LOCATION:Ajuntament de Prats de Lluçanès\, Cal Bach\, Passeig Lluçanes\, s/n\, 08513 Prats de Llusanés\, Barcelona\, Espanya
CATEGORIES:Agenda política
END:VEVENT
BEGIN:VEVENT
DTSTART;TZID=Europe/Madrid:20190507T160000
DTEND;TZID=Europe/Madrid:20190507T170000
DTSTAMP:20260426T045815
CREATED:20180116T101418Z
LAST-MODIFIED:20180116T101418Z
UID:5681-1557244800-1557248400@historic.pratsdellucanes.cat
SUMMARY:Junta de Govern
DESCRIPTION:Montse Juvanteny\, Anna Plans\, Glòria Borralleras\, Laia Font\, Montse Perarnau i Isaac Peraire
URL:https://historic.pratsdellucanes.cat/esdeveniment/junta-de-govern-38/
CATEGORIES:Agenda política
END:VEVENT
BEGIN:VEVENT
DTSTART;TZID=Europe/Madrid:20190507T160000
DTEND;TZID=Europe/Madrid:20190507T163000
DTSTAMP:20260426T045815
CREATED:20180529T113004Z
LAST-MODIFIED:20180822T141410Z
UID:12497-1557244800-1557246600@historic.pratsdellucanes.cat
SUMMARY:Junta de Govern
DESCRIPTION:Montse Juvanteny\, Anna Plans\, Glòria Borralleras\, Laia Font\, Montse Perarnau i Isaac Peraire
URL:https://historic.pratsdellucanes.cat/esdeveniment/junta-de-govern-136/
LOCATION:cal bach
CATEGORIES:Agenda política
END:VEVENT
BEGIN:VEVENT
DTSTART;TZID=Europe/Madrid:20190507T040000
DTEND;TZID=Europe/Madrid:20190507T060000
DTSTAMP:20260426T045815
CREATED:20180112T164704Z
LAST-MODIFIED:20190503T094742Z
UID:4764-1557201600-1557208800@historic.pratsdellucanes.cat
SUMMARY:Multiproducte
DESCRIPTION:
URL:https://historic.pratsdellucanes.cat/esdeveniment/multiproducte-150/
CATEGORIES:Recollida Porta a porta
END:VEVENT
BEGIN:VEVENT
DTSTART;TZID=Europe/Madrid:20190506T040000
DTEND;TZID=Europe/Madrid:20190506T060000
DTSTAMP:20260426T045815
CREATED:20180112T164703Z
LAST-MODIFIED:20190503T094742Z
UID:4763-1557115200-1557122400@historic.pratsdellucanes.cat
SUMMARY:Orgànica
DESCRIPTION:
URL:https://historic.pratsdellucanes.cat/esdeveniment/organica-232/
CATEGORIES:Recollida Porta a porta
END:VEVENT
BEGIN:VEVENT
DTSTART;TZID=Europe/Madrid:20190505T080000
DTEND;TZID=Europe/Madrid:20190505T140000
DTSTAMP:20260426T045815
CREATED:20180115T171112Z
LAST-MODIFIED:20190505T200643Z
UID:5330-1557043200-1557064800@historic.pratsdellucanes.cat
SUMMARY:Mercat dominical i comerços oberts fins al migdia
DESCRIPTION:
URL:https://historic.pratsdellucanes.cat/esdeveniment/mercat-dominical-i-comercos-oberts-fins-al-migdia-68/
CATEGORIES:Agenda
END:VEVENT
BEGIN:VEVENT
DTSTART;VALUE=DATE:20190505
DTEND;VALUE=DATE:20190506
DTSTAMP:20260426T045815
CREATED:20190429T080811Z
LAST-MODIFIED:20190429T080811Z
UID:31407-1557014400-1557100799@historic.pratsdellucanes.cat
SUMMARY:Comerç Compres Florides
DESCRIPTION:
URL:https://historic.pratsdellucanes.cat/esdeveniment/comerc-compres-florides/
CATEGORIES:Agenda
END:VEVENT
BEGIN:VEVENT
DTSTART;TZID=Europe/Helsinki:20190504T100000
DTEND;TZID=Europe/Helsinki:20190504T130000
DTSTAMP:20260426T045815
CREATED:20190426T073745Z
LAST-MODIFIED:20190426T073745Z
UID:31276-1556964000-1556974800@historic.pratsdellucanes.cat
SUMMARY:Jornada de portes obertes a l'escola bressol La Pitota
DESCRIPTION:
URL:https://historic.pratsdellucanes.cat/esdeveniment/jornada-de-portes-obertes-a-lescola-bressol-la-pitota/
CATEGORIES:Agenda
END:VEVENT
END:VCALENDAR