BEGIN:VCALENDAR
VERSION:2.0
PRODID:-//Ajuntament de Prats de Lluçanès - ECPv6.14.2//NONSGML v1.0//EN
CALSCALE:GREGORIAN
METHOD:PUBLISH
X-WR-CALNAME:Ajuntament de Prats de Lluçanès
X-ORIGINAL-URL:https://historic.pratsdellucanes.cat
X-WR-CALDESC:Esdeveniments per Ajuntament de Prats de Lluçanès
REFRESH-INTERVAL;VALUE=DURATION:PT1H
X-Robots-Tag:noindex
X-PUBLISHED-TTL:PT1H
BEGIN:VTIMEZONE
TZID:Europe/Helsinki
BEGIN:DAYLIGHT
TZOFFSETFROM:+0200
TZOFFSETTO:+0300
TZNAME:EEST
DTSTART:20210328T010000
END:DAYLIGHT
BEGIN:STANDARD
TZOFFSETFROM:+0300
TZOFFSETTO:+0200
TZNAME:EET
DTSTART:20211031T010000
END:STANDARD
END:VTIMEZONE
BEGIN:VTIMEZONE
TZID:Europe/Madrid
BEGIN:DAYLIGHT
TZOFFSETFROM:+0100
TZOFFSETTO:+0200
TZNAME:CEST
DTSTART:20210328T010000
END:DAYLIGHT
BEGIN:STANDARD
TZOFFSETFROM:+0200
TZOFFSETTO:+0100
TZNAME:CET
DTSTART:20211031T010000
END:STANDARD
END:VTIMEZONE
BEGIN:VEVENT
DTSTART;TZID=Europe/Helsinki:20210701T110000
DTEND;TZID=Europe/Helsinki:20210701T120000
DTSTAMP:20260425T221500
CREATED:20210723T083137Z
LAST-MODIFIED:20210723T083137Z
UID:45167-1625137200-1625140800@historic.pratsdellucanes.cat
SUMMARY:Reunió escola bressol La Pitota
DESCRIPTION:
URL:https://historic.pratsdellucanes.cat/esdeveniment/reunio-escola-bressol-la-pitota-4/
CATEGORIES:Agenda de l'alcalde
END:VEVENT
BEGIN:VEVENT
DTSTART;TZID=Europe/Helsinki:20210703T100000
DTEND;TZID=Europe/Helsinki:20210703T120000
DTSTAMP:20260425T221500
CREATED:20210723T083247Z
LAST-MODIFIED:20210723T083247Z
UID:45169-1625306400-1625313600@historic.pratsdellucanes.cat
SUMMARY:Presentació càtedra del món rural
DESCRIPTION:
URL:https://historic.pratsdellucanes.cat/esdeveniment/presentacio-catedra-del-mon-rural/
CATEGORIES:Agenda de l'alcalde
END:VEVENT
BEGIN:VEVENT
DTSTART;TZID=Europe/Madrid:20210704T080000
DTEND;TZID=Europe/Madrid:20210704T140000
DTSTAMP:20260425T221500
CREATED:20190704T215339Z
LAST-MODIFIED:20191204T153736Z
UID:32438-1625385600-1625407200@historic.pratsdellucanes.cat
SUMMARY:Mercat dominical i comerços oberts fins al migdia
DESCRIPTION:
URL:https://historic.pratsdellucanes.cat/esdeveniment/mercat-dominical-i-comercos-oberts-fins-al-migdia-181/
CATEGORIES:Agenda
END:VEVENT
BEGIN:VEVENT
DTSTART;TZID=Europe/Madrid:20210706T200000
DTEND;TZID=Europe/Madrid:20210706T220000
DTSTAMP:20260425T221500
CREATED:20190717T201915Z
LAST-MODIFIED:20191026T104253Z
UID:32769-1625601600-1625608800@historic.pratsdellucanes.cat
SUMMARY:Reunió de govern.
DESCRIPTION:
URL:https://historic.pratsdellucanes.cat/esdeveniment/reunio-de-govern-103/
LOCATION:Ajuntament de Prats de Lluçanès\, Passeig del Lluçanès\, 08513 Prats de Lluçanès\, Barcelona\, España
CATEGORIES:Agenda de l'alcalde
END:VEVENT
BEGIN:VEVENT
DTSTART;TZID=Europe/Helsinki:20210709T100000
DTEND;TZID=Europe/Helsinki:20210709T110000
DTSTAMP:20260425T221500
CREATED:20210723T084334Z
LAST-MODIFIED:20210723T084334Z
UID:45189-1625824800-1625828400@historic.pratsdellucanes.cat
SUMMARY:Reunió menjadors escolars
DESCRIPTION:
URL:https://historic.pratsdellucanes.cat/esdeveniment/reunio-menjadors-escolars/
CATEGORIES:Agenda de l'alcalde
END:VEVENT
BEGIN:VEVENT
DTSTART;VALUE=DATE:20210710
DTEND;VALUE=DATE:20210712
DTSTAMP:20260425T221500
CREATED:20210707T075430Z
LAST-MODIFIED:20210707T082913Z
UID:45014-1625875200-1626047999@historic.pratsdellucanes.cat
SUMMARY:Mulla't a Prats de Lluçanès
DESCRIPTION:
URL:https://historic.pratsdellucanes.cat/esdeveniment/mullat-a-prats-de-llucanes/
CATEGORIES:Agenda
END:VEVENT
BEGIN:VEVENT
DTSTART;TZID=Europe/Madrid:20210711T080000
DTEND;TZID=Europe/Madrid:20210711T140000
DTSTAMP:20260425T221500
CREATED:20190711T222247Z
LAST-MODIFIED:20191204T153737Z
UID:32512-1625990400-1626012000@historic.pratsdellucanes.cat
SUMMARY:Mercat dominical i comerços oberts fins al migdia
DESCRIPTION:
URL:https://historic.pratsdellucanes.cat/esdeveniment/mercat-dominical-i-comercos-oberts-fins-al-migdia-182/
CATEGORIES:Agenda
END:VEVENT
BEGIN:VEVENT
DTSTART;TZID=Europe/Madrid:20210713T200000
DTEND;TZID=Europe/Madrid:20210713T220000
DTSTAMP:20260425T221500
CREATED:20190717T201915Z
LAST-MODIFIED:20191026T104258Z
UID:32771-1626206400-1626213600@historic.pratsdellucanes.cat
SUMMARY:Reunió de govern.
DESCRIPTION:
URL:https://historic.pratsdellucanes.cat/esdeveniment/reunio-de-govern-104/
LOCATION:Ajuntament de Prats de Lluçanès\, Passeig del Lluçanès\, 08513 Prats de Lluçanès\, Barcelona\, España
CATEGORIES:Agenda de l'alcalde
END:VEVENT
BEGIN:VEVENT
DTSTART;TZID=Europe/Madrid:20210718T080000
DTEND;TZID=Europe/Madrid:20210718T140000
DTSTAMP:20260425T221500
CREATED:20190718T225503Z
LAST-MODIFIED:20191204T153737Z
UID:33012-1626595200-1626616800@historic.pratsdellucanes.cat
SUMMARY:Mercat dominical i comerços oberts fins al migdia
DESCRIPTION:
URL:https://historic.pratsdellucanes.cat/esdeveniment/mercat-dominical-i-comercos-oberts-fins-al-migdia-183/
CATEGORIES:Agenda
END:VEVENT
BEGIN:VEVENT
DTSTART;TZID=Europe/Madrid:20210720T200000
DTEND;TZID=Europe/Madrid:20210720T220000
DTSTAMP:20260425T221500
CREATED:20190720T202211Z
LAST-MODIFIED:20191026T104312Z
UID:33039-1626811200-1626818400@historic.pratsdellucanes.cat
SUMMARY:Reunió de govern.
DESCRIPTION:
URL:https://historic.pratsdellucanes.cat/esdeveniment/reunio-de-govern-105/
LOCATION:Ajuntament de Prats de Lluçanès\, Passeig del Lluçanès\, 08513 Prats de Lluçanès\, Barcelona\, España
CATEGORIES:Agenda de l'alcalde
END:VEVENT
BEGIN:VEVENT
DTSTART;TZID=Europe/Helsinki:20210721T193000
DTEND;TZID=Europe/Helsinki:20210721T220000
DTSTAMP:20260425T221500
CREATED:20210723T083439Z
LAST-MODIFIED:20210723T083439Z
UID:45173-1626895800-1626904800@historic.pratsdellucanes.cat
SUMMARY:Ple municipal
DESCRIPTION:
URL:https://historic.pratsdellucanes.cat/esdeveniment/ple-municipal-11/
CATEGORIES:Agenda de l'alcalde
END:VEVENT
BEGIN:VEVENT
DTSTART;TZID=Europe/Helsinki:20210722T180000
DTEND;TZID=Europe/Helsinki:20210722T180000
DTSTAMP:20260425T221500
CREATED:20210723T083552Z
LAST-MODIFIED:20210723T083552Z
UID:45175-1626976800-1626976800@historic.pratsdellucanes.cat
SUMMARY:Renió Futbol Club Pradenc
DESCRIPTION:
URL:https://historic.pratsdellucanes.cat/esdeveniment/renio-futbol-club-pradenc/
CATEGORIES:Agenda de l'alcalde
END:VEVENT
BEGIN:VEVENT
DTSTART;VALUE=DATE:20210723
DTEND;VALUE=DATE:20210726
DTSTAMP:20260425T221500
CREATED:20210716T072737Z
LAST-MODIFIED:20210716T072737Z
UID:45083-1626998400-1627257599@historic.pratsdellucanes.cat
SUMMARY:Fira de Sant Jaume 2021
DESCRIPTION:
URL:https://historic.pratsdellucanes.cat/esdeveniment/fira-de-sant-jaume-2021/
CATEGORIES:Agenda
END:VEVENT
BEGIN:VEVENT
DTSTART;TZID=Europe/Helsinki:20210723T210000
DTEND;TZID=Europe/Helsinki:20210723T220000
DTSTAMP:20260425T221500
CREATED:20210723T083711Z
LAST-MODIFIED:20210723T083711Z
UID:45177-1627074000-1627077600@historic.pratsdellucanes.cat
SUMMARY:Lliurament 23a edició Premis Doctor Grau
DESCRIPTION:
URL:https://historic.pratsdellucanes.cat/esdeveniment/lliurament-23a-edicio-premis-doctor-grau/
CATEGORIES:Agenda de l'alcalde
END:VEVENT
BEGIN:VEVENT
DTSTART;TZID=Europe/Helsinki:20210724T080000
DTEND;TZID=Europe/Helsinki:20210724T170000
DTSTAMP:20260425T221500
CREATED:20210705T073330Z
LAST-MODIFIED:20210705T073330Z
UID:45000-1627113600-1627146000@historic.pratsdellucanes.cat
SUMMARY:Tastaqmarca\, Mostra gastronòmica del Lluçanès
DESCRIPTION:
URL:https://historic.pratsdellucanes.cat/esdeveniment/tastaqmarca-mostra-gastronomica-del-llucanes/
CATEGORIES:Agenda
END:VEVENT
BEGIN:VEVENT
DTSTART;TZID=Europe/Helsinki:20210724T100000
DTEND;TZID=Europe/Helsinki:20210724T120000
DTSTAMP:20260425T221500
CREATED:20210723T083811Z
LAST-MODIFIED:20210723T083811Z
UID:45179-1627120800-1627128000@historic.pratsdellucanes.cat
SUMMARY:Jornades tècniques fira de Sant Jaume
DESCRIPTION:
URL:https://historic.pratsdellucanes.cat/esdeveniment/jornades-tecniques-fira-de-sant-jaume/
CATEGORIES:Agenda de l'alcalde
END:VEVENT
BEGIN:VEVENT
DTSTART;TZID=Europe/Madrid:20210725T080000
DTEND;TZID=Europe/Madrid:20210725T140000
DTSTAMP:20260425T221500
CREATED:20190725T233919Z
LAST-MODIFIED:20191204T153737Z
UID:33089-1627200000-1627221600@historic.pratsdellucanes.cat
SUMMARY:Mercat dominical i comerços oberts fins al migdia
DESCRIPTION:
URL:https://historic.pratsdellucanes.cat/esdeveniment/mercat-dominical-i-comercos-oberts-fins-al-migdia-184/
CATEGORIES:Agenda
END:VEVENT
BEGIN:VEVENT
DTSTART;TZID=Europe/Helsinki:20210725T080000
DTEND;TZID=Europe/Helsinki:20210725T170000
DTSTAMP:20260425T221500
CREATED:20210705T073443Z
LAST-MODIFIED:20210705T073443Z
UID:45002-1627200000-1627232400@historic.pratsdellucanes.cat
SUMMARY:Fira de Sant Jaume
DESCRIPTION:
URL:https://historic.pratsdellucanes.cat/esdeveniment/fira-de-sant-jaume-3/
CATEGORIES:Agenda
END:VEVENT
BEGIN:VEVENT
DTSTART;TZID=Europe/Helsinki:20210727T190000
DTEND;TZID=Europe/Helsinki:20210727T200000
DTSTAMP:20260425T221500
CREATED:20210723T094118Z
LAST-MODIFIED:20210723T094118Z
UID:45194-1627412400-1627416000@historic.pratsdellucanes.cat
SUMMARY:Presentació pública del Pla Local de Salut de Prats de Lluçanès
DESCRIPTION:
URL:https://historic.pratsdellucanes.cat/esdeveniment/presentacio-publica-del-pla-local-de-salut-de-prats-de-llucanes/
CATEGORIES:Agenda
END:VEVENT
BEGIN:VEVENT
DTSTART;TZID=Europe/Madrid:20210727T200000
DTEND;TZID=Europe/Madrid:20210727T220000
DTSTAMP:20260425T221500
CREATED:20190727T212155Z
LAST-MODIFIED:20191026T104318Z
UID:33110-1627416000-1627423200@historic.pratsdellucanes.cat
SUMMARY:Reunió de govern.
DESCRIPTION:
URL:https://historic.pratsdellucanes.cat/esdeveniment/reunio-de-govern-106/
LOCATION:Ajuntament de Prats de Lluçanès\, Passeig del Lluçanès\, 08513 Prats de Lluçanès\, Barcelona\, España
CATEGORIES:Agenda de l'alcalde
END:VEVENT
BEGIN:VEVENT
DTSTART;TZID=Europe/Helsinki:20210730T100000
DTEND;TZID=Europe/Helsinki:20210730T110000
DTSTAMP:20260425T221500
CREATED:20210723T084009Z
LAST-MODIFIED:20210723T084009Z
UID:45183-1627639200-1627642800@historic.pratsdellucanes.cat
SUMMARY:Reunió serveis locals CCO
DESCRIPTION:
URL:https://historic.pratsdellucanes.cat/esdeveniment/reunio-serveis-locals-cco/
CATEGORIES:Agenda de l'alcalde
END:VEVENT
BEGIN:VEVENT
DTSTART;TZID=Europe/Helsinki:20210730T200000
DTEND;TZID=Europe/Helsinki:20210730T220000
DTSTAMP:20260425T221500
CREATED:20210727T130424Z
LAST-MODIFIED:20210727T130424Z
UID:45226-1627675200-1627682400@historic.pratsdellucanes.cat
SUMMARY:Fes-te l'Agost a Prats de Lluçanès
DESCRIPTION:
URL:https://historic.pratsdellucanes.cat/esdeveniment/fes-te-lagost-a-prats-de-llucanes/
CATEGORIES:Agenda
ATTACH;FMTTYPE=image/jpeg:https://historic.pratsdellucanes.cat/wp-content/uploads/2021/07/AJPRATS_FESTAGOST_21_10.jpg
END:VEVENT
END:VCALENDAR