BEGIN:VCALENDAR
VERSION:2.0
PRODID:-//Ajuntament de Prats de Lluçanès - ECPv6.14.2//NONSGML v1.0//EN
CALSCALE:GREGORIAN
METHOD:PUBLISH
X-WR-CALNAME:Ajuntament de Prats de Lluçanès
X-ORIGINAL-URL:https://historic.pratsdellucanes.cat
X-WR-CALDESC:Esdeveniments per Ajuntament de Prats de Lluçanès
REFRESH-INTERVAL;VALUE=DURATION:PT1H
X-Robots-Tag:noindex
X-PUBLISHED-TTL:PT1H
BEGIN:VTIMEZONE
TZID:Europe/Madrid
BEGIN:DAYLIGHT
TZOFFSETFROM:+0100
TZOFFSETTO:+0200
TZNAME:CEST
DTSTART:20210328T010000
END:DAYLIGHT
BEGIN:STANDARD
TZOFFSETFROM:+0200
TZOFFSETTO:+0100
TZNAME:CET
DTSTART:20211031T010000
END:STANDARD
END:VTIMEZONE
BEGIN:VTIMEZONE
TZID:Europe/Helsinki
BEGIN:DAYLIGHT
TZOFFSETFROM:+0200
TZOFFSETTO:+0300
TZNAME:EEST
DTSTART:20210328T010000
END:DAYLIGHT
BEGIN:STANDARD
TZOFFSETFROM:+0300
TZOFFSETTO:+0200
TZNAME:EET
DTSTART:20211031T010000
END:STANDARD
END:VTIMEZONE
BEGIN:VEVENT
DTSTART;TZID=Europe/Madrid:20210801T080000
DTEND;TZID=Europe/Madrid:20210801T140000
DTSTAMP:20260425T185540
CREATED:20190801T000651Z
LAST-MODIFIED:20191204T153737Z
UID:33169-1627804800-1627826400@historic.pratsdellucanes.cat
SUMMARY:Mercat dominical i comerços oberts fins al migdia
DESCRIPTION:
URL:https://historic.pratsdellucanes.cat/esdeveniment/mercat-dominical-i-comercos-oberts-fins-al-migdia-185/
CATEGORIES:Agenda
END:VEVENT
BEGIN:VEVENT
DTSTART;TZID=Europe/Madrid:20210803T200000
DTEND;TZID=Europe/Madrid:20210803T220000
DTSTAMP:20260425T185540
CREATED:20190803T213813Z
LAST-MODIFIED:20191026T104324Z
UID:33192-1628020800-1628028000@historic.pratsdellucanes.cat
SUMMARY:Reunió de govern.
DESCRIPTION:
URL:https://historic.pratsdellucanes.cat/esdeveniment/reunio-de-govern-107/
LOCATION:Ajuntament de Prats de Lluçanès\, Passeig del Lluçanès\, 08513 Prats de Lluçanès\, Barcelona\, España
CATEGORIES:Agenda de l'alcalde
END:VEVENT
BEGIN:VEVENT
DTSTART;TZID=Europe/Madrid:20210808T080000
DTEND;TZID=Europe/Madrid:20210808T140000
DTSTAMP:20260425T185540
CREATED:20190808T005227Z
LAST-MODIFIED:20191204T153737Z
UID:33223-1628409600-1628431200@historic.pratsdellucanes.cat
SUMMARY:Mercat dominical i comerços oberts fins al migdia
DESCRIPTION:
URL:https://historic.pratsdellucanes.cat/esdeveniment/mercat-dominical-i-comercos-oberts-fins-al-migdia-186/
CATEGORIES:Agenda
END:VEVENT
BEGIN:VEVENT
DTSTART;TZID=Europe/Madrid:20210810T200000
DTEND;TZID=Europe/Madrid:20210810T220000
DTSTAMP:20260425T185540
CREATED:20191026T104330Z
LAST-MODIFIED:20191026T104330Z
UID:36275-1628625600-1628632800@historic.pratsdellucanes.cat
SUMMARY:Reunió de govern.
DESCRIPTION:
URL:https://historic.pratsdellucanes.cat/esdeveniment/reunio-de-govern-109/
LOCATION:Ajuntament de Prats de Lluçanès\, Passeig del Lluçanès\, 08513 Prats de Lluçanès\, Barcelona\, España
CATEGORIES:Agenda de l'alcalde
END:VEVENT
BEGIN:VEVENT
DTSTART;TZID=Europe/Helsinki:20210814T080000
DTEND;TZID=Europe/Helsinki:20210815T170000
DTSTAMP:20260425T185540
CREATED:20210729T060112Z
LAST-MODIFIED:20210729T060112Z
UID:45248-1628928000-1629046800@historic.pratsdellucanes.cat
SUMMARY:Jornada de donació de sang a Prats
DESCRIPTION:
URL:https://historic.pratsdellucanes.cat/esdeveniment/jornada-de-donacio-de-sang-a-prats/
CATEGORIES:Agenda
ATTACH;FMTTYPE=image/jpeg:https://historic.pratsdellucanes.cat/wp-content/uploads/2021/07/DONACIÓ-DE-SANG.jpg
END:VEVENT
BEGIN:VEVENT
DTSTART;TZID=Europe/Madrid:20210815T080000
DTEND;TZID=Europe/Madrid:20210815T140000
DTSTAMP:20260425T185540
CREATED:20190815T010830Z
LAST-MODIFIED:20191204T153738Z
UID:34240-1629014400-1629036000@historic.pratsdellucanes.cat
SUMMARY:Mercat dominical i comerços oberts fins al migdia
DESCRIPTION:
URL:https://historic.pratsdellucanes.cat/esdeveniment/mercat-dominical-i-comercos-oberts-fins-al-migdia-187/
CATEGORIES:Agenda
END:VEVENT
BEGIN:VEVENT
DTSTART;TZID=Europe/Madrid:20210817T200000
DTEND;TZID=Europe/Madrid:20210817T220000
DTSTAMP:20260425T185540
CREATED:20191026T104341Z
LAST-MODIFIED:20191026T104341Z
UID:36284-1629230400-1629237600@historic.pratsdellucanes.cat
SUMMARY:Reunió de govern.
DESCRIPTION:
URL:https://historic.pratsdellucanes.cat/esdeveniment/reunio-de-govern-110/
LOCATION:Ajuntament de Prats de Lluçanès\, Passeig del Lluçanès\, 08513 Prats de Lluçanès\, Barcelona\, España
CATEGORIES:Agenda de l'alcalde
END:VEVENT
BEGIN:VEVENT
DTSTART;TZID=Europe/Madrid:20210822T080000
DTEND;TZID=Europe/Madrid:20210822T140000
DTSTAMP:20260425T185540
CREATED:20190822T020626Z
LAST-MODIFIED:20191204T153738Z
UID:34305-1629619200-1629640800@historic.pratsdellucanes.cat
SUMMARY:Mercat dominical i comerços oberts fins al migdia
DESCRIPTION:
URL:https://historic.pratsdellucanes.cat/esdeveniment/mercat-dominical-i-comercos-oberts-fins-al-migdia-188/
CATEGORIES:Agenda
END:VEVENT
BEGIN:VEVENT
DTSTART;TZID=Europe/Madrid:20210824T200000
DTEND;TZID=Europe/Madrid:20210824T220000
DTSTAMP:20260425T185540
CREATED:20191026T104348Z
LAST-MODIFIED:20191026T104348Z
UID:36293-1629835200-1629842400@historic.pratsdellucanes.cat
SUMMARY:Reunió de govern.
DESCRIPTION:
URL:https://historic.pratsdellucanes.cat/esdeveniment/reunio-de-govern-111/
LOCATION:Ajuntament de Prats de Lluçanès\, Passeig del Lluçanès\, 08513 Prats de Lluçanès\, Barcelona\, España
CATEGORIES:Agenda de l'alcalde
END:VEVENT
BEGIN:VEVENT
DTSTART;TZID=Europe/Madrid:20210829T080000
DTEND;TZID=Europe/Madrid:20210829T140000
DTSTAMP:20260425T185540
CREATED:20190829T020815Z
LAST-MODIFIED:20191204T153738Z
UID:34358-1630224000-1630245600@historic.pratsdellucanes.cat
SUMMARY:Mercat dominical i comerços oberts fins al migdia
DESCRIPTION:
URL:https://historic.pratsdellucanes.cat/esdeveniment/mercat-dominical-i-comercos-oberts-fins-al-migdia-189/
CATEGORIES:Agenda
END:VEVENT
BEGIN:VEVENT
DTSTART;TZID=Europe/Madrid:20210831T200000
DTEND;TZID=Europe/Madrid:20210831T220000
DTSTAMP:20260425T185540
CREATED:20191026T104355Z
LAST-MODIFIED:20191026T104355Z
UID:36302-1630440000-1630447200@historic.pratsdellucanes.cat
SUMMARY:Reunió de govern.
DESCRIPTION:
URL:https://historic.pratsdellucanes.cat/esdeveniment/reunio-de-govern-112/
LOCATION:Ajuntament de Prats de Lluçanès\, Passeig del Lluçanès\, 08513 Prats de Lluçanès\, Barcelona\, España
CATEGORIES:Agenda de l'alcalde
END:VEVENT
END:VCALENDAR