BEGIN:VCALENDAR
VERSION:2.0
PRODID:-//Ajuntament de Prats de Lluçanès - ECPv6.14.2//NONSGML v1.0//EN
CALSCALE:GREGORIAN
METHOD:PUBLISH
X-WR-CALNAME:Ajuntament de Prats de Lluçanès
X-ORIGINAL-URL:https://historic.pratsdellucanes.cat
X-WR-CALDESC:Esdeveniments per Ajuntament de Prats de Lluçanès
REFRESH-INTERVAL;VALUE=DURATION:PT1H
X-Robots-Tag:noindex
X-PUBLISHED-TTL:PT1H
BEGIN:VTIMEZONE
TZID:Europe/Helsinki
BEGIN:DAYLIGHT
TZOFFSETFROM:+0200
TZOFFSETTO:+0300
TZNAME:EEST
DTSTART:20210328T010000
END:DAYLIGHT
BEGIN:STANDARD
TZOFFSETFROM:+0300
TZOFFSETTO:+0200
TZNAME:EET
DTSTART:20211031T010000
END:STANDARD
END:VTIMEZONE
BEGIN:VTIMEZONE
TZID:Europe/Madrid
BEGIN:DAYLIGHT
TZOFFSETFROM:+0100
TZOFFSETTO:+0200
TZNAME:CEST
DTSTART:20210328T010000
END:DAYLIGHT
BEGIN:STANDARD
TZOFFSETFROM:+0200
TZOFFSETTO:+0100
TZNAME:CET
DTSTART:20211031T010000
END:STANDARD
END:VTIMEZONE
BEGIN:VEVENT
DTSTART;TZID=Europe/Helsinki:20210901T080000
DTEND;TZID=Europe/Helsinki:20210901T170000
DTSTAMP:20260425T185615
CREATED:20210903T073414Z
LAST-MODIFIED:20210903T073414Z
UID:45362-1630483200-1630515600@historic.pratsdellucanes.cat
SUMMARY:Visita obres valla de la pisicina municipal
DESCRIPTION:
URL:https://historic.pratsdellucanes.cat/esdeveniment/visita-obres-valla-de-la-pisicina-municipal/
CATEGORIES:Agenda de l'alcalde
END:VEVENT
BEGIN:VEVENT
DTSTART;TZID=Europe/Helsinki:20210903T100000
DTEND;TZID=Europe/Helsinki:20210903T110000
DTSTAMP:20260425T185615
CREATED:20210903T073513Z
LAST-MODIFIED:20210903T073513Z
UID:45364-1630663200-1630666800@historic.pratsdellucanes.cat
SUMMARY:Visita obres instal·lació sistema de megafonia al camp de futbol
DESCRIPTION:
URL:https://historic.pratsdellucanes.cat/esdeveniment/visita-obres-installacio-sistema-de-megafonia-al-camp-de-futbol/
CATEGORIES:Agenda de l'alcalde
END:VEVENT
BEGIN:VEVENT
DTSTART;TZID=Europe/Madrid:20210905T080000
DTEND;TZID=Europe/Madrid:20210905T140000
DTSTAMP:20260425T185615
CREATED:20190905T025259Z
LAST-MODIFIED:20191204T153738Z
UID:34444-1630828800-1630850400@historic.pratsdellucanes.cat
SUMMARY:Mercat dominical i comerços oberts fins al migdia
DESCRIPTION:
URL:https://historic.pratsdellucanes.cat/esdeveniment/mercat-dominical-i-comercos-oberts-fins-al-migdia-190/
CATEGORIES:Agenda
END:VEVENT
BEGIN:VEVENT
DTSTART;TZID=Europe/Helsinki:20210906T170000
DTEND;TZID=Europe/Helsinki:20210906T180000
DTSTAMP:20260425T185615
CREATED:20210903T073611Z
LAST-MODIFIED:20210903T073611Z
UID:45367-1630947600-1630951200@historic.pratsdellucanes.cat
SUMMARY:Reunió consell escolar Escola Lluçanès
DESCRIPTION:
URL:https://historic.pratsdellucanes.cat/esdeveniment/reunio-consell-escolar-escola-llucanes/
CATEGORIES:Agenda de l'alcalde
END:VEVENT
BEGIN:VEVENT
DTSTART;TZID=Europe/Madrid:20210907T200000
DTEND;TZID=Europe/Madrid:20210907T220000
DTSTAMP:20260425T185615
CREATED:20191026T104512Z
LAST-MODIFIED:20191026T104512Z
UID:36311-1631044800-1631052000@historic.pratsdellucanes.cat
SUMMARY:Reunió de govern.
DESCRIPTION:
URL:https://historic.pratsdellucanes.cat/esdeveniment/reunio-de-govern-113/
LOCATION:Ajuntament de Prats de Lluçanès\, Passeig del Lluçanès\, 08513 Prats de Lluçanès\, Barcelona\, España
CATEGORIES:Agenda de l'alcalde
END:VEVENT
BEGIN:VEVENT
DTSTART;TZID=Europe/Helsinki:20210908T103000
DTEND;TZID=Europe/Helsinki:20210908T110000
DTSTAMP:20260425T185615
CREATED:20210903T073751Z
LAST-MODIFIED:20210903T073751Z
UID:45371-1631097000-1631098800@historic.pratsdellucanes.cat
SUMMARY:Visita Enginyer i arquitecte obres Farmàcia Vella
DESCRIPTION:
URL:https://historic.pratsdellucanes.cat/esdeveniment/visita-enginyer-i-arquitecte-obres-farmacia-vella/
CATEGORIES:Agenda de l'alcalde
END:VEVENT
BEGIN:VEVENT
DTSTART;TZID=Europe/Helsinki:20210908T113000
DTEND;TZID=Europe/Helsinki:20210908T123000
DTSTAMP:20260425T185615
CREATED:20210903T073836Z
LAST-MODIFIED:20210903T073836Z
UID:45373-1631100600-1631104200@historic.pratsdellucanes.cat
SUMMARY:Reunió Agència Energia d'Osona
DESCRIPTION:
URL:https://historic.pratsdellucanes.cat/esdeveniment/reunio-agencia-energia-dosona/
CATEGORIES:Agenda de l'alcalde
END:VEVENT
BEGIN:VEVENT
DTSTART;TZID=Europe/Helsinki:20210908T170000
DTEND;TZID=Europe/Helsinki:20210908T170000
DTSTAMP:20260425T185615
CREATED:20210903T073910Z
LAST-MODIFIED:20210903T073910Z
UID:45375-1631120400-1631120400@historic.pratsdellucanes.cat
SUMMARY:Reunió ROM municipal
DESCRIPTION:
URL:https://historic.pratsdellucanes.cat/esdeveniment/reunio-rom-municipal/
CATEGORIES:Agenda de l'alcalde
END:VEVENT
BEGIN:VEVENT
DTSTART;VALUE=DATE:20210911
DTEND;VALUE=DATE:20210912
DTSTAMP:20260425T185615
CREATED:20210903T073956Z
LAST-MODIFIED:20210903T073956Z
UID:45377-1631318400-1631404799@historic.pratsdellucanes.cat
SUMMARY:Actes de la Diada Nacional
DESCRIPTION:
URL:https://historic.pratsdellucanes.cat/esdeveniment/actes-de-la-diada-nacional/
CATEGORIES:Agenda de l'alcalde
END:VEVENT
BEGIN:VEVENT
DTSTART;VALUE=DATE:20210911
DTEND;VALUE=DATE:20210912
DTSTAMP:20260425T185615
CREATED:20210908T081713Z
LAST-MODIFIED:20210908T081713Z
UID:45421-1631318400-1631404799@historic.pratsdellucanes.cat
SUMMARY:Diada Nacional de Catalunya a Prats
DESCRIPTION:
URL:https://historic.pratsdellucanes.cat/esdeveniment/diada-nacional-de-catalunya-a-prats-2/
CATEGORIES:Agenda
ATTACH;FMTTYPE=image/jpeg:https://historic.pratsdellucanes.cat/wp-content/uploads/2021/09/CARTELL_11S_PRATS.jpg
END:VEVENT
BEGIN:VEVENT
DTSTART;TZID=Europe/Madrid:20210912T080000
DTEND;TZID=Europe/Madrid:20210912T140000
DTSTAMP:20260425T185615
CREATED:20190912T040659Z
LAST-MODIFIED:20191204T153739Z
UID:35029-1631433600-1631455200@historic.pratsdellucanes.cat
SUMMARY:Mercat dominical i comerços oberts fins al migdia
DESCRIPTION:
URL:https://historic.pratsdellucanes.cat/esdeveniment/mercat-dominical-i-comercos-oberts-fins-al-migdia-191/
CATEGORIES:Agenda
END:VEVENT
BEGIN:VEVENT
DTSTART;TZID=Europe/Helsinki:20210912T120000
DTEND;TZID=Europe/Helsinki:20210912T130000
DTSTAMP:20260425T185615
CREATED:20210817T070009Z
LAST-MODIFIED:20210817T070009Z
UID:45279-1631448000-1631451600@historic.pratsdellucanes.cat
SUMMARY:Concert Intrús Jazz pel forat del pany a Masia de Galobardes
DESCRIPTION:
URL:https://historic.pratsdellucanes.cat/esdeveniment/concert-intrus-jazz-pel-forat-del-pany-a-masia-de-galobardes/
CATEGORIES:Agenda
ATTACH;FMTTYPE=image/jpeg:https://historic.pratsdellucanes.cat/wp-content/uploads/2021/08/DIAPO_INTRUS_2021_2.jpg
END:VEVENT
BEGIN:VEVENT
DTSTART;TZID=Europe/Helsinki:20210912T120000
DTEND;TZID=Europe/Helsinki:20210912T133000
DTSTAMP:20260425T185615
CREATED:20210903T074039Z
LAST-MODIFIED:20210903T074039Z
UID:45379-1631448000-1631453400@historic.pratsdellucanes.cat
SUMMARY:Actes de la Diada al Lluçanès\, Perafita
DESCRIPTION:
URL:https://historic.pratsdellucanes.cat/esdeveniment/actes-de-la-diada-al-llucanes-perafita/
CATEGORIES:Agenda de l'alcalde
END:VEVENT
BEGIN:VEVENT
DTSTART;TZID=Europe/Madrid:20210914T200000
DTEND;TZID=Europe/Madrid:20210914T220000
DTSTAMP:20260425T185615
CREATED:20191026T104519Z
LAST-MODIFIED:20191026T104519Z
UID:36320-1631649600-1631656800@historic.pratsdellucanes.cat
SUMMARY:Reunió de govern.
DESCRIPTION:
URL:https://historic.pratsdellucanes.cat/esdeveniment/reunio-de-govern-114/
LOCATION:Ajuntament de Prats de Lluçanès\, Passeig del Lluçanès\, 08513 Prats de Lluçanès\, Barcelona\, España
CATEGORIES:Agenda de l'alcalde
END:VEVENT
BEGIN:VEVENT
DTSTART;TZID=Europe/Helsinki:20210915T080000
DTEND;TZID=Europe/Helsinki:20210915T170000
DTSTAMP:20260425T185615
CREATED:20210903T074127Z
LAST-MODIFIED:20210903T074127Z
UID:45381-1631692800-1631725200@historic.pratsdellucanes.cat
SUMMARY:Visita Obres Puigneró
DESCRIPTION:
URL:https://historic.pratsdellucanes.cat/esdeveniment/visita-obres-puignero/
CATEGORIES:Agenda de l'alcalde
END:VEVENT
BEGIN:VEVENT
DTSTART;TZID=Europe/Helsinki:20210915T080000
DTEND;TZID=Europe/Helsinki:20210915T170000
DTSTAMP:20260425T185615
CREATED:20210903T074201Z
LAST-MODIFIED:20210903T074201Z
UID:45383-1631692800-1631725200@historic.pratsdellucanes.cat
SUMMARY:Consell alcaldes d'Osona
DESCRIPTION:
URL:https://historic.pratsdellucanes.cat/esdeveniment/consell-alcaldes-dosona-2/
CATEGORIES:Agenda de l'alcalde
END:VEVENT
BEGIN:VEVENT
DTSTART;TZID=Europe/Helsinki:20210915T200000
DTEND;TZID=Europe/Helsinki:20210915T200000
DTSTAMP:20260425T185615
CREATED:20210903T074241Z
LAST-MODIFIED:20210903T074241Z
UID:45385-1631736000-1631736000@historic.pratsdellucanes.cat
SUMMARY:Ple municipal Ajuntament de Prats
DESCRIPTION:
URL:https://historic.pratsdellucanes.cat/esdeveniment/ple-municipal-ajuntament-de-prats/
CATEGORIES:Agenda de l'alcalde
END:VEVENT
BEGIN:VEVENT
DTSTART;TZID=Europe/Helsinki:20210918T080000
DTEND;TZID=Europe/Helsinki:20211012T170000
DTSTAMP:20260425T185615
CREATED:20210924T064510Z
LAST-MODIFIED:20210924T064510Z
UID:45506-1631952000-1634058000@historic.pratsdellucanes.cat
SUMMARY:Exposició 60 anys Òmnium Cultural
DESCRIPTION:Sala de Cal Bach de Prats de Lluçanès \nHoraris d’obertura: De dilluns a divendres de 9 a 1 del migdia i els dissabtes i diumenges de 10 del matí a 2 del migdia.
URL:https://historic.pratsdellucanes.cat/esdeveniment/exposicio-60-anys-omnium-cultural/
CATEGORIES:Agenda
END:VEVENT
BEGIN:VEVENT
DTSTART;TZID=Europe/Madrid:20210919T080000
DTEND;TZID=Europe/Madrid:20210919T140000
DTSTAMP:20260425T185615
CREATED:20190919T042243Z
LAST-MODIFIED:20191204T153739Z
UID:35182-1632038400-1632060000@historic.pratsdellucanes.cat
SUMMARY:Mercat dominical i comerços oberts fins al migdia
DESCRIPTION:
URL:https://historic.pratsdellucanes.cat/esdeveniment/mercat-dominical-i-comercos-oberts-fins-al-migdia-192/
CATEGORIES:Agenda
END:VEVENT
BEGIN:VEVENT
DTSTART;TZID=Europe/Madrid:20210921T200000
DTEND;TZID=Europe/Madrid:20210921T220000
DTSTAMP:20260425T185615
CREATED:20191026T104527Z
LAST-MODIFIED:20191026T104527Z
UID:36329-1632254400-1632261600@historic.pratsdellucanes.cat
SUMMARY:Reunió de govern.
DESCRIPTION:
URL:https://historic.pratsdellucanes.cat/esdeveniment/reunio-de-govern-115/
LOCATION:Ajuntament de Prats de Lluçanès\, Passeig del Lluçanès\, 08513 Prats de Lluçanès\, Barcelona\, España
CATEGORIES:Agenda de l'alcalde
END:VEVENT
BEGIN:VEVENT
DTSTART;VALUE=DATE:20210926
DTEND;VALUE=DATE:20210927
DTSTAMP:20260425T185615
CREATED:20210920T055244Z
LAST-MODIFIED:20210920T055244Z
UID:45478-1632614400-1632700799@historic.pratsdellucanes.cat
SUMMARY:Caminada popular de Prats de Lluçanès
DESCRIPTION:
URL:https://historic.pratsdellucanes.cat/esdeveniment/caminada-popular-de-prats-de-llucanes/
CATEGORIES:Agenda
ATTACH;FMTTYPE=image/jpeg:https://historic.pratsdellucanes.cat/wp-content/uploads/2021/09/WhatsApp-Image-2021-09-20-at-07.47.14.jpeg
END:VEVENT
BEGIN:VEVENT
DTSTART;TZID=Europe/Madrid:20210926T080000
DTEND;TZID=Europe/Madrid:20210926T140000
DTSTAMP:20260425T185615
CREATED:20190926T052426Z
LAST-MODIFIED:20191204T153739Z
UID:35273-1632643200-1632664800@historic.pratsdellucanes.cat
SUMMARY:Mercat dominical i comerços oberts fins al migdia
DESCRIPTION:
URL:https://historic.pratsdellucanes.cat/esdeveniment/mercat-dominical-i-comercos-oberts-fins-al-migdia-193/
CATEGORIES:Agenda
END:VEVENT
BEGIN:VEVENT
DTSTART;TZID=Europe/Helsinki:20210928T080000
DTEND;TZID=Europe/Helsinki:20210928T170000
DTSTAMP:20260425T185615
CREATED:20210903T074404Z
LAST-MODIFIED:20210903T074404Z
UID:45389-1632816000-1632848400@historic.pratsdellucanes.cat
SUMMARY:Visita a la Fira a l’hostal del Vilar
DESCRIPTION:
URL:https://historic.pratsdellucanes.cat/esdeveniment/visita-a-la-fira-a-lhostal-del-vilar/
CATEGORIES:Agenda de l'alcalde
END:VEVENT
BEGIN:VEVENT
DTSTART;TZID=Europe/Madrid:20210928T200000
DTEND;TZID=Europe/Madrid:20210928T220000
DTSTAMP:20260425T185615
CREATED:20191026T104610Z
LAST-MODIFIED:20191026T104610Z
UID:36338-1632859200-1632866400@historic.pratsdellucanes.cat
SUMMARY:Reunió de govern.
DESCRIPTION:
URL:https://historic.pratsdellucanes.cat/esdeveniment/reunio-de-govern-116/
LOCATION:Ajuntament de Prats de Lluçanès\, Passeig del Lluçanès\, 08513 Prats de Lluçanès\, Barcelona\, España
CATEGORIES:Agenda de l'alcalde
END:VEVENT
BEGIN:VEVENT
DTSTART;TZID=Europe/Helsinki:20210930T080000
DTEND;TZID=Europe/Helsinki:20210930T170000
DTSTAMP:20260425T185615
CREATED:20210920T071228Z
LAST-MODIFIED:20210920T071228Z
UID:45484-1632988800-1633021200@historic.pratsdellucanes.cat
SUMMARY:Espectacle Bibliobús Puigdon a Prats
DESCRIPTION:
URL:https://historic.pratsdellucanes.cat/esdeveniment/espectacle-bibliobus-puigdon-a-prats/
CATEGORIES:Agenda
ATTACH;FMTTYPE=image/jpeg:https://historic.pratsdellucanes.cat/wp-content/uploads/2021/09/PRATS-30-DE-SETEMBRE.jpg
END:VEVENT
BEGIN:VEVENT
DTSTART;TZID=Europe/Helsinki:20210930T203000
DTEND;TZID=Europe/Helsinki:20210930T220000
DTSTAMP:20260425T185615
CREATED:20210924T064701Z
LAST-MODIFIED:20210924T064701Z
UID:45508-1633033800-1633039200@historic.pratsdellucanes.cat
SUMMARY:Commemoració quart aniversari U d'Octubre a Prats
DESCRIPTION:
URL:https://historic.pratsdellucanes.cat/esdeveniment/commemoracio-quart-aniversari-u-doctubre-a-prats/
CATEGORIES:Agenda
ATTACH;FMTTYPE=image/jpeg:https://historic.pratsdellucanes.cat/wp-content/uploads/2021/09/CARTELL-1-O-2021.jpg
END:VEVENT
END:VCALENDAR