BEGIN:VCALENDAR
VERSION:2.0
PRODID:-//Ajuntament de Prats de Lluçanès - ECPv6.14.2//NONSGML v1.0//EN
CALSCALE:GREGORIAN
METHOD:PUBLISH
X-WR-CALNAME:Ajuntament de Prats de Lluçanès
X-ORIGINAL-URL:https://historic.pratsdellucanes.cat
X-WR-CALDESC:Esdeveniments per Ajuntament de Prats de Lluçanès
REFRESH-INTERVAL;VALUE=DURATION:PT1H
X-Robots-Tag:noindex
X-PUBLISHED-TTL:PT1H
BEGIN:VTIMEZONE
TZID:Europe/Helsinki
BEGIN:DAYLIGHT
TZOFFSETFROM:+0200
TZOFFSETTO:+0300
TZNAME:EEST
DTSTART:20220327T010000
END:DAYLIGHT
BEGIN:STANDARD
TZOFFSETFROM:+0300
TZOFFSETTO:+0200
TZNAME:EET
DTSTART:20221030T010000
END:STANDARD
END:VTIMEZONE
BEGIN:VEVENT
DTSTART;TZID=Europe/Helsinki:20220528T100000
DTEND;TZID=Europe/Helsinki:20220605T180000
DTSTAMP:20260424T001015
CREATED:20220519T075740Z
LAST-MODIFIED:20220519T075740Z
UID:47361-1653732000-1654452000@historic.pratsdellucanes.cat
SUMMARY:Setmana de la Natura
DESCRIPTION:
URL:https://historic.pratsdellucanes.cat/esdeveniment/setmana-de-la-natura/
CATEGORIES:Agenda
ATTACH;FMTTYPE=image/jpeg:https://historic.pratsdellucanes.cat/wp-content/uploads/2022/05/FTBcXI5WUAADGXA.jpg
END:VEVENT
BEGIN:VEVENT
DTSTART;TZID=Europe/Helsinki:20220602T180000
DTEND;TZID=Europe/Helsinki:20220602T190000
DTSTAMP:20260424T001015
CREATED:20220614T083415Z
LAST-MODIFIED:20220614T083415Z
UID:47577-1654192800-1654196400@historic.pratsdellucanes.cat
SUMMARY:Acte tancament CUEME a Perafita
DESCRIPTION:
URL:https://historic.pratsdellucanes.cat/esdeveniment/acte-tancament-cueme-a-perafita/
CATEGORIES:Agenda de l'alcalde
END:VEVENT
BEGIN:VEVENT
DTSTART;TZID=Europe/Helsinki:20220603T100000
DTEND;TZID=Europe/Helsinki:20220603T110000
DTSTAMP:20260424T001015
CREATED:20220614T082734Z
LAST-MODIFIED:20220614T082734Z
UID:47556-1654250400-1654254000@historic.pratsdellucanes.cat
SUMMARY:Reunió ACM
DESCRIPTION:
URL:https://historic.pratsdellucanes.cat/esdeveniment/reunio-acm/
CATEGORIES:Agenda de l'alcalde
END:VEVENT
BEGIN:VEVENT
DTSTART;TZID=Europe/Helsinki:20220605T113000
DTEND;TZID=Europe/Helsinki:20220605T130000
DTSTAMP:20260424T001015
CREATED:20220614T082824Z
LAST-MODIFIED:20220614T082824Z
UID:47558-1654428600-1654434000@historic.pratsdellucanes.cat
SUMMARY:Reunió EnergyOn
DESCRIPTION:
URL:https://historic.pratsdellucanes.cat/esdeveniment/reunio-energyon/
CATEGORIES:Agenda de l'alcalde
END:VEVENT
BEGIN:VEVENT
DTSTART;TZID=Europe/Helsinki:20220606T170000
DTEND;TZID=Europe/Helsinki:20220606T190000
DTSTAMP:20260424T001015
CREATED:20220601T071329Z
LAST-MODIFIED:20220601T071329Z
UID:47463-1654534800-1654542000@historic.pratsdellucanes.cat
SUMMARY:Ball de Cinquagesma
DESCRIPTION:
URL:https://historic.pratsdellucanes.cat/esdeveniment/ball-de-cinquagesma-2/
CATEGORIES:Agenda
ATTACH;FMTTYPE=image/jpeg:https://historic.pratsdellucanes.cat/wp-content/uploads/2022/06/CARTELL_CINQUAGESMA_2022.jpg
END:VEVENT
BEGIN:VEVENT
DTSTART;TZID=Europe/Helsinki:20220606T200000
DTEND;TZID=Europe/Helsinki:20220610T233000
DTSTAMP:20260424T001015
CREATED:20220601T071100Z
LAST-MODIFIED:20220601T071100Z
UID:47461-1654545600-1654903800@historic.pratsdellucanes.cat
SUMMARY:Festes dels Barris a Prats de Lluçanès
DESCRIPTION:
URL:https://historic.pratsdellucanes.cat/esdeveniment/festes-dels-barris-a-prats-de-llucanes/
CATEGORIES:Agenda
ATTACH;FMTTYPE=image/jpeg:https://historic.pratsdellucanes.cat/wp-content/uploads/2022/05/FESTES-DELS-BARRIS-2022.jpg
END:VEVENT
BEGIN:VEVENT
DTSTART;TZID=Europe/Helsinki:20220607T080000
DTEND;TZID=Europe/Helsinki:20220607T090000
DTSTAMP:20260424T001015
CREATED:20220614T083457Z
LAST-MODIFIED:20220614T083457Z
UID:47579-1654588800-1654592400@historic.pratsdellucanes.cat
SUMMARY:Reunió Mossos Esquadra i inici servei recollida denúncies
DESCRIPTION:
URL:https://historic.pratsdellucanes.cat/esdeveniment/reunio-mossos-esquadra-i-inici-servei-recollida-denuncies/
CATEGORIES:Agenda de l'alcalde
END:VEVENT
BEGIN:VEVENT
DTSTART;TZID=Europe/Helsinki:20220608T180000
DTEND;TZID=Europe/Helsinki:20220608T190000
DTSTAMP:20260424T001015
CREATED:20220614T083532Z
LAST-MODIFIED:20220614T083532Z
UID:47582-1654711200-1654714800@historic.pratsdellucanes.cat
SUMMARY:Consell escolar de l'Escola Lluçanès
DESCRIPTION:
URL:https://historic.pratsdellucanes.cat/esdeveniment/consell-escolar-de-lescola-llucanes/
CATEGORIES:Agenda de l'alcalde
END:VEVENT
BEGIN:VEVENT
DTSTART;VALUE=DATE:20220611
DTEND;VALUE=DATE:20220613
DTSTAMP:20260424T001015
CREATED:20220511T104024Z
LAST-MODIFIED:20220511T104024Z
UID:47312-1654905600-1655078399@historic.pratsdellucanes.cat
SUMMARY:Concurs de gossos pastors a Prats
DESCRIPTION:
URL:https://historic.pratsdellucanes.cat/esdeveniment/concurs-de-gossos-pastors-a-prats/
CATEGORIES:Agenda
ATTACH;FMTTYPE=image/jpeg:https://historic.pratsdellucanes.cat/wp-content/uploads/2022/05/Visca-cartell-definitiu.jpg
END:VEVENT
BEGIN:VEVENT
DTSTART;TZID=Europe/Helsinki:20220611T080000
DTEND;TZID=Europe/Helsinki:20220612T170000
DTSTAMP:20260424T001015
CREATED:20220601T071532Z
LAST-MODIFIED:20220601T071532Z
UID:47464-1654934400-1655053200@historic.pratsdellucanes.cat
SUMMARY:Concurs de Gossos Pastors a Prats de Lluçanès
DESCRIPTION:
URL:https://historic.pratsdellucanes.cat/esdeveniment/concurs-de-gossos-pastors-a-prats-de-llucanes/
CATEGORIES:Agenda
ATTACH;FMTTYPE=image/jpeg:https://historic.pratsdellucanes.cat/wp-content/uploads/2022/06/Visca-cartell-definitiu.jpg
END:VEVENT
BEGIN:VEVENT
DTSTART;TZID=Europe/Helsinki:20220613T100000
DTEND;TZID=Europe/Helsinki:20220613T110000
DTSTAMP:20260424T001015
CREATED:20220614T083611Z
LAST-MODIFIED:20220614T083611Z
UID:47584-1655114400-1655118000@historic.pratsdellucanes.cat
SUMMARY:Lliurament Premi EduCAC a Escola lluçanès
DESCRIPTION:
URL:https://historic.pratsdellucanes.cat/esdeveniment/lliurament-premi-educac-a-escola-llucanes/
CATEGORIES:Agenda de l'alcalde
END:VEVENT
BEGIN:VEVENT
DTSTART;TZID=Europe/Helsinki:20220614T200000
DTEND;TZID=Europe/Helsinki:20220614T210000
DTSTAMP:20260424T001015
CREATED:20220614T083652Z
LAST-MODIFIED:20220614T083652Z
UID:47586-1655236800-1655240400@historic.pratsdellucanes.cat
SUMMARY:Taula de debat pressupostos participatius
DESCRIPTION:
URL:https://historic.pratsdellucanes.cat/esdeveniment/taula-de-debat-pressupostos-participatius/
CATEGORIES:Agenda de l'alcalde
END:VEVENT
BEGIN:VEVENT
DTSTART;TZID=Europe/Helsinki:20220615T080000
DTEND;TZID=Europe/Helsinki:20220615T090000
DTSTAMP:20260424T001015
CREATED:20220614T083725Z
LAST-MODIFIED:20220614T083725Z
UID:47589-1655280000-1655283600@historic.pratsdellucanes.cat
SUMMARY:Mesa de negociació
DESCRIPTION:
URL:https://historic.pratsdellucanes.cat/esdeveniment/mesa-de-negociacio-2/
CATEGORIES:Agenda de l'alcalde
END:VEVENT
BEGIN:VEVENT
DTSTART;TZID=Europe/Helsinki:20220618T110000
DTEND;TZID=Europe/Helsinki:20220618T200000
DTSTAMP:20260424T001015
CREATED:20220609T113756Z
LAST-MODIFIED:20220610T070022Z
UID:47518-1655550000-1655582400@historic.pratsdellucanes.cat
SUMMARY:Festival 5 anys de l'EMAL a Prats de Lluçanès
DESCRIPTION:
URL:https://historic.pratsdellucanes.cat/esdeveniment/festival-5-anys-de-lemal-a-prats-de-llucanes/
CATEGORIES:Agenda
ATTACH;FMTTYPE=image/jpeg:https://historic.pratsdellucanes.cat/wp-content/uploads/2022/06/5anys-EMAL-copia.jpg
END:VEVENT
BEGIN:VEVENT
DTSTART;VALUE=DATE:20220619
DTEND;VALUE=DATE:20220627
DTSTAMP:20260424T001015
CREATED:20220601T070403Z
LAST-MODIFIED:20220601T070403Z
UID:47458-1655596800-1656287999@historic.pratsdellucanes.cat
SUMMARY:Festes de Sant Joan i els Elois 2022
DESCRIPTION:
URL:https://historic.pratsdellucanes.cat/esdeveniment/festes-de-sant-joan-i-els-elois-2022/
CATEGORIES:Agenda
ATTACH;FMTTYPE=image/jpeg:https://historic.pratsdellucanes.cat/wp-content/uploads/2022/06/2022_progrma_elois_p8-1.jpg
END:VEVENT
BEGIN:VEVENT
DTSTART;TZID=Europe/Helsinki:20220623T080000
DTEND;TZID=Europe/Helsinki:20220626T170000
DTSTAMP:20260424T001015
CREATED:20220614T083911Z
LAST-MODIFIED:20220614T083911Z
UID:47593-1655971200-1656262800@historic.pratsdellucanes.cat
SUMMARY:Actes de les Festes de Sant Joan i els Elois
DESCRIPTION:
URL:https://historic.pratsdellucanes.cat/esdeveniment/actes-de-les-festes-de-sant-joan-i-els-elois/
CATEGORIES:Agenda de l'alcalde
END:VEVENT
BEGIN:VEVENT
DTSTART;TZID=Europe/Helsinki:20220630T113000
DTEND;TZID=Europe/Helsinki:20220630T123000
DTSTAMP:20260424T001015
CREATED:20220614T083815Z
LAST-MODIFIED:20220614T083815Z
UID:47591-1656588600-1656592200@historic.pratsdellucanes.cat
SUMMARY:Reunió UVic Càtedra Món Rural
DESCRIPTION:
URL:https://historic.pratsdellucanes.cat/esdeveniment/reunio-uvic-catedra-mon-rural/
CATEGORIES:Agenda de l'alcalde
END:VEVENT
END:VCALENDAR