BEGIN:VCALENDAR
VERSION:2.0
PRODID:-//Ajuntament de Prats de Lluçanès - ECPv6.14.2//NONSGML v1.0//EN
CALSCALE:GREGORIAN
METHOD:PUBLISH
X-ORIGINAL-URL:https://historic.pratsdellucanes.cat
X-WR-CALDESC:Esdeveniments per Ajuntament de Prats de Lluçanès
REFRESH-INTERVAL;VALUE=DURATION:PT1H
X-Robots-Tag:noindex
X-PUBLISHED-TTL:PT1H
BEGIN:VTIMEZONE
TZID:Europe/Helsinki
BEGIN:DAYLIGHT
TZOFFSETFROM:+0200
TZOFFSETTO:+0300
TZNAME:EEST
DTSTART:20220327T010000
END:DAYLIGHT
BEGIN:STANDARD
TZOFFSETFROM:+0300
TZOFFSETTO:+0200
TZNAME:EET
DTSTART:20221030T010000
END:STANDARD
END:VTIMEZONE
BEGIN:VEVENT
DTSTART;TZID=Europe/Helsinki:20220702T170000
DTEND;TZID=Europe/Helsinki:20220702T233000
DTSTAMP:20260423T204244
CREATED:20220610T070116Z
LAST-MODIFIED:20220610T070116Z
UID:47521-1656781200-1656804600@historic.pratsdellucanes.cat
SUMMARY:Obrim de nit màgic
DESCRIPTION:
URL:https://historic.pratsdellucanes.cat/esdeveniment/obrim-de-nit-magic/
CATEGORIES:Agenda
ATTACH;FMTTYPE=image/jpeg:https://historic.pratsdellucanes.cat/wp-content/uploads/2022/06/CARTELL_OBRIM_DE_NIT_2022_XARXES.jpg
END:VEVENT
BEGIN:VEVENT
DTSTART;TZID=Europe/Helsinki:20220714T090000
DTEND;TZID=Europe/Helsinki:20220714T100000
DTSTAMP:20260423T204244
CREATED:20230104T114043Z
LAST-MODIFIED:20230104T114043Z
UID:48698-1657789200-1657792800@historic.pratsdellucanes.cat
SUMMARY:Obres monument Lluís Companys
DESCRIPTION:
URL:https://historic.pratsdellucanes.cat/esdeveniment/obres-monument-lluis-companys/
CATEGORIES:Agenda de l'alcalde
END:VEVENT
BEGIN:VEVENT
DTSTART;TZID=Europe/Helsinki:20220715T200000
DTEND;TZID=Europe/Helsinki:20220715T220000
DTSTAMP:20260423T204244
CREATED:20220707T065245Z
LAST-MODIFIED:20220707T065245Z
UID:47679-1657915200-1657922400@historic.pratsdellucanes.cat
SUMMARY:Cantada final EnCants del Món a Prats de Lluçanès
DESCRIPTION:
URL:https://historic.pratsdellucanes.cat/esdeveniment/cantada-final-encants-del-mon-a-prats-de-llucanes/
CATEGORIES:Agenda
ATTACH;FMTTYPE=image/png:https://historic.pratsdellucanes.cat/wp-content/uploads/2022/07/Cartell-Final-EnCants-Món-2022_final.png
END:VEVENT
BEGIN:VEVENT
DTSTART;TZID=Europe/Helsinki:20220717T100000
DTEND;TZID=Europe/Helsinki:20220717T120000
DTSTAMP:20260423T204244
CREATED:20230104T103946Z
LAST-MODIFIED:20230105T102618Z
UID:48610-1658052000-1658059200@historic.pratsdellucanes.cat
SUMMARY:Premi Catèdra del Món Rural a Taradell
DESCRIPTION:
URL:https://historic.pratsdellucanes.cat/esdeveniment/premi-catedra-del-mon-rural-a-taradell/
CATEGORIES:Agenda de l'alcalde
END:VEVENT
BEGIN:VEVENT
DTSTART;VALUE=DATE:20220721
DTEND;VALUE=DATE:20220722
DTSTAMP:20260423T204244
CREATED:20220629T103910Z
LAST-MODIFIED:20220707T134335Z
UID:47652-1658361600-1658447999@historic.pratsdellucanes.cat
SUMMARY:Fira de Sant Jaume
DESCRIPTION:
URL:https://historic.pratsdellucanes.cat/esdeveniment/fira-de-sant-jaume-4/
CATEGORIES:Agenda
ATTACH;FMTTYPE=image/jpeg:https://historic.pratsdellucanes.cat/wp-content/uploads/2022/07/CARTELL_SANT_JAUME_2022.jpg
END:VEVENT
BEGIN:VEVENT
DTSTART;TZID=Europe/Helsinki:20220721T080000
DTEND;TZID=Europe/Helsinki:20220721T100000
DTSTAMP:20260423T204244
CREATED:20230104T104100Z
LAST-MODIFIED:20230104T104100Z
UID:48612-1658390400-1658397600@historic.pratsdellucanes.cat
SUMMARY:Memòria democràtica Diputació de Barcelona
DESCRIPTION:
URL:https://historic.pratsdellucanes.cat/esdeveniment/memoria-democratica-diputacio-de-barcelona/
CATEGORIES:Agenda de l'alcalde
END:VEVENT
BEGIN:VEVENT
DTSTART;TZID=Europe/Helsinki:20220721T100000
DTEND;TZID=Europe/Helsinki:20220721T120000
DTSTAMP:20260423T204244
CREATED:20230104T104144Z
LAST-MODIFIED:20230104T104144Z
UID:48614-1658397600-1658404800@historic.pratsdellucanes.cat
SUMMARY:Reunió AFA Pitota
DESCRIPTION:
URL:https://historic.pratsdellucanes.cat/esdeveniment/reunio-afa-pitota/
CATEGORIES:Agenda de l'alcalde
END:VEVENT
BEGIN:VEVENT
DTSTART;VALUE=DATE:20220723
DTEND;VALUE=DATE:20220724
DTSTAMP:20260423T204244
CREATED:20230104T104231Z
LAST-MODIFIED:20230104T104231Z
UID:48617-1658534400-1658620799@historic.pratsdellucanes.cat
SUMMARY:TastaQmarca
DESCRIPTION:
URL:https://historic.pratsdellucanes.cat/esdeveniment/tastaqmarca-3/
CATEGORIES:Agenda de l'alcalde
END:VEVENT
BEGIN:VEVENT
DTSTART;TZID=Europe/Helsinki:20220723T200000
DTEND;TZID=Europe/Helsinki:20220723T230000
DTSTAMP:20260423T204244
CREATED:20220629T104008Z
LAST-MODIFIED:20220629T104008Z
UID:47654-1658606400-1658617200@historic.pratsdellucanes.cat
SUMMARY:TastaQmarca
DESCRIPTION:
URL:https://historic.pratsdellucanes.cat/esdeveniment/tastaqmarca-2/
CATEGORIES:Agenda
END:VEVENT
BEGIN:VEVENT
DTSTART;VALUE=DATE:20220724
DTEND;VALUE=DATE:20220725
DTSTAMP:20260423T204244
CREATED:20230104T104308Z
LAST-MODIFIED:20230104T104308Z
UID:48619-1658620800-1658707199@historic.pratsdellucanes.cat
SUMMARY:Fira de Sant Jaume
DESCRIPTION:
URL:https://historic.pratsdellucanes.cat/esdeveniment/fira-de-sant-jaume-5/
CATEGORIES:Agenda de l'alcalde
END:VEVENT
BEGIN:VEVENT
DTSTART;TZID=Europe/Helsinki:20220726T090000
DTEND;TZID=Europe/Helsinki:20220726T120000
DTSTAMP:20260423T204244
CREATED:20230104T104352Z
LAST-MODIFIED:20230104T104352Z
UID:48621-1658826000-1658836800@historic.pratsdellucanes.cat
SUMMARY:Reunió equip de govern
DESCRIPTION:
URL:https://historic.pratsdellucanes.cat/esdeveniment/reunio-equip-de-govern-382/
CATEGORIES:Agenda de l'alcalde
END:VEVENT
BEGIN:VEVENT
DTSTART;VALUE=DATE:20220727
DTEND;VALUE=DATE:20220728
DTSTAMP:20260423T204244
CREATED:20230104T104508Z
LAST-MODIFIED:20230104T104508Z
UID:48623-1658880000-1658966399@historic.pratsdellucanes.cat
SUMMARY:Reunió Mancomunitat aigües Merlès
DESCRIPTION:
URL:https://historic.pratsdellucanes.cat/esdeveniment/reunio-mancomunitat-aigues-merles/
CATEGORIES:Agenda de l'alcalde
END:VEVENT
END:VCALENDAR