BEGIN:VCALENDAR
VERSION:2.0
PRODID:-//Ajuntament de Prats de Lluçanès - ECPv6.14.2//NONSGML v1.0//EN
CALSCALE:GREGORIAN
METHOD:PUBLISH
X-WR-CALNAME:Ajuntament de Prats de Lluçanès
X-ORIGINAL-URL:https://historic.pratsdellucanes.cat
X-WR-CALDESC:Esdeveniments per Ajuntament de Prats de Lluçanès
REFRESH-INTERVAL;VALUE=DURATION:PT1H
X-Robots-Tag:noindex
X-PUBLISHED-TTL:PT1H
BEGIN:VTIMEZONE
TZID:Europe/Helsinki
BEGIN:DAYLIGHT
TZOFFSETFROM:+0200
TZOFFSETTO:+0300
TZNAME:EEST
DTSTART:20220327T010000
END:DAYLIGHT
BEGIN:STANDARD
TZOFFSETFROM:+0300
TZOFFSETTO:+0200
TZNAME:EET
DTSTART:20221030T010000
END:STANDARD
END:VTIMEZONE
BEGIN:VEVENT
DTSTART;VALUE=DATE:20221101
DTEND;VALUE=DATE:20221102
DTSTAMP:20260423T045714
CREATED:20230116T142444Z
LAST-MODIFIED:20230116T142444Z
UID:48874-1667260800-1667347199@historic.pratsdellucanes.cat
SUMMARY:Actes Fira Bruixes Sant Feliu Sasserra
DESCRIPTION:
URL:https://historic.pratsdellucanes.cat/esdeveniment/actes-fira-bruixes-sant-feliu-sasserra/
CATEGORIES:Agenda de l'alcalde
END:VEVENT
BEGIN:VEVENT
DTSTART;TZID=Europe/Helsinki:20221102T130000
DTEND;TZID=Europe/Helsinki:20221102T140000
DTSTAMP:20260423T045714
CREATED:20230116T142517Z
LAST-MODIFIED:20230116T142517Z
UID:48877-1667394000-1667397600@historic.pratsdellucanes.cat
SUMMARY:Consell escolar
DESCRIPTION:
URL:https://historic.pratsdellucanes.cat/esdeveniment/consell-escolar-2/
CATEGORIES:Agenda de l'alcalde
END:VEVENT
BEGIN:VEVENT
DTSTART;TZID=Europe/Helsinki:20221102T160000
DTEND;TZID=Europe/Helsinki:20221102T170000
DTSTAMP:20260423T045714
CREATED:20230116T142557Z
LAST-MODIFIED:20230116T142557Z
UID:48879-1667404800-1667408400@historic.pratsdellucanes.cat
SUMMARY:Reunió equip de govern local
DESCRIPTION:
URL:https://historic.pratsdellucanes.cat/esdeveniment/reunio-equip-de-govern-local-3/
CATEGORIES:Agenda de l'alcalde
END:VEVENT
BEGIN:VEVENT
DTSTART;TZID=Europe/Helsinki:20221103T100000
DTEND;TZID=Europe/Helsinki:20221103T120000
DTSTAMP:20260423T045714
CREATED:20230116T142657Z
LAST-MODIFIED:20230116T142657Z
UID:48881-1667469600-1667476800@historic.pratsdellucanes.cat
SUMMARY:Reunió Puigneró
DESCRIPTION:
URL:https://historic.pratsdellucanes.cat/esdeveniment/reunio-puignero-4/
CATEGORIES:Agenda de l'alcalde
END:VEVENT
BEGIN:VEVENT
DTSTART;TZID=Europe/Helsinki:20221103T120000
DTEND;TZID=Europe/Helsinki:20221103T130000
DTSTAMP:20260423T045714
CREATED:20230116T142729Z
LAST-MODIFIED:20230116T142729Z
UID:48883-1667476800-1667480400@historic.pratsdellucanes.cat
SUMMARY:Senyalització carrers
DESCRIPTION:
URL:https://historic.pratsdellucanes.cat/esdeveniment/senyalitzacio-carrers/
CATEGORIES:Agenda de l'alcalde
END:VEVENT
BEGIN:VEVENT
DTSTART;TZID=Europe/Helsinki:20221103T160000
DTEND;TZID=Europe/Helsinki:20221103T170000
DTSTAMP:20260423T045714
CREATED:20230116T142806Z
LAST-MODIFIED:20230116T142806Z
UID:48885-1667491200-1667494800@historic.pratsdellucanes.cat
SUMMARY:Reunió comissió festes
DESCRIPTION:
URL:https://historic.pratsdellucanes.cat/esdeveniment/reunio-comissio-festes/
CATEGORIES:Agenda de l'alcalde
END:VEVENT
BEGIN:VEVENT
DTSTART;TZID=Europe/Helsinki:20221107T100000
DTEND;TZID=Europe/Helsinki:20221107T110000
DTSTAMP:20260423T045714
CREATED:20230116T142843Z
LAST-MODIFIED:20230116T142843Z
UID:48887-1667815200-1667818800@historic.pratsdellucanes.cat
SUMMARY:Mesa de negociació
DESCRIPTION:
URL:https://historic.pratsdellucanes.cat/esdeveniment/mesa-de-negociacio-4/
CATEGORIES:Agenda de l'alcalde
END:VEVENT
BEGIN:VEVENT
DTSTART;TZID=Europe/Helsinki:20221109T160000
DTEND;TZID=Europe/Helsinki:20221109T170000
DTSTAMP:20260423T045714
CREATED:20230116T142918Z
LAST-MODIFIED:20230116T142918Z
UID:48889-1668009600-1668013200@historic.pratsdellucanes.cat
SUMMARY:Junta de govern local
DESCRIPTION:
URL:https://historic.pratsdellucanes.cat/esdeveniment/junta-de-govern-local-4/
CATEGORIES:Agenda de l'alcalde
END:VEVENT
BEGIN:VEVENT
DTSTART;TZID=Europe/Helsinki:20221115T110000
DTEND;TZID=Europe/Helsinki:20221115T120000
DTSTAMP:20260423T045714
CREATED:20230116T143146Z
LAST-MODIFIED:20230116T143146Z
UID:48893-1668510000-1668513600@historic.pratsdellucanes.cat
SUMMARY:Entrevista igualtat
DESCRIPTION:
URL:https://historic.pratsdellucanes.cat/esdeveniment/entrevista-igualtat/
CATEGORIES:Agenda de l'alcalde
END:VEVENT
BEGIN:VEVENT
DTSTART;TZID=Europe/Helsinki:20221115T160000
DTEND;TZID=Europe/Helsinki:20221115T170000
DTSTAMP:20260423T045714
CREATED:20230116T143022Z
LAST-MODIFIED:20230116T143022Z
UID:48891-1668528000-1668531600@historic.pratsdellucanes.cat
SUMMARY:Reunió equip de govern local
DESCRIPTION:
URL:https://historic.pratsdellucanes.cat/esdeveniment/reunio-equip-de-govern-local-4/
CATEGORIES:Agenda de l'alcalde
END:VEVENT
BEGIN:VEVENT
DTSTART;TZID=Europe/Helsinki:20221116T090000
DTEND;TZID=Europe/Helsinki:20221116T100000
DTSTAMP:20260423T045714
CREATED:20230116T143251Z
LAST-MODIFIED:20230116T143251Z
UID:48895-1668589200-1668592800@historic.pratsdellucanes.cat
SUMMARY:Reunió igualtat actes 25N
DESCRIPTION:
URL:https://historic.pratsdellucanes.cat/esdeveniment/reunio-igualtat-actes-25n/
CATEGORIES:Agenda de l'alcalde
END:VEVENT
BEGIN:VEVENT
DTSTART;TZID=Europe/Helsinki:20221116T110000
DTEND;TZID=Europe/Helsinki:20221116T120000
DTSTAMP:20260423T045714
CREATED:20230116T143320Z
LAST-MODIFIED:20230116T143320Z
UID:48897-1668596400-1668600000@historic.pratsdellucanes.cat
SUMMARY:Reunió Enric Pla escultura
DESCRIPTION:
URL:https://historic.pratsdellucanes.cat/esdeveniment/reunio-enric-pla-escultura-3/
CATEGORIES:Agenda de l'alcalde
END:VEVENT
BEGIN:VEVENT
DTSTART;TZID=Europe/Helsinki:20221116T160000
DTEND;TZID=Europe/Helsinki:20221116T170000
DTSTAMP:20260423T045714
CREATED:20230116T143352Z
LAST-MODIFIED:20230116T143352Z
UID:48900-1668614400-1668618000@historic.pratsdellucanes.cat
SUMMARY:Reunió seguiment menjador escolar
DESCRIPTION:
URL:https://historic.pratsdellucanes.cat/esdeveniment/reunio-seguiment-menjador-escolar/
CATEGORIES:Agenda de l'alcalde
END:VEVENT
BEGIN:VEVENT
DTSTART;TZID=Europe/Helsinki:20221117T100000
DTEND;TZID=Europe/Helsinki:20221117T110000
DTSTAMP:20260423T045714
CREATED:20230116T144309Z
LAST-MODIFIED:20230116T144309Z
UID:48902-1668679200-1668682800@historic.pratsdellucanes.cat
SUMMARY:Reunió projecte banda escolar
DESCRIPTION:
URL:https://historic.pratsdellucanes.cat/esdeveniment/reunio-projecte-banda-escolar/
CATEGORIES:Agenda de l'alcalde
END:VEVENT
BEGIN:VEVENT
DTSTART;TZID=Europe/Helsinki:20221117T110000
DTEND;TZID=Europe/Helsinki:20221117T120000
DTSTAMP:20260423T045714
CREATED:20230116T144341Z
LAST-MODIFIED:20230116T144341Z
UID:48904-1668682800-1668686400@historic.pratsdellucanes.cat
SUMMARY:Reunió recollida residus
DESCRIPTION:
URL:https://historic.pratsdellucanes.cat/esdeveniment/reunio-recollida-residus/
CATEGORIES:Agenda de l'alcalde
END:VEVENT
BEGIN:VEVENT
DTSTART;TZID=Europe/Helsinki:20221117T120000
DTEND;TZID=Europe/Helsinki:20221117T130000
DTSTAMP:20260423T045714
CREATED:20230116T144410Z
LAST-MODIFIED:20230116T144410Z
UID:48906-1668686400-1668690000@historic.pratsdellucanes.cat
SUMMARY:Reunió deixalleria
DESCRIPTION:
URL:https://historic.pratsdellucanes.cat/esdeveniment/reunio-deixalleria-2/
CATEGORIES:Agenda de l'alcalde
END:VEVENT
BEGIN:VEVENT
DTSTART;TZID=Europe/Helsinki:20221117T160000
DTEND;TZID=Europe/Helsinki:20221117T170000
DTSTAMP:20260423T045714
CREATED:20230116T144434Z
LAST-MODIFIED:20230116T144434Z
UID:48908-1668700800-1668704400@historic.pratsdellucanes.cat
SUMMARY:Reunió polivalent
DESCRIPTION:
URL:https://historic.pratsdellucanes.cat/esdeveniment/reunio-polivalent/
CATEGORIES:Agenda de l'alcalde
END:VEVENT
BEGIN:VEVENT
DTSTART;VALUE=DATE:20221120
DTEND;VALUE=DATE:20221121
DTSTAMP:20260423T045714
CREATED:20230116T144501Z
LAST-MODIFIED:20230116T144501Z
UID:48910-1668902400-1668988799@historic.pratsdellucanes.cat
SUMMARY:Cros escolar
DESCRIPTION:
URL:https://historic.pratsdellucanes.cat/esdeveniment/cros-escolar/
CATEGORIES:Agenda de l'alcalde
END:VEVENT
BEGIN:VEVENT
DTSTART;TZID=Europe/Helsinki:20221122T100000
DTEND;TZID=Europe/Helsinki:20221122T110000
DTSTAMP:20260423T045714
CREATED:20230116T144606Z
LAST-MODIFIED:20230116T144606Z
UID:48914-1669111200-1669114800@historic.pratsdellucanes.cat
SUMMARY:Reunió igualtat
DESCRIPTION:
URL:https://historic.pratsdellucanes.cat/esdeveniment/reunio-igualtat-2/
CATEGORIES:Agenda de l'alcalde
END:VEVENT
BEGIN:VEVENT
DTSTART;TZID=Europe/Helsinki:20221122T160000
DTEND;TZID=Europe/Helsinki:20221122T170000
DTSTAMP:20260423T045714
CREATED:20230116T144541Z
LAST-MODIFIED:20230116T144541Z
UID:48912-1669132800-1669136400@historic.pratsdellucanes.cat
SUMMARY:Reunió equip de govern local
DESCRIPTION:
URL:https://historic.pratsdellucanes.cat/esdeveniment/reunio-equip-de-govern-local-5/
CATEGORIES:Agenda de l'alcalde
END:VEVENT
BEGIN:VEVENT
DTSTART;TZID=Europe/Helsinki:20221123T090000
DTEND;TZID=Europe/Helsinki:20221123T100000
DTSTAMP:20260423T045714
CREATED:20230116T144647Z
LAST-MODIFIED:20230116T144647Z
UID:48916-1669194000-1669197600@historic.pratsdellucanes.cat
SUMMARY:Reunió notaria
DESCRIPTION:
URL:https://historic.pratsdellucanes.cat/esdeveniment/reunio-notaria/
CATEGORIES:Agenda de l'alcalde
END:VEVENT
BEGIN:VEVENT
DTSTART;TZID=Europe/Helsinki:20221123T110000
DTEND;TZID=Europe/Helsinki:20221123T120000
DTSTAMP:20260423T045714
CREATED:20230116T144734Z
LAST-MODIFIED:20230116T144734Z
UID:48918-1669201200-1669204800@historic.pratsdellucanes.cat
SUMMARY:Reunió comunicació
DESCRIPTION:
URL:https://historic.pratsdellucanes.cat/esdeveniment/reunio-comunicacio-2/
CATEGORIES:Agenda de l'alcalde
END:VEVENT
BEGIN:VEVENT
DTSTART;TZID=Europe/Helsinki:20221123T170000
DTEND;TZID=Europe/Helsinki:20221123T180000
DTSTAMP:20260423T045714
CREATED:20230116T144803Z
LAST-MODIFIED:20230116T144803Z
UID:48920-1669222800-1669226400@historic.pratsdellucanes.cat
SUMMARY:Junta de govern local
DESCRIPTION:
URL:https://historic.pratsdellucanes.cat/esdeveniment/junta-de-govern-local-5/
CATEGORIES:Agenda de l'alcalde
END:VEVENT
BEGIN:VEVENT
DTSTART;TZID=Europe/Helsinki:20221124T090000
DTEND;TZID=Europe/Helsinki:20221124T100000
DTSTAMP:20260423T045714
CREATED:20230116T145522Z
LAST-MODIFIED:20230116T145522Z
UID:48924-1669280400-1669284000@historic.pratsdellucanes.cat
SUMMARY:Reunió Next Generation
DESCRIPTION:
URL:https://historic.pratsdellucanes.cat/esdeveniment/reunio-next-generation/
CATEGORIES:Agenda de l'alcalde
END:VEVENT
BEGIN:VEVENT
DTSTART;TZID=Europe/Helsinki:20221124T110000
DTEND;TZID=Europe/Helsinki:20221124T120000
DTSTAMP:20260423T045714
CREATED:20230116T145018Z
LAST-MODIFIED:20230116T145018Z
UID:48922-1669287600-1669291200@historic.pratsdellucanes.cat
SUMMARY:Reunió comissari Mossos i Interior
DESCRIPTION:
URL:https://historic.pratsdellucanes.cat/esdeveniment/reunio-comissari-mossos-i-interior/
CATEGORIES:Agenda de l'alcalde
END:VEVENT
BEGIN:VEVENT
DTSTART;TZID=Europe/Helsinki:20221124T160000
DTEND;TZID=Europe/Helsinki:20221124T200000
DTSTAMP:20260423T045714
CREATED:20221123T085745Z
LAST-MODIFIED:20221123T085745Z
UID:48322-1669305600-1669320000@historic.pratsdellucanes.cat
SUMMARY:Taller d'autoprotecció i DEA a L'Espai
DESCRIPTION:
URL:https://historic.pratsdellucanes.cat/esdeveniment/taller-dautoproteccio-i-dea-a-lespai/
CATEGORIES:Agenda
ATTACH;FMTTYPE=image/jpeg:https://historic.pratsdellucanes.cat/wp-content/uploads/2022/11/Taller-Autoprotecció-diba-Prats-2022-1.jpg
END:VEVENT
BEGIN:VEVENT
DTSTART;TZID=Europe/Helsinki:20221124T200000
DTEND;TZID=Europe/Helsinki:20221124T210000
DTSTAMP:20260423T045714
CREATED:20221123T085840Z
LAST-MODIFIED:20221123T085840Z
UID:48324-1669320000-1669323600@historic.pratsdellucanes.cat
SUMMARY:Xerrada fons Next Generation
DESCRIPTION:
URL:https://historic.pratsdellucanes.cat/esdeveniment/xerrada-fons-next-generation/
CATEGORIES:Agenda
ATTACH;FMTTYPE=image/jpeg:https://historic.pratsdellucanes.cat/wp-content/uploads/2022/11/CARTELL_EFICIENCIA_ENERGETICA.jpg
END:VEVENT
BEGIN:VEVENT
DTSTART;VALUE=DATE:20221125
DTEND;VALUE=DATE:20221126
DTSTAMP:20260423T045714
CREATED:20221123T090210Z
LAST-MODIFIED:20221123T090210Z
UID:48327-1669334400-1669420799@historic.pratsdellucanes.cat
SUMMARY:Dia Internacional per l'eliminació de la violència contra les dones
DESCRIPTION:
URL:https://historic.pratsdellucanes.cat/esdeveniment/dia-internacional-per-leliminacio-de-la-violencia-contra-les-dones/
CATEGORIES:Agenda
ATTACH;FMTTYPE=image/jpeg:https://historic.pratsdellucanes.cat/wp-content/uploads/2022/11/ACTIVITATS_25N_2022_XXSS-01.jpg
END:VEVENT
BEGIN:VEVENT
DTSTART;VALUE=DATE:20221125
DTEND;VALUE=DATE:20221126
DTSTAMP:20260423T045714
CREATED:20230116T145546Z
LAST-MODIFIED:20230116T145546Z
UID:48926-1669334400-1669420799@historic.pratsdellucanes.cat
SUMMARY:Actes 25N
DESCRIPTION:
URL:https://historic.pratsdellucanes.cat/esdeveniment/actes-25n/
CATEGORIES:Agenda de l'alcalde
END:VEVENT
BEGIN:VEVENT
DTSTART;TZID=Europe/Helsinki:20221129T090000
DTEND;TZID=Europe/Helsinki:20221129T100000
DTSTAMP:20260423T045714
CREATED:20230116T145623Z
LAST-MODIFIED:20230116T145623Z
UID:48928-1669712400-1669716000@historic.pratsdellucanes.cat
SUMMARY:Reunió amb la direcció de La Pitota
DESCRIPTION:
URL:https://historic.pratsdellucanes.cat/esdeveniment/reunio-amb-la-direccio-de-la-pitota/
CATEGORIES:Agenda de l'alcalde
END:VEVENT
END:VCALENDAR