BEGIN:VCALENDAR
VERSION:2.0
PRODID:-//Ajuntament de Prats de Lluçanès - ECPv6.14.2//NONSGML v1.0//EN
CALSCALE:GREGORIAN
METHOD:PUBLISH
X-WR-CALNAME:Ajuntament de Prats de Lluçanès
X-ORIGINAL-URL:https://historic.pratsdellucanes.cat
X-WR-CALDESC:Esdeveniments per Ajuntament de Prats de Lluçanès
REFRESH-INTERVAL;VALUE=DURATION:PT1H
X-Robots-Tag:noindex
X-PUBLISHED-TTL:PT1H
BEGIN:VTIMEZONE
TZID:Europe/Helsinki
BEGIN:DAYLIGHT
TZOFFSETFROM:+0200
TZOFFSETTO:+0300
TZNAME:EEST
DTSTART:20220327T010000
END:DAYLIGHT
BEGIN:STANDARD
TZOFFSETFROM:+0300
TZOFFSETTO:+0200
TZNAME:EET
DTSTART:20221030T010000
END:STANDARD
END:VTIMEZONE
BEGIN:VEVENT
DTSTART;TZID=Europe/Helsinki:20221201T100000
DTEND;TZID=Europe/Helsinki:20221201T110000
DTSTAMP:20260423T103442
CREATED:20230105T102919Z
LAST-MODIFIED:20230105T102919Z
UID:48733-1669888800-1669892400@historic.pratsdellucanes.cat
SUMMARY:Reunió Fundació Dr.Grau
DESCRIPTION:
URL:https://historic.pratsdellucanes.cat/esdeveniment/reunio-fundacio-dr-grau/
CATEGORIES:Agenda de l'alcalde
END:VEVENT
BEGIN:VEVENT
DTSTART;TZID=Europe/Helsinki:20221202T090000
DTEND;TZID=Europe/Helsinki:20221202T100000
DTSTAMP:20260423T103442
CREATED:20230105T102959Z
LAST-MODIFIED:20230105T102959Z
UID:48735-1669971600-1669975200@historic.pratsdellucanes.cat
SUMMARY:Reunió obres biblioteca
DESCRIPTION:
URL:https://historic.pratsdellucanes.cat/esdeveniment/reunio-obres-biblioteca/
CATEGORIES:Agenda de l'alcalde
END:VEVENT
BEGIN:VEVENT
DTSTART;TZID=Europe/Helsinki:20221202T110000
DTEND;TZID=Europe/Helsinki:20221202T120000
DTSTAMP:20260423T103442
CREATED:20230105T104212Z
LAST-MODIFIED:20230105T104212Z
UID:48737-1669978800-1669982400@historic.pratsdellucanes.cat
SUMMARY:Reunió seguretat
DESCRIPTION:
URL:https://historic.pratsdellucanes.cat/esdeveniment/reunio-seguretat/
CATEGORIES:Agenda de l'alcalde
END:VEVENT
BEGIN:VEVENT
DTSTART;TZID=Europe/Helsinki:20221203T203000
DTEND;TZID=Europe/Helsinki:20221203T220000
DTSTAMP:20260423T103442
CREATED:20221123T090316Z
LAST-MODIFIED:20221127T170552Z
UID:48329-1670099400-1670104800@historic.pratsdellucanes.cat
SUMMARY:Obra de teatre 'Llet amb por'
DESCRIPTION:
URL:https://historic.pratsdellucanes.cat/esdeveniment/obra-de-teatre-llet-amb-por/
CATEGORIES:Agenda
ATTACH;FMTTYPE=image/jpeg:https://historic.pratsdellucanes.cat/wp-content/uploads/2022/11/llet-amb-por-ok.jpg
END:VEVENT
BEGIN:VEVENT
DTSTART;TZID=Europe/Helsinki:20221207T100000
DTEND;TZID=Europe/Helsinki:20221207T120000
DTSTAMP:20260423T103442
CREATED:20230105T104404Z
LAST-MODIFIED:20230105T104404Z
UID:48739-1670407200-1670414400@historic.pratsdellucanes.cat
SUMMARY:Reunió comunicació
DESCRIPTION:
URL:https://historic.pratsdellucanes.cat/esdeveniment/reunio-comunicacio/
CATEGORIES:Agenda de l'alcalde
END:VEVENT
BEGIN:VEVENT
DTSTART;VALUE=DATE:20221209
DTEND;VALUE=DATE:20221212
DTSTAMP:20260423T103442
CREATED:20221123T090403Z
LAST-MODIFIED:20221128T101143Z
UID:48332-1670544000-1670803199@historic.pratsdellucanes.cat
SUMMARY:Fira de Santa Llúcia
DESCRIPTION:
URL:https://historic.pratsdellucanes.cat/esdeveniment/fira-de-santa-llucia-2/
CATEGORIES:Agenda
ATTACH;FMTTYPE=image/jpeg:https://historic.pratsdellucanes.cat/wp-content/uploads/2022/11/TIRPTIC_FIRA_SANTA_LLUCIA_2022_INSTA_1.jpg
END:VEVENT
BEGIN:VEVENT
DTSTART;TZID=Europe/Helsinki:20221209T100000
DTEND;TZID=Europe/Helsinki:20221209T110000
DTSTAMP:20260423T103442
CREATED:20230105T104445Z
LAST-MODIFIED:20230105T104445Z
UID:48741-1670580000-1670583600@historic.pratsdellucanes.cat
SUMMARY:Jornada tècnica Fira Santa Llúcia
DESCRIPTION:
URL:https://historic.pratsdellucanes.cat/esdeveniment/jornada-tecnica-fira-santa-llucia/
CATEGORIES:Agenda de l'alcalde
END:VEVENT
BEGIN:VEVENT
DTSTART;VALUE=DATE:20221210
DTEND;VALUE=DATE:20221212
DTSTAMP:20260423T103442
CREATED:20230105T104527Z
LAST-MODIFIED:20230105T104527Z
UID:48743-1670630400-1670803199@historic.pratsdellucanes.cat
SUMMARY:Fira de Santa Llúcia
DESCRIPTION:
URL:https://historic.pratsdellucanes.cat/esdeveniment/fira-de-santa-llucia-3/
CATEGORIES:Agenda de l'alcalde
END:VEVENT
BEGIN:VEVENT
DTSTART;TZID=Europe/Helsinki:20221211T120000
DTEND;TZID=Europe/Helsinki:20221211T190000
DTSTAMP:20260423T103442
CREATED:20221129T095347Z
LAST-MODIFIED:20221129T095347Z
UID:48369-1670760000-1670785200@historic.pratsdellucanes.cat
SUMMARY:Festival Itineràncies a Prats de Lluçanès
DESCRIPTION:
URL:https://historic.pratsdellucanes.cat/esdeveniment/festival-itinerancies-a-prats-de-llucanes/
CATEGORIES:Agenda
ATTACH;FMTTYPE=image/jpeg:https://historic.pratsdellucanes.cat/wp-content/uploads/2022/11/CARTELL_ITINERANCIES_2022.jpg
END:VEVENT
BEGIN:VEVENT
DTSTART;TZID=Europe/Helsinki:20221213T080000
DTEND;TZID=Europe/Helsinki:20221213T170000
DTSTAMP:20260423T103442
CREATED:20221213T135432Z
LAST-MODIFIED:20221213T135432Z
UID:48410-1670918400-1670950800@historic.pratsdellucanes.cat
SUMMARY:Concert de Nadal amb la Coral Escriny
DESCRIPTION:A les 9 del vespre\, a l’Església Parroquial.
URL:https://historic.pratsdellucanes.cat/esdeveniment/concert-de-nadal-amb-la-coral-escriny/
CATEGORIES:Agenda
END:VEVENT
BEGIN:VEVENT
DTSTART;TZID=Europe/Helsinki:20221213T110000
DTEND;TZID=Europe/Helsinki:20221213T130000
DTSTAMP:20260423T103442
CREATED:20230105T104719Z
LAST-MODIFIED:20230105T104719Z
UID:48745-1670929200-1670936400@historic.pratsdellucanes.cat
SUMMARY:Reunió equip govern local
DESCRIPTION:
URL:https://historic.pratsdellucanes.cat/esdeveniment/reunio-equip-govern-local/
CATEGORIES:Agenda de l'alcalde
END:VEVENT
BEGIN:VEVENT
DTSTART;TZID=Europe/Helsinki:20221214T090000
DTEND;TZID=Europe/Helsinki:20221214T100000
DTSTAMP:20260423T103442
CREATED:20230105T105050Z
LAST-MODIFIED:20230105T105050Z
UID:48749-1671008400-1671012000@historic.pratsdellucanes.cat
SUMMARY:Reunió deixalleria cartellera
DESCRIPTION:
URL:https://historic.pratsdellucanes.cat/esdeveniment/reunio-deixalleria-cartellera/
CATEGORIES:Agenda de l'alcalde
END:VEVENT
BEGIN:VEVENT
DTSTART;TZID=Europe/Helsinki:20221214T203000
DTEND;TZID=Europe/Helsinki:20221214T220000
DTSTAMP:20260423T103442
CREATED:20230105T105147Z
LAST-MODIFIED:20230105T105147Z
UID:48751-1671049800-1671055200@historic.pratsdellucanes.cat
SUMMARY:Ple municipal
DESCRIPTION:
URL:https://historic.pratsdellucanes.cat/esdeveniment/ple-municipal-14/
CATEGORIES:Agenda de l'alcalde
END:VEVENT
BEGIN:VEVENT
DTSTART;TZID=Europe/Helsinki:20221215T090000
DTEND;TZID=Europe/Helsinki:20221215T100000
DTSTAMP:20260423T103442
CREATED:20230105T105559Z
LAST-MODIFIED:20230105T105559Z
UID:48753-1671094800-1671098400@historic.pratsdellucanes.cat
SUMMARY:Reunió oficines
DESCRIPTION:
URL:https://historic.pratsdellucanes.cat/esdeveniment/reunio-oficines/
CATEGORIES:Agenda de l'alcalde
END:VEVENT
BEGIN:VEVENT
DTSTART;TZID=Europe/Helsinki:20221215T100000
DTEND;TZID=Europe/Helsinki:20221215T110000
DTSTAMP:20260423T103442
CREATED:20230105T105646Z
LAST-MODIFIED:20230105T105646Z
UID:48755-1671098400-1671102000@historic.pratsdellucanes.cat
SUMMARY:Reunió veïns propietari
DESCRIPTION:
URL:https://historic.pratsdellucanes.cat/esdeveniment/reunio-veins-propietari/
CATEGORIES:Agenda de l'alcalde
END:VEVENT
BEGIN:VEVENT
DTSTART;TZID=Europe/Helsinki:20221215T120000
DTEND;TZID=Europe/Helsinki:20221215T130000
DTSTAMP:20260423T103442
CREATED:20230105T105807Z
LAST-MODIFIED:20230105T105807Z
UID:48757-1671105600-1671109200@historic.pratsdellucanes.cat
SUMMARY:Reunió AFA IES Castell del Quer
DESCRIPTION:
URL:https://historic.pratsdellucanes.cat/esdeveniment/reunio-afa-ies-castell-del-quer/
CATEGORIES:Agenda de l'alcalde
END:VEVENT
BEGIN:VEVENT
DTSTART;TZID=Europe/Helsinki:20221215T170000
DTEND;TZID=Europe/Helsinki:20221215T170000
DTSTAMP:20260423T103442
CREATED:20221213T134040Z
LAST-MODIFIED:20221213T134040Z
UID:48406-1671123600-1671123600@historic.pratsdellucanes.cat
SUMMARY:Xerrada per La Marató de TV3: La salut cardiovascular
DESCRIPTION:A les 5 de la tarda\, a l’Espai Social de la Gent Gran. A càrrec del Dr. Miquel Casadevall.
URL:https://historic.pratsdellucanes.cat/esdeveniment/xerrada-per-la-marato-de-tv3-la-salut-cardiovascular/
END:VEVENT
BEGIN:VEVENT
DTSTART;TZID=Europe/Helsinki:20221216T090000
DTEND;TZID=Europe/Helsinki:20221216T100000
DTSTAMP:20260423T103442
CREATED:20230105T105914Z
LAST-MODIFIED:20230105T105914Z
UID:48759-1671181200-1671184800@historic.pratsdellucanes.cat
SUMMARY:Reunió SENPLAG
DESCRIPTION:
URL:https://historic.pratsdellucanes.cat/esdeveniment/reunio-senplag-3/
CATEGORIES:Agenda de l'alcalde
END:VEVENT
BEGIN:VEVENT
DTSTART;TZID=Europe/Helsinki:20221216T170000
DTEND;TZID=Europe/Helsinki:20221216T180000
DTSTAMP:20260423T103442
CREATED:20230105T105958Z
LAST-MODIFIED:20230105T105958Z
UID:48761-1671210000-1671213600@historic.pratsdellucanes.cat
SUMMARY:Torronada Casal dels Avis
DESCRIPTION:
URL:https://historic.pratsdellucanes.cat/esdeveniment/torronada-casal-dels-avis/
CATEGORIES:Agenda de l'alcalde
END:VEVENT
BEGIN:VEVENT
DTSTART;TZID=Europe/Helsinki:20221216T171500
DTEND;TZID=Europe/Helsinki:20221216T171500
DTSTAMP:20260423T103442
CREATED:20221213T135703Z
LAST-MODIFIED:20221213T135703Z
UID:48412-1671210900-1671210900@historic.pratsdellucanes.cat
SUMMARY:Torronada i Concert de Nadal
DESCRIPTION:A partir d’1/4 de 6 de la tarda\, a l’Espai Social de la Gent Gran.\nOrganitza: Espai Social de la Gent Gran\nCol·labora: Coral Sant Jordi de Prats
URL:https://historic.pratsdellucanes.cat/esdeveniment/torronada-i-concert-de-nadal/
CATEGORIES:Agenda
END:VEVENT
BEGIN:VEVENT
DTSTART;TZID=Europe/Helsinki:20221216T200000
DTEND;TZID=Europe/Helsinki:20221216T210000
DTSTAMP:20260423T103442
CREATED:20230105T110029Z
LAST-MODIFIED:20230105T110029Z
UID:48763-1671220800-1671224400@historic.pratsdellucanes.cat
SUMMARY:Acte Pere Vila Espona
DESCRIPTION:
URL:https://historic.pratsdellucanes.cat/esdeveniment/acte-pere-vila-espona/
CATEGORIES:Agenda de l'alcalde
END:VEVENT
BEGIN:VEVENT
DTSTART;TZID=Europe/Helsinki:20221216T210000
DTEND;TZID=Europe/Helsinki:20221216T210000
DTSTAMP:20260423T103442
CREATED:20221213T133815Z
LAST-MODIFIED:20221213T133846Z
UID:48402-1671224400-1671224400@historic.pratsdellucanes.cat
SUMMARY:Acte de commemoració del centenari de Pere Vila i Espona
DESCRIPTION:Prats de Lluçanès recorda a les 9 del vespre a l’Espai\, el poeta i dramaturg Pere Vila i Espona “Peret Siller” amb un acte commemoratiu del centenari del seu naixement\, organitzat per familiars i amics del poeta.
URL:https://historic.pratsdellucanes.cat/esdeveniment/acte-de-commemoracio-del-centenari-de-pere-vila-i-espona/
CATEGORIES:Agenda
ATTACH;FMTTYPE=image/jpeg:https://historic.pratsdellucanes.cat/wp-content/uploads/2022/12/WhatsApp-Image-2022-12-13-at-09.44.53.jpeg
END:VEVENT
BEGIN:VEVENT
DTSTART;TZID=Europe/Helsinki:20221217T100000
DTEND;TZID=Europe/Helsinki:20221218T140000
DTSTAMP:20260423T103442
CREATED:20221216T113543Z
LAST-MODIFIED:20221216T113543Z
UID:48467-1671271200-1671372000@historic.pratsdellucanes.cat
SUMMARY:Mercat de Nadal
DESCRIPTION:A la plaça de l’Església
URL:https://historic.pratsdellucanes.cat/esdeveniment/mercat-de-nadal/
CATEGORIES:Agenda
END:VEVENT
BEGIN:VEVENT
DTSTART;TZID=Europe/Helsinki:20221217T100000
DTEND;TZID=Europe/Helsinki:20221218T170000
DTSTAMP:20260423T103442
CREATED:20221123T090445Z
LAST-MODIFIED:20221212T125903Z
UID:48334-1671271200-1671382800@historic.pratsdellucanes.cat
SUMMARY:Campanya de donació de sang
DESCRIPTION:
URL:https://historic.pratsdellucanes.cat/esdeveniment/campanya-de-donacio-de-sang/
CATEGORIES:Agenda
END:VEVENT
BEGIN:VEVENT
DTSTART;TZID=Europe/Helsinki:20221217T120000
DTEND;TZID=Europe/Helsinki:20221217T120000
DTSTAMP:20260423T103442
CREATED:20221213T135919Z
LAST-MODIFIED:20221213T135919Z
UID:48414-1671278400-1671278400@historic.pratsdellucanes.cat
SUMMARY:Trobada de bandes del Lluçanès
DESCRIPTION:A partir de les 12 del migdia\, als jardins de la Farmàcia Vella. Hi participaran la banda de l’escola La Forja\, la banda de l’escola Heurom i la banda de l’EMAL.
URL:https://historic.pratsdellucanes.cat/esdeveniment/trobada-de-bandes-del-llucanes/
CATEGORIES:Agenda
END:VEVENT
BEGIN:VEVENT
DTSTART;TZID=Europe/Helsinki:20221217T120000
DTEND;TZID=Europe/Helsinki:20221217T130000
DTSTAMP:20260423T103442
CREATED:20230105T110205Z
LAST-MODIFIED:20230105T110205Z
UID:48765-1671278400-1671282000@historic.pratsdellucanes.cat
SUMMARY:Trobada bandes EMAL
DESCRIPTION:
URL:https://historic.pratsdellucanes.cat/esdeveniment/trobada-bandes-emal/
CATEGORIES:Agenda de l'alcalde
END:VEVENT
BEGIN:VEVENT
DTSTART;TZID=Europe/Helsinki:20221217T170000
DTEND;TZID=Europe/Helsinki:20221217T170000
DTSTAMP:20260423T103442
CREATED:20221213T135243Z
LAST-MODIFIED:20221213T135243Z
UID:48408-1671296400-1671296400@historic.pratsdellucanes.cat
SUMMARY:Xocolatada per La Marató de TV3
DESCRIPTION:A les 5 de la tarda\, a la plaça de l’Església.
URL:https://historic.pratsdellucanes.cat/esdeveniment/xocolatada-per-la-marato-de-tv3/
CATEGORIES:Agenda
END:VEVENT
BEGIN:VEVENT
DTSTART;TZID=Europe/Helsinki:20221217T170000
DTEND;TZID=Europe/Helsinki:20221217T170000
DTSTAMP:20260423T103442
CREATED:20221215T171021Z
LAST-MODIFIED:20221215T171021Z
UID:48444-1671296400-1671296400@historic.pratsdellucanes.cat
SUMMARY:Cantada de nadales participativa
DESCRIPTION:A partir de les 5 de la tarda a la plaça de l’Església.
URL:https://historic.pratsdellucanes.cat/esdeveniment/cantada-de-nadales-participativa/
CATEGORIES:Agenda
END:VEVENT
BEGIN:VEVENT
DTSTART;TZID=Europe/Helsinki:20221217T193000
DTEND;TZID=Europe/Helsinki:20221217T193000
DTSTAMP:20260423T103442
CREATED:20221215T171123Z
LAST-MODIFIED:20221215T171123Z
UID:48446-1671305400-1671305400@historic.pratsdellucanes.cat
SUMMARY:Audiovisual: El canvi climàtic a les glaceres del Pirineu
DESCRIPTION:A 2/4 de 8 del vespre a la sala de Plens de l’Ajuntament de Prats.
URL:https://historic.pratsdellucanes.cat/esdeveniment/audiovisual-el-canvi-climatic-a-les-glaceres-del-pirineu/
CATEGORIES:Agenda
END:VEVENT
BEGIN:VEVENT
DTSTART;TZID=Europe/Helsinki:20221217T210000
DTEND;TZID=Europe/Helsinki:20221217T210000
DTSTAMP:20260423T103442
CREATED:20221215T171208Z
LAST-MODIFIED:20221215T171208Z
UID:48448-1671310800-1671310800@historic.pratsdellucanes.cat
SUMMARY:Concert de Nadal per La Marató de TV3
DESCRIPTION:A les 9 del vespre\, a l’Església Parroquial.
URL:https://historic.pratsdellucanes.cat/esdeveniment/concert-de-nadal-per-la-marato-de-tv3/
CATEGORIES:Agenda
END:VEVENT
END:VCALENDAR