BEGIN:VCALENDAR
VERSION:2.0
PRODID:-//Ajuntament de Prats de Lluçanès - ECPv6.14.2//NONSGML v1.0//EN
CALSCALE:GREGORIAN
METHOD:PUBLISH
X-ORIGINAL-URL:https://historic.pratsdellucanes.cat
X-WR-CALDESC:Esdeveniments per Ajuntament de Prats de Lluçanès
REFRESH-INTERVAL;VALUE=DURATION:PT1H
X-Robots-Tag:noindex
X-PUBLISHED-TTL:PT1H
BEGIN:VTIMEZONE
TZID:Europe/Helsinki
BEGIN:DAYLIGHT
TZOFFSETFROM:+0200
TZOFFSETTO:+0300
TZNAME:EEST
DTSTART:20230326T010000
END:DAYLIGHT
BEGIN:STANDARD
TZOFFSETFROM:+0300
TZOFFSETTO:+0200
TZNAME:EET
DTSTART:20231029T010000
END:STANDARD
END:VTIMEZONE
BEGIN:VEVENT
DTSTART;TZID=Europe/Helsinki:20230101T010000
DTEND;TZID=Europe/Helsinki:20230101T010000
DTSTAMP:20260423T012604
CREATED:20221221T100719Z
LAST-MODIFIED:20221221T100719Z
UID:48510-1672534800-1672534800@historic.pratsdellucanes.cat
SUMMARY:Revetlla de Cap d'Any
DESCRIPTION:Al pavelló municipal\, amb el grup de versions D-Covers i el punxadiscos DJ Xandri.
URL:https://historic.pratsdellucanes.cat/esdeveniment/revetlla-de-cap-dany-2/
CATEGORIES:Agenda
END:VEVENT
BEGIN:VEVENT
DTSTART;TZID=Europe/Helsinki:20230101T120000
DTEND;TZID=Europe/Helsinki:20230101T120000
DTSTAMP:20260423T012604
CREATED:20221220T123051Z
LAST-MODIFIED:20221220T123051Z
UID:48491-1672574400-1672574400@historic.pratsdellucanes.cat
SUMMARY:Arribada dels Carters Reials
DESCRIPTION:Als Jardins de la Farmàcia Vella.
URL:https://historic.pratsdellucanes.cat/esdeveniment/arribada-dels-carters-reials/
CATEGORIES:Agenda
END:VEVENT
BEGIN:VEVENT
DTSTART;TZID=Europe/Helsinki:20230101T120000
DTEND;TZID=Europe/Helsinki:20230101T140000
DTSTAMP:20260423T012604
CREATED:20230125T102602Z
LAST-MODIFIED:20230125T102602Z
UID:49049-1672574400-1672581600@historic.pratsdellucanes.cat
SUMMARY:Arribada Carters Reials
DESCRIPTION:
URL:https://historic.pratsdellucanes.cat/esdeveniment/arribada-carters-reials/
CATEGORIES:Agenda de l'alcalde
END:VEVENT
BEGIN:VEVENT
DTSTART;TZID=Europe/Helsinki:20230103T090000
DTEND;TZID=Europe/Helsinki:20230103T100000
DTSTAMP:20260423T012604
CREATED:20230125T102632Z
LAST-MODIFIED:20230125T102632Z
UID:49051-1672736400-1672740000@historic.pratsdellucanes.cat
SUMMARY:Reunió equip de govern
DESCRIPTION:
URL:https://historic.pratsdellucanes.cat/esdeveniment/reunio-equip-de-govern-389/
CATEGORIES:Agenda de l'alcalde
END:VEVENT
BEGIN:VEVENT
DTSTART;TZID=Europe/Helsinki:20230105T100000
DTEND;TZID=Europe/Helsinki:20230105T110000
DTSTAMP:20260423T012604
CREATED:20230125T102705Z
LAST-MODIFIED:20230125T102705Z
UID:49053-1672912800-1672916400@historic.pratsdellucanes.cat
SUMMARY:Reunió NOVATILIU
DESCRIPTION:
URL:https://historic.pratsdellucanes.cat/esdeveniment/reunio-novatiliu/
CATEGORIES:Agenda de l'alcalde
END:VEVENT
BEGIN:VEVENT
DTSTART;TZID=Europe/Helsinki:20230105T110000
DTEND;TZID=Europe/Helsinki:20230105T130000
DTSTAMP:20260423T012604
CREATED:20230105T104758Z
LAST-MODIFIED:20230105T104758Z
UID:48747-1672916400-1672923600@historic.pratsdellucanes.cat
SUMMARY:Junta de govern local
DESCRIPTION:
URL:https://historic.pratsdellucanes.cat/esdeveniment/junta-de-govern-local-2/
CATEGORIES:Agenda de l'alcalde
END:VEVENT
BEGIN:VEVENT
DTSTART;TZID=Europe/Helsinki:20230105T180000
DTEND;TZID=Europe/Helsinki:20230105T180000
DTSTAMP:20260423T012604
CREATED:20221220T123845Z
LAST-MODIFIED:20221220T123845Z
UID:48496-1672941600-1672941600@historic.pratsdellucanes.cat
SUMMARY:Arribada de la Cavalcada Reial
DESCRIPTION:Arriben pel cantó de Lurdes i passaran pels diferents carrers del poble.
URL:https://historic.pratsdellucanes.cat/esdeveniment/arribada-de-la-cavalcada-reial/
CATEGORIES:Agenda
END:VEVENT
BEGIN:VEVENT
DTSTART;TZID=Europe/Helsinki:20230105T180000
DTEND;TZID=Europe/Helsinki:20230105T210000
DTSTAMP:20260423T012604
CREATED:20230125T102736Z
LAST-MODIFIED:20230125T102736Z
UID:49055-1672941600-1672952400@historic.pratsdellucanes.cat
SUMMARY:Arribada dels Reis d'Orient
DESCRIPTION:
URL:https://historic.pratsdellucanes.cat/esdeveniment/arribada-dels-reis-dorient/
CATEGORIES:Agenda de l'alcalde
END:VEVENT
BEGIN:VEVENT
DTSTART;TZID=Europe/Helsinki:20230106T010000
DTEND;TZID=Europe/Helsinki:20230106T010000
DTSTAMP:20260423T012604
CREATED:20230102T121027Z
LAST-MODIFIED:20230102T121027Z
UID:48596-1672966800-1672966800@historic.pratsdellucanes.cat
SUMMARY:Discomòbil Reial
DESCRIPTION:Sala Polivalent.
URL:https://historic.pratsdellucanes.cat/esdeveniment/discomobil-reial-3/
CATEGORIES:Agenda
END:VEVENT
BEGIN:VEVENT
DTSTART;TZID=Europe/Helsinki:20230107T160000
DTEND;TZID=Europe/Helsinki:20230107T170000
DTSTAMP:20260423T012604
CREATED:20230125T102806Z
LAST-MODIFIED:20230125T102806Z
UID:49057-1673107200-1673110800@historic.pratsdellucanes.cat
SUMMARY:Entrevista estudiant local
DESCRIPTION:
URL:https://historic.pratsdellucanes.cat/esdeveniment/entrevista-estudiant-local/
CATEGORIES:Agenda de l'alcalde
END:VEVENT
BEGIN:VEVENT
DTSTART;TZID=Europe/Helsinki:20230113T090000
DTEND;TZID=Europe/Helsinki:20230113T100000
DTSTAMP:20260423T012604
CREATED:20230125T103606Z
LAST-MODIFIED:20230125T103606Z
UID:49059-1673600400-1673604000@historic.pratsdellucanes.cat
SUMMARY:Junta de govern local
DESCRIPTION:
URL:https://historic.pratsdellucanes.cat/esdeveniment/junta-de-govern-local-8/
CATEGORIES:Agenda de l'alcalde
END:VEVENT
BEGIN:VEVENT
DTSTART;TZID=Europe/Helsinki:20230113T110000
DTEND;TZID=Europe/Helsinki:20230113T120000
DTSTAMP:20260423T012604
CREATED:20230125T103638Z
LAST-MODIFIED:20230125T103638Z
UID:49061-1673607600-1673611200@historic.pratsdellucanes.cat
SUMMARY:Reunió veïns
DESCRIPTION:
URL:https://historic.pratsdellucanes.cat/esdeveniment/reunio-veins/
CATEGORIES:Agenda de l'alcalde
END:VEVENT
BEGIN:VEVENT
DTSTART;TZID=Europe/Helsinki:20230113T120000
DTEND;TZID=Europe/Helsinki:20230113T130000
DTSTAMP:20260423T012604
CREATED:20230125T103704Z
LAST-MODIFIED:20230125T103704Z
UID:49063-1673611200-1673614800@historic.pratsdellucanes.cat
SUMMARY:Reunió Igualtat
DESCRIPTION:
URL:https://historic.pratsdellucanes.cat/esdeveniment/reunio-igualtat-4/
CATEGORIES:Agenda de l'alcalde
END:VEVENT
BEGIN:VEVENT
DTSTART;TZID=Europe/Helsinki:20230117T090000
DTEND;TZID=Europe/Helsinki:20230117T100000
DTSTAMP:20260423T012604
CREATED:20230125T103745Z
LAST-MODIFIED:20230125T103745Z
UID:49065-1673946000-1673949600@historic.pratsdellucanes.cat
SUMMARY:Reunió equip de govern
DESCRIPTION:
URL:https://historic.pratsdellucanes.cat/esdeveniment/reunio-equip-de-govern-390/
CATEGORIES:Agenda de l'alcalde
END:VEVENT
BEGIN:VEVENT
DTSTART;TZID=Europe/Helsinki:20230117T100000
DTEND;TZID=Europe/Helsinki:20230117T110000
DTSTAMP:20260423T012604
CREATED:20230125T103817Z
LAST-MODIFIED:20230125T103817Z
UID:49067-1673949600-1673953200@historic.pratsdellucanes.cat
SUMMARY:Mesa de negociació
DESCRIPTION:
URL:https://historic.pratsdellucanes.cat/esdeveniment/mesa-de-negociacio-5/
CATEGORIES:Agenda de l'alcalde
END:VEVENT
BEGIN:VEVENT
DTSTART;TZID=Europe/Helsinki:20230117T120000
DTEND;TZID=Europe/Helsinki:20230117T130000
DTSTAMP:20260423T012604
CREATED:20230125T103842Z
LAST-MODIFIED:20230125T103842Z
UID:49069-1673956800-1673960400@historic.pratsdellucanes.cat
SUMMARY:Reunió comissió Festes
DESCRIPTION:
URL:https://historic.pratsdellucanes.cat/esdeveniment/reunio-comissio-festes-3/
CATEGORIES:Agenda de l'alcalde
END:VEVENT
BEGIN:VEVENT
DTSTART;TZID=Europe/Helsinki:20230118T080000
DTEND;TZID=Europe/Helsinki:20230118T170000
DTSTAMP:20260423T012604
CREATED:20230109T121720Z
LAST-MODIFIED:20230109T121720Z
UID:48807-1674028800-1674061200@historic.pratsdellucanes.cat
SUMMARY:Ple municipal
DESCRIPTION:
URL:https://historic.pratsdellucanes.cat/esdeveniment/ple-municipal-16/
CATEGORIES:Agenda,Agenda de l'alcalde,Agenda política
END:VEVENT
BEGIN:VEVENT
DTSTART;TZID=Europe/Helsinki:20230118T120000
DTEND;TZID=Europe/Helsinki:20230118T130000
DTSTAMP:20260423T012604
CREATED:20230125T103911Z
LAST-MODIFIED:20230125T103911Z
UID:49071-1674043200-1674046800@historic.pratsdellucanes.cat
SUMMARY:Reunió arquitecte municipal - secretaria
DESCRIPTION:
URL:https://historic.pratsdellucanes.cat/esdeveniment/reunio-arquitecte-municipal-secretaria/
CATEGORIES:Agenda de l'alcalde
END:VEVENT
BEGIN:VEVENT
DTSTART;VALUE=DATE:20230120
DTEND;VALUE=DATE:20230123
DTSTAMP:20260423T012604
CREATED:20230109T121616Z
LAST-MODIFIED:20230125T104032Z
UID:48805-1674172800-1674431999@historic.pratsdellucanes.cat
SUMMARY:Festa Major de Sant Vicenç
DESCRIPTION:
URL:https://historic.pratsdellucanes.cat/esdeveniment/festa-major-de-sant-vicenc-2/
CATEGORIES:Agenda,Agenda de l'alcalde
ATTACH;FMTTYPE=image/jpeg:https://historic.pratsdellucanes.cat/wp-content/uploads/2023/01/WhatsApp-Image-2023-01-12-at-20.07.45-1.jpeg
END:VEVENT
BEGIN:VEVENT
DTSTART;TZID=Europe/Helsinki:20230120T120000
DTEND;TZID=Europe/Helsinki:20230120T130000
DTSTAMP:20260423T012604
CREATED:20230125T103956Z
LAST-MODIFIED:20230125T103956Z
UID:49073-1674216000-1674219600@historic.pratsdellucanes.cat
SUMMARY:Reunió Moto Club Lluçanès
DESCRIPTION:
URL:https://historic.pratsdellucanes.cat/esdeveniment/reunio-moto-club-llucanes/
CATEGORIES:Agenda de l'alcalde
END:VEVENT
BEGIN:VEVENT
DTSTART;TZID=Europe/Helsinki:20230124T090000
DTEND;TZID=Europe/Helsinki:20230124T100000
DTSTAMP:20260423T012604
CREATED:20230125T104218Z
LAST-MODIFIED:20230125T104218Z
UID:49077-1674550800-1674554400@historic.pratsdellucanes.cat
SUMMARY:Reunió equip de govern
DESCRIPTION:
URL:https://historic.pratsdellucanes.cat/esdeveniment/reunio-equip-de-govern-391/
CATEGORIES:Agenda de l'alcalde
END:VEVENT
BEGIN:VEVENT
DTSTART;TZID=Europe/Helsinki:20230124T100000
DTEND;TZID=Europe/Helsinki:20230124T110000
DTSTAMP:20260423T012604
CREATED:20230125T104140Z
LAST-MODIFIED:20230125T104140Z
UID:49075-1674554400-1674558000@historic.pratsdellucanes.cat
SUMMARY:Reunió ruta Eqüestre
DESCRIPTION:
URL:https://historic.pratsdellucanes.cat/esdeveniment/reunio-ruta-equestre/
CATEGORIES:Agenda de l'alcalde
END:VEVENT
BEGIN:VEVENT
DTSTART;TZID=Europe/Helsinki:20230125T090000
DTEND;TZID=Europe/Helsinki:20230125T100000
DTSTAMP:20260423T012604
CREATED:20230125T104244Z
LAST-MODIFIED:20230125T104244Z
UID:49079-1674637200-1674640800@historic.pratsdellucanes.cat
SUMMARY:Junta de govern local
DESCRIPTION:
URL:https://historic.pratsdellucanes.cat/esdeveniment/junta-de-govern-local-9/
CATEGORIES:Agenda de l'alcalde
END:VEVENT
BEGIN:VEVENT
DTSTART;TZID=Europe/Helsinki:20230126T100000
DTEND;TZID=Europe/Helsinki:20230126T110000
DTSTAMP:20260423T012604
CREATED:20230125T104311Z
LAST-MODIFIED:20230125T104311Z
UID:49081-1674727200-1674730800@historic.pratsdellucanes.cat
SUMMARY:Reunió comissió de Reis
DESCRIPTION:
URL:https://historic.pratsdellucanes.cat/esdeveniment/reunio-comissio-de-reis-5/
CATEGORIES:Agenda de l'alcalde
END:VEVENT
BEGIN:VEVENT
DTSTART;TZID=Europe/Helsinki:20230126T120000
DTEND;TZID=Europe/Helsinki:20230126T130000
DTSTAMP:20260423T012604
CREATED:20230125T104346Z
LAST-MODIFIED:20230125T104346Z
UID:49083-1674734400-1674738000@historic.pratsdellucanes.cat
SUMMARY:Taula d'Igualtat
DESCRIPTION:
URL:https://historic.pratsdellucanes.cat/esdeveniment/taula-digualtat/
CATEGORIES:Agenda de l'alcalde
END:VEVENT
BEGIN:VEVENT
DTSTART;TZID=Europe/Helsinki:20230127T090000
DTEND;TZID=Europe/Helsinki:20230127T100000
DTSTAMP:20260423T012604
CREATED:20230125T104638Z
LAST-MODIFIED:20230125T104638Z
UID:49085-1674810000-1674813600@historic.pratsdellucanes.cat
SUMMARY:Reunió SENPLAG
DESCRIPTION:
URL:https://historic.pratsdellucanes.cat/esdeveniment/reunio-senplag-6/
CATEGORIES:Agenda de l'alcalde
END:VEVENT
BEGIN:VEVENT
DTSTART;TZID=Europe/Helsinki:20230127T120000
DTEND;TZID=Europe/Helsinki:20230127T140000
DTSTAMP:20260423T012604
CREATED:20230125T104707Z
LAST-MODIFIED:20230125T104707Z
UID:49087-1674820800-1674828000@historic.pratsdellucanes.cat
SUMMARY:Consell d'Alcaldes d'Osona
DESCRIPTION:
URL:https://historic.pratsdellucanes.cat/esdeveniment/consell-dalcaldes-dosona/
CATEGORIES:Agenda de l'alcalde
END:VEVENT
END:VCALENDAR