BEGIN:VCALENDAR
VERSION:2.0
PRODID:-//Ajuntament de Prats de Lluçanès - ECPv6.14.2//NONSGML v1.0//EN
CALSCALE:GREGORIAN
METHOD:PUBLISH
X-ORIGINAL-URL:https://historic.pratsdellucanes.cat
X-WR-CALDESC:Esdeveniments per Ajuntament de Prats de Lluçanès
REFRESH-INTERVAL;VALUE=DURATION:PT1H
X-Robots-Tag:noindex
X-PUBLISHED-TTL:PT1H
BEGIN:VTIMEZONE
TZID:Europe/Helsinki
BEGIN:DAYLIGHT
TZOFFSETFROM:+0200
TZOFFSETTO:+0300
TZNAME:EEST
DTSTART:20230326T010000
END:DAYLIGHT
BEGIN:STANDARD
TZOFFSETFROM:+0300
TZOFFSETTO:+0200
TZNAME:EET
DTSTART:20231029T010000
END:STANDARD
END:VTIMEZONE
BEGIN:VEVENT
DTSTART;TZID=Europe/Helsinki:20230201T090000
DTEND;TZID=Europe/Helsinki:20230201T100000
DTSTAMP:20260423T012611
CREATED:20230201T074122Z
LAST-MODIFIED:20230201T074122Z
UID:49174-1675242000-1675245600@historic.pratsdellucanes.cat
SUMMARY:Reunió equips tècnics
DESCRIPTION:
URL:https://historic.pratsdellucanes.cat/esdeveniment/reunio-equips-tecnics/
CATEGORIES:Agenda de l'alcalde
END:VEVENT
BEGIN:VEVENT
DTSTART;TZID=Europe/Helsinki:20230202T100000
DTEND;TZID=Europe/Helsinki:20230202T110000
DTSTAMP:20260423T012611
CREATED:20230201T074151Z
LAST-MODIFIED:20230201T074151Z
UID:49176-1675332000-1675335600@historic.pratsdellucanes.cat
SUMMARY:Reunió DIBA Next
DESCRIPTION:
URL:https://historic.pratsdellucanes.cat/esdeveniment/reunio-diba-next/
CATEGORIES:Agenda de l'alcalde
END:VEVENT
BEGIN:VEVENT
DTSTART;TZID=Europe/Helsinki:20230202T120000
DTEND;TZID=Europe/Helsinki:20230202T130000
DTSTAMP:20260423T012611
CREATED:20230201T074213Z
LAST-MODIFIED:20230201T074213Z
UID:49178-1675339200-1675342800@historic.pratsdellucanes.cat
SUMMARY:Taula Igualtat
DESCRIPTION:
URL:https://historic.pratsdellucanes.cat/esdeveniment/taula-igualtat-2/
CATEGORIES:Agenda de l'alcalde
END:VEVENT
BEGIN:VEVENT
DTSTART;VALUE=DATE:20230203
DTEND;VALUE=DATE:20230206
DTSTAMP:20260423T012611
CREATED:20230124T121044Z
LAST-MODIFIED:20230124T121044Z
UID:49043-1675382400-1675641599@historic.pratsdellucanes.cat
SUMMARY:Santa Àgata
DESCRIPTION:
URL:https://historic.pratsdellucanes.cat/esdeveniment/santa-agata/
CATEGORIES:Agenda,Agenda de l'alcalde
ATTACH;FMTTYPE=image/jpeg:https://historic.pratsdellucanes.cat/wp-content/uploads/2023/01/CARTELL_SANTA_AGATA_2023_XXSS.jpg
END:VEVENT
BEGIN:VEVENT
DTSTART;TZID=Europe/Helsinki:20230203T100000
DTEND;TZID=Europe/Helsinki:20230203T110000
DTSTAMP:20260423T012611
CREATED:20230201T074256Z
LAST-MODIFIED:20230201T074256Z
UID:49180-1675418400-1675422000@historic.pratsdellucanes.cat
SUMMARY:Reunió SENPLAG
DESCRIPTION:
URL:https://historic.pratsdellucanes.cat/esdeveniment/reunio-senplag-7/
CATEGORIES:Agenda de l'alcalde
END:VEVENT
BEGIN:VEVENT
DTSTART;TZID=Europe/Helsinki:20230203T203000
DTEND;TZID=Europe/Helsinki:20230203T213000
DTSTAMP:20260423T012611
CREATED:20230201T074337Z
LAST-MODIFIED:20230201T074337Z
UID:49182-1675456200-1675459800@historic.pratsdellucanes.cat
SUMMARY:Presentació treballs de recerca
DESCRIPTION:
URL:https://historic.pratsdellucanes.cat/esdeveniment/presentacio-treballs-de-recerca-2/
CATEGORIES:Agenda de l'alcalde
END:VEVENT
BEGIN:VEVENT
DTSTART;TZID=Europe/Helsinki:20230204T180000
DTEND;TZID=Europe/Helsinki:20230204T200000
DTSTAMP:20260423T012611
CREATED:20230201T074410Z
LAST-MODIFIED:20230201T074410Z
UID:49184-1675533600-1675540800@historic.pratsdellucanes.cat
SUMMARY:Aplec sardanes al pavelló
DESCRIPTION:
URL:https://historic.pratsdellucanes.cat/esdeveniment/aplec-sardanes-al-pavello/
CATEGORIES:Agenda de l'alcalde
END:VEVENT
BEGIN:VEVENT
DTSTART;TZID=Europe/Helsinki:20230207T160000
DTEND;TZID=Europe/Helsinki:20230207T170000
DTSTAMP:20260423T012611
CREATED:20230201T074505Z
LAST-MODIFIED:20230201T074505Z
UID:49186-1675785600-1675789200@historic.pratsdellucanes.cat
SUMMARY:Reunió equip de govern
DESCRIPTION:
URL:https://historic.pratsdellucanes.cat/esdeveniment/reunio-equip-de-govern-392/
CATEGORIES:Agenda de l'alcalde
END:VEVENT
BEGIN:VEVENT
DTSTART;TZID=Europe/Helsinki:20230208T110000
DTEND;TZID=Europe/Helsinki:20230208T120000
DTSTAMP:20260423T012611
CREATED:20230201T074622Z
LAST-MODIFIED:20230201T074622Z
UID:49190-1675854000-1675857600@historic.pratsdellucanes.cat
SUMMARY:Acte memorial Ravensbruck
DESCRIPTION:
URL:https://historic.pratsdellucanes.cat/esdeveniment/acte-memorial-ravensbruck/
CATEGORIES:Agenda de l'alcalde
END:VEVENT
BEGIN:VEVENT
DTSTART;TZID=Europe/Helsinki:20230208T160000
DTEND;TZID=Europe/Helsinki:20230208T170000
DTSTAMP:20260423T012611
CREATED:20230201T074551Z
LAST-MODIFIED:20230201T074551Z
UID:49188-1675872000-1675875600@historic.pratsdellucanes.cat
SUMMARY:Junta govern local
DESCRIPTION:
URL:https://historic.pratsdellucanes.cat/esdeveniment/junta-govern-local/
CATEGORIES:Agenda de l'alcalde
END:VEVENT
BEGIN:VEVENT
DTSTART;TZID=Europe/Helsinki:20230208T170000
DTEND;TZID=Europe/Helsinki:20230208T180000
DTSTAMP:20260423T012611
CREATED:20230203T092016Z
LAST-MODIFIED:20230203T092050Z
UID:49211-1675875600-1675879200@historic.pratsdellucanes.cat
SUMMARY:Acte de memòria a les víctimes de l'Holocaust
DESCRIPTION:
URL:https://historic.pratsdellucanes.cat/esdeveniment/acte-de-memoria-a-les-victimes-de-lholocaust/
CATEGORIES:Agenda,Agenda de l'alcalde
ATTACH;FMTTYPE=image/jpeg:https://historic.pratsdellucanes.cat/wp-content/uploads/2023/02/CARTELL_VICTIMES_HOLOCAUST_2023.jpg
END:VEVENT
BEGIN:VEVENT
DTSTART;TZID=Europe/Helsinki:20230212T110000
DTEND;TZID=Europe/Helsinki:20230212T120000
DTSTAMP:20260423T012611
CREATED:20230201T074739Z
LAST-MODIFIED:20230201T074739Z
UID:49192-1676199600-1676203200@historic.pratsdellucanes.cat
SUMMARY:Presentació guia del Lluçanès
DESCRIPTION:
URL:https://historic.pratsdellucanes.cat/esdeveniment/presentacio-guia-del-llucanes/
CATEGORIES:Agenda de l'alcalde
END:VEVENT
BEGIN:VEVENT
DTSTART;TZID=Europe/Helsinki:20230212T120000
DTEND;TZID=Europe/Helsinki:20230212T130000
DTSTAMP:20260423T012611
CREATED:20230202T100255Z
LAST-MODIFIED:20230202T100255Z
UID:49206-1676203200-1676206800@historic.pratsdellucanes.cat
SUMMARY:Presentació de la guia del Lluçanès
DESCRIPTION:
URL:https://historic.pratsdellucanes.cat/esdeveniment/presentacio-de-la-guia-del-llucanes/
CATEGORIES:Agenda
ATTACH;FMTTYPE=image/jpeg:https://historic.pratsdellucanes.cat/wp-content/uploads/2023/02/20230212_guiallucanes_presentacio_prats.jpg
END:VEVENT
BEGIN:VEVENT
DTSTART;TZID=Europe/Helsinki:20230214T090000
DTEND;TZID=Europe/Helsinki:20230214T100000
DTSTAMP:20260423T012611
CREATED:20230227T092909Z
LAST-MODIFIED:20230227T092909Z
UID:49304-1676365200-1676368800@historic.pratsdellucanes.cat
SUMMARY:Visita obres camp de futbol
DESCRIPTION:
URL:https://historic.pratsdellucanes.cat/esdeveniment/visita-obres-camp-de-futbol/
CATEGORIES:Agenda de l'alcalde
END:VEVENT
BEGIN:VEVENT
DTSTART;TZID=Europe/Helsinki:20230214T090000
DTEND;TZID=Europe/Helsinki:20230214T100000
DTSTAMP:20260423T012611
CREATED:20230227T092941Z
LAST-MODIFIED:20230227T092941Z
UID:49306-1676365200-1676368800@historic.pratsdellucanes.cat
SUMMARY:Reunió comunitat energètica Prats
DESCRIPTION:
URL:https://historic.pratsdellucanes.cat/esdeveniment/reunio-comunitat-energetica-prats/
CATEGORIES:Agenda de l'alcalde
END:VEVENT
BEGIN:VEVENT
DTSTART;TZID=Europe/Helsinki:20230214T100000
DTEND;TZID=Europe/Helsinki:20230214T110000
DTSTAMP:20260423T012611
CREATED:20230227T093035Z
LAST-MODIFIED:20230227T093035Z
UID:49308-1676368800-1676372400@historic.pratsdellucanes.cat
SUMMARY:Reunió enllumenat
DESCRIPTION:
URL:https://historic.pratsdellucanes.cat/esdeveniment/reunio-enllumenat/
CATEGORIES:Agenda de l'alcalde
END:VEVENT
BEGIN:VEVENT
DTSTART;TZID=Europe/Helsinki:20230214T120000
DTEND;TZID=Europe/Helsinki:20230214T130000
DTSTAMP:20260423T012611
CREATED:20230227T093117Z
LAST-MODIFIED:20230227T093117Z
UID:49310-1676376000-1676379600@historic.pratsdellucanes.cat
SUMMARY:Reunió veïns colònia de gats
DESCRIPTION:
URL:https://historic.pratsdellucanes.cat/esdeveniment/reunio-veins-colonia-de-gats/
CATEGORIES:Agenda de l'alcalde
END:VEVENT
BEGIN:VEVENT
DTSTART;TZID=Europe/Helsinki:20230214T160000
DTEND;TZID=Europe/Helsinki:20230214T170000
DTSTAMP:20260423T012611
CREATED:20230201T074808Z
LAST-MODIFIED:20230201T074808Z
UID:49194-1676390400-1676394000@historic.pratsdellucanes.cat
SUMMARY:Reunió equip de govern
DESCRIPTION:
URL:https://historic.pratsdellucanes.cat/esdeveniment/reunio-equip-de-govern-393/
CATEGORIES:Agenda de l'alcalde
END:VEVENT
BEGIN:VEVENT
DTSTART;TZID=Europe/Helsinki:20230215T100000
DTEND;TZID=Europe/Helsinki:20230215T110000
DTSTAMP:20260423T012611
CREATED:20230201T074845Z
LAST-MODIFIED:20230201T074845Z
UID:49196-1676455200-1676458800@historic.pratsdellucanes.cat
SUMMARY:Reunió Futbol Club Pradenc
DESCRIPTION:
URL:https://historic.pratsdellucanes.cat/esdeveniment/reunio-futbol-club-pradenc-2/
CATEGORIES:Agenda de l'alcalde
END:VEVENT
BEGIN:VEVENT
DTSTART;TZID=Europe/Helsinki:20230215T100000
DTEND;TZID=Europe/Helsinki:20230215T110000
DTSTAMP:20260423T012611
CREATED:20230227T093221Z
LAST-MODIFIED:20230227T093221Z
UID:49312-1676455200-1676458800@historic.pratsdellucanes.cat
SUMMARY:Reunió arquitecte municipal
DESCRIPTION:
URL:https://historic.pratsdellucanes.cat/esdeveniment/reunio-arquitecte-municipal/
CATEGORIES:Agenda de l'alcalde
END:VEVENT
BEGIN:VEVENT
DTSTART;TZID=Europe/Helsinki:20230216T090000
DTEND;TZID=Europe/Helsinki:20230216T100000
DTSTAMP:20260423T012611
CREATED:20230227T093359Z
LAST-MODIFIED:20230227T093359Z
UID:49315-1676538000-1676541600@historic.pratsdellucanes.cat
SUMMARY:Visita obres col·lector riu
DESCRIPTION:
URL:https://historic.pratsdellucanes.cat/esdeveniment/visita-obres-collector-riu/
CATEGORIES:Agenda de l'alcalde
END:VEVENT
BEGIN:VEVENT
DTSTART;TZID=Europe/Helsinki:20230216T110000
DTEND;TZID=Europe/Helsinki:20230216T120000
DTSTAMP:20260423T012611
CREATED:20230227T093439Z
LAST-MODIFIED:20230227T093439Z
UID:49317-1676545200-1676548800@historic.pratsdellucanes.cat
SUMMARY:Reunió cicle musical estiu
DESCRIPTION:
URL:https://historic.pratsdellucanes.cat/esdeveniment/reunio-cicle-musical-estiu/
CATEGORIES:Agenda de l'alcalde
END:VEVENT
BEGIN:VEVENT
DTSTART;TZID=Europe/Helsinki:20230216T200000
DTEND;TZID=Europe/Helsinki:20230216T220000
DTSTAMP:20260423T012611
CREATED:20230214T101439Z
LAST-MODIFIED:20230214T101439Z
UID:49239-1676577600-1676584800@historic.pratsdellucanes.cat
SUMMARY:Ple extraordinari
DESCRIPTION:
URL:https://historic.pratsdellucanes.cat/esdeveniment/ple-extraordinari/
CATEGORIES:Agenda,Agenda de l'alcalde,Agenda política
END:VEVENT
BEGIN:VEVENT
DTSTART;VALUE=DATE:20230219
DTEND;VALUE=DATE:20230220
DTSTAMP:20260423T012611
CREATED:20230201T073849Z
LAST-MODIFIED:20230201T073849Z
UID:49172-1676764800-1676851199@historic.pratsdellucanes.cat
SUMMARY:Carnestoltes
DESCRIPTION:
URL:https://historic.pratsdellucanes.cat/esdeveniment/carnestoltes/
CATEGORIES:Agenda,Agenda de l'alcalde
END:VEVENT
BEGIN:VEVENT
DTSTART;TZID=Europe/Helsinki:20230221T100000
DTEND;TZID=Europe/Helsinki:20230221T110000
DTSTAMP:20260423T012611
CREATED:20230227T093517Z
LAST-MODIFIED:20230227T093517Z
UID:49319-1676973600-1676977200@historic.pratsdellucanes.cat
SUMMARY:Taula Igualtat
DESCRIPTION:
URL:https://historic.pratsdellucanes.cat/esdeveniment/taula-igualtat-3/
CATEGORIES:Agenda de l'alcalde
END:VEVENT
BEGIN:VEVENT
DTSTART;TZID=Europe/Helsinki:20230221T160000
DTEND;TZID=Europe/Helsinki:20230221T170000
DTSTAMP:20260423T012611
CREATED:20230201T074915Z
LAST-MODIFIED:20230201T074915Z
UID:49198-1676995200-1676998800@historic.pratsdellucanes.cat
SUMMARY:Reunió equip govern local
DESCRIPTION:
URL:https://historic.pratsdellucanes.cat/esdeveniment/reunio-equip-govern-local-2/
CATEGORIES:Agenda de l'alcalde
END:VEVENT
BEGIN:VEVENT
DTSTART;TZID=Europe/Helsinki:20230222T090000
DTEND;TZID=Europe/Helsinki:20230222T100000
DTSTAMP:20260423T012611
CREATED:20230227T093609Z
LAST-MODIFIED:20230227T093609Z
UID:49321-1677056400-1677060000@historic.pratsdellucanes.cat
SUMMARY:Seguiment comissió menjador escola
DESCRIPTION:
URL:https://historic.pratsdellucanes.cat/esdeveniment/seguiment-comissio-menjador-escola/
CATEGORIES:Agenda de l'alcalde
END:VEVENT
BEGIN:VEVENT
DTSTART;TZID=Europe/Helsinki:20230222T100000
DTEND;TZID=Europe/Helsinki:20230222T110000
DTSTAMP:20260423T012611
CREATED:20230227T093645Z
LAST-MODIFIED:20230227T093645Z
UID:49323-1677060000-1677063600@historic.pratsdellucanes.cat
SUMMARY:Reunió arquitecte municipal
DESCRIPTION:
URL:https://historic.pratsdellucanes.cat/esdeveniment/reunio-arquitecte-municipal-2/
CATEGORIES:Agenda de l'alcalde
END:VEVENT
BEGIN:VEVENT
DTSTART;TZID=Europe/Helsinki:20230222T120000
DTEND;TZID=Europe/Helsinki:20230222T130000
DTSTAMP:20260423T012611
CREATED:20230227T093716Z
LAST-MODIFIED:20230227T093716Z
UID:49325-1677067200-1677070800@historic.pratsdellucanes.cat
SUMMARY:Reunió enginyer municipal
DESCRIPTION:
URL:https://historic.pratsdellucanes.cat/esdeveniment/reunio-enginyer-municipal-2/
CATEGORIES:Agenda de l'alcalde
END:VEVENT
BEGIN:VEVENT
DTSTART;TZID=Europe/Helsinki:20230222T160000
DTEND;TZID=Europe/Helsinki:20230222T170000
DTSTAMP:20260423T012611
CREATED:20230201T074955Z
LAST-MODIFIED:20230201T074955Z
UID:49200-1677081600-1677085200@historic.pratsdellucanes.cat
SUMMARY:Junta de govern local
DESCRIPTION:
URL:https://historic.pratsdellucanes.cat/esdeveniment/junta-de-govern-local-10/
CATEGORIES:Agenda de l'alcalde
END:VEVENT
END:VCALENDAR