BEGIN:VCALENDAR
VERSION:2.0
PRODID:-//Ajuntament de Prats de Lluçanès - ECPv6.14.2//NONSGML v1.0//EN
CALSCALE:GREGORIAN
METHOD:PUBLISH
X-ORIGINAL-URL:https://historic.pratsdellucanes.cat
X-WR-CALDESC:Esdeveniments per Ajuntament de Prats de Lluçanès
REFRESH-INTERVAL;VALUE=DURATION:PT1H
X-Robots-Tag:noindex
X-PUBLISHED-TTL:PT1H
BEGIN:VTIMEZONE
TZID:Europe/Helsinki
BEGIN:DAYLIGHT
TZOFFSETFROM:+0200
TZOFFSETTO:+0300
TZNAME:EEST
DTSTART:20230326T010000
END:DAYLIGHT
BEGIN:STANDARD
TZOFFSETFROM:+0300
TZOFFSETTO:+0200
TZNAME:EET
DTSTART:20231029T010000
END:STANDARD
END:VTIMEZONE
BEGIN:VEVENT
DTSTART;VALUE=DATE:20230327
DTEND;VALUE=DATE:20230410
DTSTAMP:20260422T135253
CREATED:20230323T112745Z
LAST-MODIFIED:20230323T112745Z
UID:49472-1679875200-1681084799@historic.pratsdellucanes.cat
SUMMARY:Setmana de la Salut
DESCRIPTION:
URL:https://historic.pratsdellucanes.cat/esdeveniment/setmana-de-la-salut/
CATEGORIES:Agenda
ATTACH;FMTTYPE=image/jpeg:https://historic.pratsdellucanes.cat/wp-content/uploads/2023/03/CARTELL_SETMANA_SALUT_2023_page-0001.jpg
END:VEVENT
BEGIN:VEVENT
DTSTART;VALUE=DATE:20230402
DTEND;VALUE=DATE:20230412
DTSTAMP:20260422T135253
CREATED:20230329T094543Z
LAST-MODIFIED:20230329T094543Z
UID:49518-1680393600-1681257599@historic.pratsdellucanes.cat
SUMMARY:Activitats Setmana Santa
DESCRIPTION:
URL:https://historic.pratsdellucanes.cat/esdeveniment/activitats-setmana-santa/
CATEGORIES:Agenda
ATTACH;FMTTYPE=image/jpeg:https://historic.pratsdellucanes.cat/wp-content/uploads/2023/03/SETMANA_SANTA_2023_XXSS_1.jpg
END:VEVENT
BEGIN:VEVENT
DTSTART;TZID=Europe/Helsinki:20230402T090000
DTEND;TZID=Europe/Helsinki:20230402T140000
DTSTAMP:20260422T135253
CREATED:20230308T094906Z
LAST-MODIFIED:20230308T094906Z
UID:49368-1680426000-1680444000@historic.pratsdellucanes.cat
SUMMARY:Presentació dels recorreguts eqüestres del Lluçanès
DESCRIPTION:
URL:https://historic.pratsdellucanes.cat/esdeveniment/presentacio-dels-recorreguts-equestres-del-llucanes/
CATEGORIES:Agenda
ATTACH;FMTTYPE=image/jpeg:https://historic.pratsdellucanes.cat/wp-content/uploads/2023/03/CARTELL_PRESENTACIO_RE_PRATS_DEF.jpg
END:VEVENT
BEGIN:VEVENT
DTSTART;VALUE=DATE:20230404
DTEND;VALUE=DATE:20230405
DTSTAMP:20260422T135253
CREATED:20240221T071542Z
LAST-MODIFIED:20240221T071542Z
UID:51761-1680566400-1680652799@historic.pratsdellucanes.cat
SUMMARY:Reunió empresari local
DESCRIPTION:
URL:https://historic.pratsdellucanes.cat/esdeveniment/reunio-empresari-local/
CATEGORIES:Agenda de l'alcalde
END:VEVENT
BEGIN:VEVENT
DTSTART;VALUE=DATE:20230404
DTEND;VALUE=DATE:20230405
DTSTAMP:20260422T135253
CREATED:20240221T071613Z
LAST-MODIFIED:20240221T071613Z
UID:51763-1680566400-1680652799@historic.pratsdellucanes.cat
SUMMARY:Reunió Tenis
DESCRIPTION:
URL:https://historic.pratsdellucanes.cat/esdeveniment/reunio-tenis-3/
CATEGORIES:Agenda de l'alcalde
END:VEVENT
BEGIN:VEVENT
DTSTART;VALUE=DATE:20230404
DTEND;VALUE=DATE:20230405
DTSTAMP:20260422T135253
CREATED:20240221T071639Z
LAST-MODIFIED:20240221T071639Z
UID:51765-1680566400-1680652799@historic.pratsdellucanes.cat
SUMMARY:Reunió Fem-hi Més
DESCRIPTION:
URL:https://historic.pratsdellucanes.cat/esdeveniment/reunio-fem-hi-mes-2/
CATEGORIES:Agenda de l'alcalde
END:VEVENT
BEGIN:VEVENT
DTSTART;VALUE=DATE:20230404
DTEND;VALUE=DATE:20230405
DTSTAMP:20260422T135253
CREATED:20240221T071704Z
LAST-MODIFIED:20240221T071704Z
UID:51767-1680566400-1680652799@historic.pratsdellucanes.cat
SUMMARY:Reunió equip de govern
DESCRIPTION:
URL:https://historic.pratsdellucanes.cat/esdeveniment/reunio-equip-de-govern-410/
CATEGORIES:Agenda de l'alcalde
END:VEVENT
BEGIN:VEVENT
DTSTART;VALUE=DATE:20230405
DTEND;VALUE=DATE:20230406
DTSTAMP:20260422T135253
CREATED:20240221T071732Z
LAST-MODIFIED:20240221T071732Z
UID:51769-1680652800-1680739199@historic.pratsdellucanes.cat
SUMMARY:Reunió senyalitzacions
DESCRIPTION:
URL:https://historic.pratsdellucanes.cat/esdeveniment/reunio-senyalitzacions/
CATEGORIES:Agenda de l'alcalde
END:VEVENT
BEGIN:VEVENT
DTSTART;VALUE=DATE:20230405
DTEND;VALUE=DATE:20230406
DTSTAMP:20260422T135253
CREATED:20240221T071755Z
LAST-MODIFIED:20240221T071755Z
UID:51771-1680652800-1680739199@historic.pratsdellucanes.cat
SUMMARY:Reunió arquitecte i enginyer
DESCRIPTION:
URL:https://historic.pratsdellucanes.cat/esdeveniment/reunio-arquitecte-i-enginyer/
CATEGORIES:Agenda de l'alcalde
END:VEVENT
BEGIN:VEVENT
DTSTART;VALUE=DATE:20230407
DTEND;VALUE=DATE:20230410
DTSTAMP:20260422T135253
CREATED:20230329T064724Z
LAST-MODIFIED:20230329T064724Z
UID:49491-1680825600-1681084799@historic.pratsdellucanes.cat
SUMMARY:Prova de rastre sobre senglar del Lluçanès
DESCRIPTION:
URL:https://historic.pratsdellucanes.cat/esdeveniment/prova-de-rastre-sobre-senglar-del-llucanes/
CATEGORIES:Agenda
ATTACH;FMTTYPE=image/png:https://historic.pratsdellucanes.cat/wp-content/uploads/2023/03/Cartell-definitiu-prova-rastre.png
END:VEVENT
BEGIN:VEVENT
DTSTART;VALUE=DATE:20230411
DTEND;VALUE=DATE:20230412
DTSTAMP:20260422T135253
CREATED:20240221T071818Z
LAST-MODIFIED:20240221T071818Z
UID:51773-1681171200-1681257599@historic.pratsdellucanes.cat
SUMMARY:Reunió equip de govern
DESCRIPTION:
URL:https://historic.pratsdellucanes.cat/esdeveniment/reunio-equip-de-govern-411/
CATEGORIES:Agenda de l'alcalde
END:VEVENT
BEGIN:VEVENT
DTSTART;VALUE=DATE:20230412
DTEND;VALUE=DATE:20230413
DTSTAMP:20260422T135253
CREATED:20240221T071845Z
LAST-MODIFIED:20240221T071845Z
UID:51775-1681257600-1681343999@historic.pratsdellucanes.cat
SUMMARY:Junta de govern local
DESCRIPTION:
URL:https://historic.pratsdellucanes.cat/esdeveniment/junta-de-govern-local-23/
CATEGORIES:Agenda de l'alcalde
END:VEVENT
BEGIN:VEVENT
DTSTART;VALUE=DATE:20230412
DTEND;VALUE=DATE:20230413
DTSTAMP:20260422T135253
CREATED:20240221T071910Z
LAST-MODIFIED:20240221T071910Z
UID:51777-1681257600-1681343999@historic.pratsdellucanes.cat
SUMMARY:Reunió arquitecte
DESCRIPTION:
URL:https://historic.pratsdellucanes.cat/esdeveniment/reunio-arquitecte-5/
CATEGORIES:Agenda de l'alcalde
END:VEVENT
BEGIN:VEVENT
DTSTART;VALUE=DATE:20230413
DTEND;VALUE=DATE:20230414
DTSTAMP:20260422T135253
CREATED:20240221T071935Z
LAST-MODIFIED:20240221T071935Z
UID:51779-1681344000-1681430399@historic.pratsdellucanes.cat
SUMMARY:Reunió jutjat Berga
DESCRIPTION:
URL:https://historic.pratsdellucanes.cat/esdeveniment/reunio-jutjat-berga-3/
CATEGORIES:Agenda de l'alcalde
END:VEVENT
BEGIN:VEVENT
DTSTART;VALUE=DATE:20230414
DTEND;VALUE=DATE:20230415
DTSTAMP:20260422T135253
CREATED:20240221T072014Z
LAST-MODIFIED:20240221T072014Z
UID:51781-1681430400-1681516799@historic.pratsdellucanes.cat
SUMMARY:Reunió mobilitat
DESCRIPTION:
URL:https://historic.pratsdellucanes.cat/esdeveniment/reunio-mobilitat/
CATEGORIES:Agenda de l'alcalde
END:VEVENT
BEGIN:VEVENT
DTSTART;VALUE=DATE:20230414
DTEND;VALUE=DATE:20230415
DTSTAMP:20260422T135253
CREATED:20240221T072044Z
LAST-MODIFIED:20240221T072044Z
UID:51783-1681430400-1681516799@historic.pratsdellucanes.cat
SUMMARY:Reunió Brigada senyalització
DESCRIPTION:
URL:https://historic.pratsdellucanes.cat/esdeveniment/reunio-brigada-senyalitzacio/
CATEGORIES:Agenda de l'alcalde
END:VEVENT
BEGIN:VEVENT
DTSTART;VALUE=DATE:20230418
DTEND;VALUE=DATE:20230419
DTSTAMP:20260422T135253
CREATED:20240221T072135Z
LAST-MODIFIED:20240221T072135Z
UID:51785-1681776000-1681862399@historic.pratsdellucanes.cat
SUMMARY:Reunió equip de govern
DESCRIPTION:
URL:https://historic.pratsdellucanes.cat/esdeveniment/reunio-equip-de-govern-412/
CATEGORIES:Agenda de l'alcalde
END:VEVENT
BEGIN:VEVENT
DTSTART;VALUE=DATE:20230418
DTEND;VALUE=DATE:20230419
DTSTAMP:20260422T135253
CREATED:20240221T072204Z
LAST-MODIFIED:20240221T072204Z
UID:51787-1681776000-1681862399@historic.pratsdellucanes.cat
SUMMARY:Visita gespa camp de futbol
DESCRIPTION:
URL:https://historic.pratsdellucanes.cat/esdeveniment/visita-gespa-camp-de-futbol/
CATEGORIES:Agenda de l'alcalde
END:VEVENT
BEGIN:VEVENT
DTSTART;VALUE=DATE:20230419
DTEND;VALUE=DATE:20230420
DTSTAMP:20260422T135253
CREATED:20240221T083444Z
LAST-MODIFIED:20240221T083444Z
UID:51789-1681862400-1681948799@historic.pratsdellucanes.cat
SUMMARY:Parlament de Catalunya
DESCRIPTION:
URL:https://historic.pratsdellucanes.cat/esdeveniment/parlament-de-catalunya/
CATEGORIES:Agenda de l'alcalde
END:VEVENT
BEGIN:VEVENT
DTSTART;VALUE=DATE:20230419
DTEND;VALUE=DATE:20230420
DTSTAMP:20260422T135253
CREATED:20240221T083515Z
LAST-MODIFIED:20240221T083515Z
UID:51791-1681862400-1681948799@historic.pratsdellucanes.cat
SUMMARY:Visita Valles Rec
DESCRIPTION:
URL:https://historic.pratsdellucanes.cat/esdeveniment/visita-valles-rec/
CATEGORIES:Agenda de l'alcalde
END:VEVENT
BEGIN:VEVENT
DTSTART;VALUE=DATE:20230419
DTEND;VALUE=DATE:20230420
DTSTAMP:20260422T135253
CREATED:20240221T083553Z
LAST-MODIFIED:20240221T083553Z
UID:51793-1681862400-1681948799@historic.pratsdellucanes.cat
SUMMARY:Visita Acera Pavelló
DESCRIPTION:
URL:https://historic.pratsdellucanes.cat/esdeveniment/visita-acera-pavello/
CATEGORIES:Agenda de l'alcalde
END:VEVENT
BEGIN:VEVENT
DTSTART;VALUE=DATE:20230419
DTEND;VALUE=DATE:20230420
DTSTAMP:20260422T135253
CREATED:20240221T083620Z
LAST-MODIFIED:20240221T083620Z
UID:51795-1681862400-1681948799@historic.pratsdellucanes.cat
SUMMARY:Reunió comarca Lluçanès
DESCRIPTION:
URL:https://historic.pratsdellucanes.cat/esdeveniment/reunio-comarca-llucanes/
CATEGORIES:Agenda de l'alcalde
END:VEVENT
BEGIN:VEVENT
DTSTART;VALUE=DATE:20230419
DTEND;VALUE=DATE:20230420
DTSTAMP:20260422T135253
CREATED:20240221T083643Z
LAST-MODIFIED:20240221T083643Z
UID:51797-1681862400-1681948799@historic.pratsdellucanes.cat
SUMMARY:Reunió Igualtat
DESCRIPTION:
URL:https://historic.pratsdellucanes.cat/esdeveniment/reunio-igualtat-6/
CATEGORIES:Agenda de l'alcalde
END:VEVENT
BEGIN:VEVENT
DTSTART;VALUE=DATE:20230421
DTEND;VALUE=DATE:20230422
DTSTAMP:20260422T135253
CREATED:20240221T083734Z
LAST-MODIFIED:20240221T083734Z
UID:51799-1682035200-1682121599@historic.pratsdellucanes.cat
SUMMARY:Reunió CUEME
DESCRIPTION:
URL:https://historic.pratsdellucanes.cat/esdeveniment/reunio-cueme/
CATEGORIES:Agenda de l'alcalde
END:VEVENT
BEGIN:VEVENT
DTSTART;VALUE=DATE:20230421
DTEND;VALUE=DATE:20230422
DTSTAMP:20260422T135253
CREATED:20240221T083802Z
LAST-MODIFIED:20240221T083802Z
UID:51801-1682035200-1682121599@historic.pratsdellucanes.cat
SUMMARY:Sant Jordi al Casal
DESCRIPTION:
URL:https://historic.pratsdellucanes.cat/esdeveniment/sant-jordi-al-casal/
CATEGORIES:Agenda de l'alcalde
END:VEVENT
BEGIN:VEVENT
DTSTART;VALUE=DATE:20230421
DTEND;VALUE=DATE:20230422
DTSTAMP:20260422T135253
CREATED:20240221T083843Z
LAST-MODIFIED:20240221T083843Z
UID:51803-1682035200-1682121599@historic.pratsdellucanes.cat
SUMMARY:Visita gespa camp de futbol
DESCRIPTION:
URL:https://historic.pratsdellucanes.cat/esdeveniment/visita-gespa-camp-de-futbol-2/
CATEGORIES:Agenda de l'alcalde
END:VEVENT
BEGIN:VEVENT
DTSTART;VALUE=DATE:20230421
DTEND;VALUE=DATE:20230422
DTSTAMP:20260422T135253
CREATED:20240221T083906Z
LAST-MODIFIED:20240221T083906Z
UID:51805-1682035200-1682121599@historic.pratsdellucanes.cat
SUMMARY:Visita pistes tenis
DESCRIPTION:
URL:https://historic.pratsdellucanes.cat/esdeveniment/visita-pistes-tenis/
CATEGORIES:Agenda de l'alcalde
END:VEVENT
BEGIN:VEVENT
DTSTART;VALUE=DATE:20230421
DTEND;VALUE=DATE:20230422
DTSTAMP:20260422T135253
CREATED:20240221T083932Z
LAST-MODIFIED:20240221T083932Z
UID:51807-1682035200-1682121599@historic.pratsdellucanes.cat
SUMMARY:Visita piscina
DESCRIPTION:
URL:https://historic.pratsdellucanes.cat/esdeveniment/visita-piscina/
CATEGORIES:Agenda de l'alcalde
END:VEVENT
BEGIN:VEVENT
DTSTART;VALUE=DATE:20230421
DTEND;VALUE=DATE:20230422
DTSTAMP:20260422T135253
CREATED:20230414T132346Z
LAST-MODIFIED:20230414T134736Z
UID:49637-1682035200-1682121599@historic.pratsdellucanes.cat
SUMMARY:Sant Jordi a l'Espai Social
DESCRIPTION:
URL:https://historic.pratsdellucanes.cat/esdeveniment/sant-jordi-a-lespai-social/
CATEGORIES:Agenda
ATTACH;FMTTYPE=image/jpeg:https://historic.pratsdellucanes.cat/wp-content/uploads/2023/04/CARTELL_SANTJORDI_ESPAI_SOCIAL.jpg
END:VEVENT
BEGIN:VEVENT
DTSTART;VALUE=DATE:20230423
DTEND;VALUE=DATE:20230424
DTSTAMP:20260422T135253
CREATED:20230411T151324Z
LAST-MODIFIED:20230411T151324Z
UID:49606-1682208000-1682294399@historic.pratsdellucanes.cat
SUMMARY:Sant Jordi
DESCRIPTION:
URL:https://historic.pratsdellucanes.cat/esdeveniment/sant-jordi/
CATEGORIES:Agenda
ATTACH;FMTTYPE=image/jpeg:https://historic.pratsdellucanes.cat/wp-content/uploads/2023/04/CARTELL_SANT_JORDI_2023_v2.jpg
END:VEVENT
END:VCALENDAR