BEGIN:VCALENDAR
VERSION:2.0
PRODID:-//Ajuntament de Prats de Lluçanès - ECPv6.14.2//NONSGML v1.0//EN
CALSCALE:GREGORIAN
METHOD:PUBLISH
X-WR-CALNAME:Ajuntament de Prats de Lluçanès
X-ORIGINAL-URL:https://historic.pratsdellucanes.cat
X-WR-CALDESC:Esdeveniments per Ajuntament de Prats de Lluçanès
REFRESH-INTERVAL;VALUE=DURATION:PT1H
X-Robots-Tag:noindex
X-PUBLISHED-TTL:PT1H
BEGIN:VTIMEZONE
TZID:Europe/Helsinki
BEGIN:DAYLIGHT
TZOFFSETFROM:+0200
TZOFFSETTO:+0300
TZNAME:EEST
DTSTART:20230326T010000
END:DAYLIGHT
BEGIN:STANDARD
TZOFFSETFROM:+0300
TZOFFSETTO:+0200
TZNAME:EET
DTSTART:20231029T010000
END:STANDARD
END:VTIMEZONE
BEGIN:VEVENT
DTSTART;VALUE=DATE:20230502
DTEND;VALUE=DATE:20230503
DTSTAMP:20260422T085929
CREATED:20240221T113452Z
LAST-MODIFIED:20240221T113452Z
UID:51828-1682985600-1683071999@historic.pratsdellucanes.cat
SUMMARY:Focos pista de tenis
DESCRIPTION:
URL:https://historic.pratsdellucanes.cat/esdeveniment/focos-pista-de-tenis/
CATEGORIES:Agenda de l'alcalde
END:VEVENT
BEGIN:VEVENT
DTSTART;VALUE=DATE:20230502
DTEND;VALUE=DATE:20230503
DTSTAMP:20260422T085929
CREATED:20240221T113546Z
LAST-MODIFIED:20240221T113546Z
UID:51830-1682985600-1683071999@historic.pratsdellucanes.cat
SUMMARY:Visita piscina
DESCRIPTION:
URL:https://historic.pratsdellucanes.cat/esdeveniment/visita-piscina-2/
CATEGORIES:Agenda de l'alcalde
END:VEVENT
BEGIN:VEVENT
DTSTART;VALUE=DATE:20230502
DTEND;VALUE=DATE:20230503
DTSTAMP:20260422T085929
CREATED:20240221T113653Z
LAST-MODIFIED:20240221T113712Z
UID:51832-1682985600-1683071999@historic.pratsdellucanes.cat
SUMMARY:Visita veí poble
DESCRIPTION:
URL:https://historic.pratsdellucanes.cat/esdeveniment/visita-vei-poble/
CATEGORIES:Agenda de l'alcalde
END:VEVENT
BEGIN:VEVENT
DTSTART;VALUE=DATE:20230502
DTEND;VALUE=DATE:20230503
DTSTAMP:20260422T085929
CREATED:20240221T115115Z
LAST-MODIFIED:20240221T115115Z
UID:51834-1682985600-1683071999@historic.pratsdellucanes.cat
SUMMARY:Ple municipal
DESCRIPTION:
URL:https://historic.pratsdellucanes.cat/esdeveniment/ple-municipal-24/
CATEGORIES:Agenda de l'alcalde
END:VEVENT
BEGIN:VEVENT
DTSTART;VALUE=DATE:20230502
DTEND;VALUE=DATE:20230503
DTSTAMP:20260422T085929
CREATED:20240221T115159Z
LAST-MODIFIED:20240221T115159Z
UID:51836-1682985600-1683071999@historic.pratsdellucanes.cat
SUMMARY:Reunió equip de govern
DESCRIPTION:
URL:https://historic.pratsdellucanes.cat/esdeveniment/reunio-equip-de-govern-414/
CATEGORIES:Agenda de l'alcalde
END:VEVENT
BEGIN:VEVENT
DTSTART;VALUE=DATE:20230503
DTEND;VALUE=DATE:20230504
DTSTAMP:20260422T085929
CREATED:20240221T115253Z
LAST-MODIFIED:20240221T115253Z
UID:51838-1683072000-1683158399@historic.pratsdellucanes.cat
SUMMARY:Visita obres fibra
DESCRIPTION:
URL:https://historic.pratsdellucanes.cat/esdeveniment/visita-obres-fibra/
CATEGORIES:Agenda de l'alcalde
END:VEVENT
BEGIN:VEVENT
DTSTART;VALUE=DATE:20230503
DTEND;VALUE=DATE:20230504
DTSTAMP:20260422T085929
CREATED:20240221T115336Z
LAST-MODIFIED:20240221T115336Z
UID:51840-1683072000-1683158399@historic.pratsdellucanes.cat
SUMMARY:Comunitat energètica
DESCRIPTION:
URL:https://historic.pratsdellucanes.cat/esdeveniment/comunitat-energetica/
CATEGORIES:Agenda de l'alcalde
END:VEVENT
BEGIN:VEVENT
DTSTART;VALUE=DATE:20230504
DTEND;VALUE=DATE:20230505
DTSTAMP:20260422T085929
CREATED:20240221T115749Z
LAST-MODIFIED:20240221T115749Z
UID:51842-1683158400-1683244799@historic.pratsdellucanes.cat
SUMMARY:Reunió rutes eqüestres
DESCRIPTION:
URL:https://historic.pratsdellucanes.cat/esdeveniment/reunio-rutes-equestres-2/
CATEGORIES:Agenda de l'alcalde
END:VEVENT
BEGIN:VEVENT
DTSTART;VALUE=DATE:20230505
DTEND;VALUE=DATE:20230506
DTSTAMP:20260422T085929
CREATED:20230418T101315Z
LAST-MODIFIED:20230418T101315Z
UID:49652-1683244800-1683331199@historic.pratsdellucanes.cat
SUMMARY:Portes obertes escola bressol La Pitota
DESCRIPTION:
URL:https://historic.pratsdellucanes.cat/esdeveniment/portes-obertes-escola-bressol-la-pitota/
CATEGORIES:Agenda
ATTACH;FMTTYPE=image/jpeg:https://historic.pratsdellucanes.cat/wp-content/uploads/2023/04/CARTELL_JPO_LAPITOTA_XXSS.jpg
END:VEVENT
BEGIN:VEVENT
DTSTART;VALUE=DATE:20230505
DTEND;VALUE=DATE:20230506
DTSTAMP:20260422T085929
CREATED:20230425T085831Z
LAST-MODIFIED:20230425T085946Z
UID:49670-1683244800-1683331199@historic.pratsdellucanes.cat
SUMMARY:Passejades "El Lluçanès cap als 100"
DESCRIPTION:
URL:https://historic.pratsdellucanes.cat/esdeveniment/passejades-el-llucanes-cap-als-100/
CATEGORIES:Agenda
ATTACH;FMTTYPE=image/jpeg:https://historic.pratsdellucanes.cat/wp-content/uploads/2023/04/Prats_PRIMAVERA23.jpg
END:VEVENT
BEGIN:VEVENT
DTSTART;VALUE=DATE:20230505
DTEND;VALUE=DATE:20230506
DTSTAMP:20260422T085929
CREATED:20240221T115841Z
LAST-MODIFIED:20240221T115841Z
UID:51844-1683244800-1683331199@historic.pratsdellucanes.cat
SUMMARY:Reunió Consorci del Lluçanès
DESCRIPTION:
URL:https://historic.pratsdellucanes.cat/esdeveniment/reunio-consorci-del-llucanes-7/
CATEGORIES:Agenda de l'alcalde
END:VEVENT
BEGIN:VEVENT
DTSTART;VALUE=DATE:20230505
DTEND;VALUE=DATE:20230506
DTSTAMP:20260422T085929
CREATED:20240221T120004Z
LAST-MODIFIED:20240221T120004Z
UID:51846-1683244800-1683331199@historic.pratsdellucanes.cat
SUMMARY:Reunió veïns poble
DESCRIPTION:
URL:https://historic.pratsdellucanes.cat/esdeveniment/reunio-veins-poble-2/
CATEGORIES:Agenda de l'alcalde
END:VEVENT
BEGIN:VEVENT
DTSTART;VALUE=DATE:20230505
DTEND;VALUE=DATE:20230506
DTSTAMP:20260422T085929
CREATED:20240221T120102Z
LAST-MODIFIED:20240221T120102Z
UID:51848-1683244800-1683331199@historic.pratsdellucanes.cat
SUMMARY:Entrevista La COPE
DESCRIPTION:
URL:https://historic.pratsdellucanes.cat/esdeveniment/entrevista-la-cope/
CATEGORIES:Agenda de l'alcalde
END:VEVENT
BEGIN:VEVENT
DTSTART;VALUE=DATE:20230505
DTEND;VALUE=DATE:20230506
DTSTAMP:20260422T085929
CREATED:20240221T120208Z
LAST-MODIFIED:20240221T120208Z
UID:51850-1683244800-1683331199@historic.pratsdellucanes.cat
SUMMARY:Entrevista El 9 TV
DESCRIPTION:
URL:https://historic.pratsdellucanes.cat/esdeveniment/entrevista-el-9-tv-4/
CATEGORIES:Agenda de l'alcalde
END:VEVENT
BEGIN:VEVENT
DTSTART;VALUE=DATE:20230507
DTEND;VALUE=DATE:20230508
DTSTAMP:20260422T085929
CREATED:20240221T120314Z
LAST-MODIFIED:20240221T120314Z
UID:51852-1683417600-1683503999@historic.pratsdellucanes.cat
SUMMARY:Trobada escoles de música ACEM
DESCRIPTION:
URL:https://historic.pratsdellucanes.cat/esdeveniment/trobada-escoles-de-musica-acem/
CATEGORIES:Agenda de l'alcalde
END:VEVENT
BEGIN:VEVENT
DTSTART;TZID=Europe/Helsinki:20230507T130000
DTEND;TZID=Europe/Helsinki:20230507T140000
DTSTAMP:20260422T085929
CREATED:20230428T152554Z
LAST-MODIFIED:20230428T152723Z
UID:49699-1683464400-1683468000@historic.pratsdellucanes.cat
SUMMARY:Concert del 30è aniversari de l'Associació Catalana d'Escoles de Música
DESCRIPTION:
URL:https://historic.pratsdellucanes.cat/esdeveniment/concert-del-30e-aniversari-de-lassociacio-catalana-descoles-de-musica/
CATEGORIES:Agenda
ATTACH;FMTTYPE=image/jpeg:https://historic.pratsdellucanes.cat/wp-content/uploads/2023/04/Copia-de-Acem_Trobades_Cartell-1-1_page-0001.jpg
END:VEVENT
BEGIN:VEVENT
DTSTART;VALUE=DATE:20230509
DTEND;VALUE=DATE:20230510
DTSTAMP:20260422T085929
CREATED:20240221T120622Z
LAST-MODIFIED:20240221T120622Z
UID:51854-1683590400-1683676799@historic.pratsdellucanes.cat
SUMMARY:Reunió Pinta'm la Cara
DESCRIPTION:
URL:https://historic.pratsdellucanes.cat/esdeveniment/reunio-pintam-la-cara-2/
CATEGORIES:Agenda de l'alcalde
END:VEVENT
BEGIN:VEVENT
DTSTART;VALUE=DATE:20230509
DTEND;VALUE=DATE:20230510
DTSTAMP:20260422T085929
CREATED:20240221T120717Z
LAST-MODIFIED:20240221T120717Z
UID:51856-1683590400-1683676799@historic.pratsdellucanes.cat
SUMMARY:Reunió Trazia
DESCRIPTION:
URL:https://historic.pratsdellucanes.cat/esdeveniment/reunio-trazia/
CATEGORIES:Agenda de l'alcalde
END:VEVENT
BEGIN:VEVENT
DTSTART;VALUE=DATE:20230509
DTEND;VALUE=DATE:20230510
DTSTAMP:20260422T085929
CREATED:20240221T120814Z
LAST-MODIFIED:20240221T120814Z
UID:51858-1683590400-1683676799@historic.pratsdellucanes.cat
SUMMARY:Reunió equip de govern
DESCRIPTION:
URL:https://historic.pratsdellucanes.cat/esdeveniment/reunio-equip-de-govern-415/
CATEGORIES:Agenda de l'alcalde
END:VEVENT
BEGIN:VEVENT
DTSTART;VALUE=DATE:20230510
DTEND;VALUE=DATE:20230511
DTSTAMP:20260422T085929
CREATED:20240221T120941Z
LAST-MODIFIED:20240221T120941Z
UID:51860-1683676800-1683763199@historic.pratsdellucanes.cat
SUMMARY:Junta de govern local
DESCRIPTION:
URL:https://historic.pratsdellucanes.cat/esdeveniment/junta-de-govern-local-25/
CATEGORIES:Agenda de l'alcalde
END:VEVENT
BEGIN:VEVENT
DTSTART;VALUE=DATE:20230510
DTEND;VALUE=DATE:20230511
DTSTAMP:20260422T085929
CREATED:20240221T121036Z
LAST-MODIFIED:20240221T121036Z
UID:51862-1683676800-1683763199@historic.pratsdellucanes.cat
SUMMARY:Mancomunitat aigües Merlès
DESCRIPTION:
URL:https://historic.pratsdellucanes.cat/esdeveniment/mancomunitat-aigues-merles-3/
CATEGORIES:Agenda de l'alcalde
END:VEVENT
BEGIN:VEVENT
DTSTART;VALUE=DATE:20230510
DTEND;VALUE=DATE:20230511
DTSTAMP:20260422T085929
CREATED:20240221T121124Z
LAST-MODIFIED:20240221T121124Z
UID:51864-1683676800-1683763199@historic.pratsdellucanes.cat
SUMMARY:Visita President de la Generalitat
DESCRIPTION:
URL:https://historic.pratsdellucanes.cat/esdeveniment/visita-president-de-la-generalitat/
CATEGORIES:Agenda de l'alcalde
END:VEVENT
BEGIN:VEVENT
DTSTART;VALUE=DATE:20230510
DTEND;VALUE=DATE:20230511
DTSTAMP:20260422T085929
CREATED:20240221T121206Z
LAST-MODIFIED:20240221T121206Z
UID:51866-1683676800-1683763199@historic.pratsdellucanes.cat
SUMMARY:Comissió especial comptes
DESCRIPTION:
URL:https://historic.pratsdellucanes.cat/esdeveniment/comissio-especial-comptes/
CATEGORIES:Agenda de l'alcalde
END:VEVENT
BEGIN:VEVENT
DTSTART;VALUE=DATE:20230511
DTEND;VALUE=DATE:20230512
DTSTAMP:20260422T085929
CREATED:20240221T134511Z
LAST-MODIFIED:20240221T134511Z
UID:51872-1683763200-1683849599@historic.pratsdellucanes.cat
SUMMARY:Reunió Veterinari Prats
DESCRIPTION:
URL:https://historic.pratsdellucanes.cat/esdeveniment/reunio-veterinari-prats/
CATEGORIES:Agenda de l'alcalde
END:VEVENT
BEGIN:VEVENT
DTSTART;VALUE=DATE:20230512
DTEND;VALUE=DATE:20230513
DTSTAMP:20260422T085929
CREATED:20240221T134548Z
LAST-MODIFIED:20240221T134548Z
UID:51874-1683849600-1683935999@historic.pratsdellucanes.cat
SUMMARY:Visita piscina
DESCRIPTION:
URL:https://historic.pratsdellucanes.cat/esdeveniment/visita-piscina-3/
CATEGORIES:Agenda de l'alcalde
END:VEVENT
BEGIN:VEVENT
DTSTART;VALUE=DATE:20230512
DTEND;VALUE=DATE:20230513
DTSTAMP:20260422T085929
CREATED:20240221T134619Z
LAST-MODIFIED:20240221T134619Z
UID:51876-1683849600-1683935999@historic.pratsdellucanes.cat
SUMMARY:Trobada CUEME Olost
DESCRIPTION:
URL:https://historic.pratsdellucanes.cat/esdeveniment/trobada-cueme-olost/
CATEGORIES:Agenda de l'alcalde
END:VEVENT
BEGIN:VEVENT
DTSTART;VALUE=DATE:20230512
DTEND;VALUE=DATE:20230513
DTSTAMP:20260422T085929
CREATED:20230425T090021Z
LAST-MODIFIED:20230425T090105Z
UID:49674-1683849600-1683935999@historic.pratsdellucanes.cat
SUMMARY:Passejades "El Lluçanès cap als 100"
DESCRIPTION:
URL:https://historic.pratsdellucanes.cat/esdeveniment/passejades-el-llucanes-cap-als-100-2/
CATEGORIES:Agenda
ATTACH;FMTTYPE=image/jpeg:https://historic.pratsdellucanes.cat/wp-content/uploads/2023/04/Prats_PRIMAVERA23.jpg
END:VEVENT
BEGIN:VEVENT
DTSTART;VALUE=DATE:20230514
DTEND;VALUE=DATE:20230515
DTSTAMP:20260422T085929
CREATED:20240221T134657Z
LAST-MODIFIED:20240221T134657Z
UID:51878-1684022400-1684108799@historic.pratsdellucanes.cat
SUMMARY:Trobada CUEME Prats
DESCRIPTION:
URL:https://historic.pratsdellucanes.cat/esdeveniment/trobada-cueme-prats/
CATEGORIES:Agenda de l'alcalde
END:VEVENT
BEGIN:VEVENT
DTSTART;VALUE=DATE:20230516
DTEND;VALUE=DATE:20230517
DTSTAMP:20260422T085929
CREATED:20240221T134736Z
LAST-MODIFIED:20240221T134736Z
UID:51880-1684195200-1684281599@historic.pratsdellucanes.cat
SUMMARY:Reunió equip de govern
DESCRIPTION:
URL:https://historic.pratsdellucanes.cat/esdeveniment/reunio-equip-de-govern-416/
CATEGORIES:Agenda de l'alcalde
END:VEVENT
BEGIN:VEVENT
DTSTART;VALUE=DATE:20230516
DTEND;VALUE=DATE:20230517
DTSTAMP:20260422T085929
CREATED:20240221T134810Z
LAST-MODIFIED:20240221T134810Z
UID:51882-1684195200-1684281599@historic.pratsdellucanes.cat
SUMMARY:Reunió Diba cobertura mòbil
DESCRIPTION:
URL:https://historic.pratsdellucanes.cat/esdeveniment/reunio-diba-cobertura-mobil/
CATEGORIES:Agenda de l'alcalde
END:VEVENT
END:VCALENDAR